{"text_format":"3","workbook":"xlsx","n_sheets":4,"sheets":["บัญชี (จังหวัด)","บัญชีสรุป รายเก่า","บัญชีรายชื่อ (รายใหม่) ","บัญชีสรุป อปท."],"not_rendered":{"defined_names":14},"read":"whole","date_system":"1900"}

{"sheet":"บัญชี (จังหวัด)","index":0,"n_rows":47,"n_cols":5,"rows_kept":47,"merged":[[0,0,0,5],[1,0,1,5],[3,1,6,1],[3,3,3,4],[4,3,4,4],[46,1,46,2]]}
["บัญชีรายละเอียดแจ้งการจัดสรรงบประมาณรายจ่ายประจำปีงบประมาณ พ.ศ. 2569"]
["เงินอุดหนุนทั่วไป เงินอุดหนุนสำหรับการจัดการศึกษาภาคบังคับ (บำเหน็จ บำนาญ) ไตรมาสที่ 2 (เดือนมกราคม - กุมภาพันธ์ 2569) เพิ่มเติม "]
[]
[null,"ที่","จังหวัด","รวมจำนวนเงินที่จัดสรร"]
[{"$nulls":3},"ไตรมาสที่ 2  (ม.ค. - ก.พ. 69) เพิ่มเติม"]
[{"$nulls":3},"จำนวน","จำนวนเงิน"]
[{"$nulls":3},"(ราย)","(บาท)"]
[null,1,"กระบี่ ",1,{"v":216658,"d":"216,658.00"}]
[null,2,"กาฬสินธุ์ ",10,{"v":915431,"d":"915,431.00"}]
[null,3,"กำแพงเพชร ",4,{"v":163082,"d":"163,082.00"}]
[null,4,"ขอนแก่น ",4,{"v":572305,"d":"572,305.00"}]
[null,5,"ชลบุรี ",2,{"v":332915,"d":"332,915.00"}]
[null,6,"เชียงราย ",1,{"v":211492,"d":"211,492.00"}]
[null,7,"เชียงใหม่ ",7,{"v":270456,"d":"270,456.00"}]
[null,8,"ตรัง ",1,{"v":264693,"d":"264,693.00"}]
[null,9,"นครพนม ",9,{"v":1233268,"d":"1,233,268.00"}]
[null,10,"นครราชสีมา ",2,{"v":654902,"d":"654,902.00"}]
[null,11,"นครศรีธรรมราช ",2,{"v":374069,"d":"374,069.00"}]
[null,12,"นราธิวาส ",3,{"v":497474.42000000004,"d":"497,474.42"}]
[null,13,"น่าน ",1,{"v":208762,"d":"208,762.00"}]
[null,14,"บึงกาฬ ",4,{"v":753826,"d":"753,826.00"}]
[null,15,"บุรีรัมย์ ",1,{"v":210526,"d":"210,526.00"}]
[null,16,"ปทุมธานี ",2,{"v":393503,"d":"393,503.00"}]
[null,17,"ประจวบคีรีขันธ์ ",2,{"v":697560,"d":"697,560.00"}]
[null,18,"ปัตตานี ",2,{"v":366304,"d":"366,304.00"}]
[null,19,"พระนครศรีอยุธยา ",1,{"v":191039,"d":"191,039.00"}]
[null,20,"พัทลุง ",1,{"v":155749,"d":"155,749.00"}]
[null,21,"แพร่ ",1,{"v":247499.03,"d":"247,499.03"}]
[null,22,"มหาสารคาม ",1,{"v":22000,"d":"22,000.00"}]
[null,23,"มุกดาหาร ",1,{"v":16785,"d":"16,785.00"}]
[null,24,"ระยอง ",1,{"v":201412,"d":"201,412.00"}]
[null,25,"ลำปาง ",2,{"v":356051,"d":"356,051.00"}]
[null,26,"ลำพูน ",4,{"v":331156,"d":"331,156.00"}]
[null,27,"เลย ",1,{"v":197338,"d":"197,338.00"}]
[null,28,"ศรีสะเกษ ",10,{"v":1104519,"d":"1,104,519.00"}]
[null,29,"สกลนคร ",1,{"v":183423.16,"d":"183,423.16"}]
[null,30,"สงขลา ",6,{"v":796553,"d":"796,553.00"}]
[null,31,"สตูล ",2,{"v":421288,"d":"421,288.00"}]
[null,32,"สระแก้ว ",1,{"v":189320,"d":"189,320.00"}]
[null,33,"สุโขทัย ",1,{"v":200446,"d":"200,446.00"}]
[null,34,"สุราษฎร์ธานี ",2,{"v":358715,"d":"358,715.00"}]
[null,35,"สุรินทร์ ",2,{"v":214768,"d":"214,768.00"}]
[null,36,"หนองคาย ",1,{"v":156244,"d":"156,244.00"}]
[null,37,"อำนาจเจริญ ",8,{"v":718814,"d":"718,814.00"}]
[null,38,"อุดรธานี ",14,{"v":2167330,"d":"2,167,330.00"}]
[null,39,"อุตรดิตถ์ ",1,{"v":169422,"d":"169,422.00"}]
[null,"รวมทั้งสิ้น",null,{"$f":"SUM(D8:D46)","v":120},{"$f":"SUM(E8:E46)","v":{"v":16737097.61,"d":"16,737,097.61"}}]

{"sheet":"บัญชีสรุป รายเก่า","index":1,"n_rows":47,"n_cols":75,"rows_kept":47,"merged":[[0,0,0,74],[1,0,1,74],[3,28,3,29],[3,35,3,41],[3,42,3,43],[3,49,3,50],[3,51,3,52],[3,53,3,54],[3,55,3,56],[3,57,3,58],[3,59,3,60],[3,61,3,62],[3,63,3,64],[3,65,3,66],[3,67,3,68],[3,69,3,70],[3,71,3,72],[3,73,3,74],[4,28,4,29],[4,42,4,43],[4,49,4,50],[4,51,4,52],[4,53,4,54],[4,55,4,56],[4,57,4,58],[4,59,4,60],[4,61,4,62],[4,63,4,64],[4,65,4,66],[4,67,4,68],[4,69,4,70],[4,71,4,72],[4,73,4,74]]}
["บัญชีรายละเอียดแจ้งการจัดสรรงบประมาณรายจ่ายประจำปีงบประมาณ พ.ศ. 2569"]
["เงินอุดหนุนทั่วไป เงินอุดหนุนสำหรับการจัดการศึกษาภาคบังคับ (บำเหน็จ บำนาญ) ไตรมาสที่ 2 (เดือนมกราคม - กุมภาพันธ์ 2569) เพิ่มเติม รายเก่า"]
[]
["ที่","คำนำ","ชื่อตัว","ชื่อสกุล","เลขบัตร","ว/ด/ป เกิด","ว/ด/ป ","ว/ด/ป ","ว/ด/ป ","เวลาราชการ","เวลาราชการ","เวลาก่อน","รับบำนาญเหตุ","รหัสท้องถิ่นA","ท้องถิ่นที่เข้า","รหัสท้องถิ่นB","ท้องถิ่นที่รับ","อำเภอ","จังหวัด","ประเภท","ตำแหน่งที่","ประเภทการรับ","ว/ด/ป ",{"$nulls":5},"เงินบำนาญ",null,"เงินบำนาญ","จัดสรรไตรมาส 1","จัดสรรไตรมาส 2","จัดสรรไตรมาส 3","จัดสรรไตรมาส 4","กรณีไม่มีสิทธิได้รับ ให้ลบข้อมูลออก ",{"$nulls":6},"ช.ค.บ.ฉบับที่ 1-18",null,"เงิน ช.ค.บ.","จัดสรรไตรมาส 1","จัดสรรไตรมาส 2","จัดสรรไตรมาส 3","จัดสรรไตรมาส 4","บำเหน็จดำรงชีพ",null,"   บำเหน็จดำรงชีพ",null,"   บำเหน็จดำรงชีพ",null,"เงินบำเหน็จปกติ",null,"เงินบำเหน็จตกทอด",null,"ตกเบิกเงินบำเหน็จบำนาญ",null,"เงินบำเหน็จตกทอดและ",null,"เงินเหลือจ่าย",null,"แจ้งยอดเงินจัดสรร  ",null,"แจ้งยอดเงินจัดสรร   ",null,"แจ้งยอดเงินจัดสรร   ",null,"แจ้งยอดเงินจัดสรร   ",null,"จัดสรรเงิน "]
[null,"หน้าชื่อ",null,null,"ประจำตัว",null,"ที่รับราชการ","โอนมา อปท.","ที่ออก","สำหรับคำนวณ","สำหรับคำนวณ","ถ่ายโอน",null,null,"รับราชการ",null,"บำนาญ",null,null,"ข้าราชการ","รับบำนาญ",null,"ที่ถึงแก่กรรม","เฉลี่ย","เงินเดือน","เงินเดือน","พสร.","ปี","ต่อเดือน",null,"ไตรมาส 1-4","(ต.ค. - ธ.ค.68)","(ม.ค. - ก.พ.69)","(เม.ย. - มิ.ย.69)","(ก.ค. - ก.ย.69)","ช.ค.บ.","รวมบำนาญ","ฉบับที่ 15","คำนวณ","ช.ค.บ.","ช.ค.บ.","ช.ค.บ.","ต่อเดือน",null,"ไตรมาส 1-4","(ต.ค. - ธ.ค.68)","(ม.ค. - ก.พ.69)","(เม.ย. - มิ.ย.68)","(ก.ค. - ก.ย.68)"," 200,000 แรก",null,"    อายุ 65 ปี",null,"    อายุ 70 ปี",{"$nulls":3}," (ตายในตำแหน่ง)",{"$nulls":3},"เงินช่วยพิเศษ (บำนาญตาย) ",{"$nulls":3},"ไตรมาสที่ 1  (ต.ค. - ธ.ค. 68)",null," ไตรมาสที่ 2 (ม.ค - มี.ค.68)",null,"ไตรมาสที่ 3 (เม.ย. - มิ.ย. 68)",null," ไตรมาสที่ 4 (ก.ค. - ก.ย. 68)",null," ไตรมาสที่ 2 (ม.ค - ก.พ.69) เพิ่มเติม"]
[{"$nulls":4},"ประชาชน",{"$nulls":3},"จากราชการ","เต็ม (ปี)","ทศนิยม (ปี)","(ปี)",{"$nulls":11},"60 เดือน","(เดิม)","(ปรับใหม่)",null,"งบประมาณ","จำนวน","จำนวนเงิน","(ต.ค.68 - ก.ย.69)",{"$nulls":4},"ฉบับที่ 1-14","และ ช.ค.บ.","ต่ำกว่า 9,000","ฉบับที่ 16","ฉบับที่ 16","ฉบับที่ 17","ฉบับที่ 18","จำนวน","จำนวนเงิน","(ต.ค.68 - ก.ย.69)",{"$nulls":4},"จำนวน","จำนวนเงิน","จำนวน","จำนวนเงิน","จำนวน","จำนวนเงิน","จำนวน","จำนวนเงิน","จำนวน","จำนวนเงิน","จำนวน","จำนวนเงิน","จำนวน","จำนวนเงิน","จำนวน","จำนวนเงิน","จำนวน","จำนวนเงิน","จำนวน","จำนวนเงิน","จำนวน","จำนวนเงิน","จำนวน","จำนวนเงิน","จำนวน","จำนวนเงิน"]
[{"$nulls":4},"ประชาชน",{"$nulls":3},"จากราชการ","เต็ม (ปี)","ทศนิยม (ปี)","(ปี)",{"$nulls":16},"(ราย)","(บาท)","12 เดือน",{"$nulls":8},"เพิ่ม 4 %","ต่ำกว่า 10,000","ต่ำกว่า 11,000","(ราย)","(บาท)","12 เดือน",{"$nulls":4},"(ราย)","(บาท)","(ราย)","(บาท)","(ราย)","(บาท)","(ราย)","(บาท)","(ราย)","(บาท)","(ราย)","(บาท)","(ราย)","(บาท)","(ราย)","(บาท)","(ราย)","(บาท)","(ราย)","(บาท)","(ราย)","(บาท)","(ราย)","(บาท)","(ราย)","(บาท)"]
[{"$f":"A7+1","v":1},{"$nulls":15},"อบต.แจนแลน ","กุฉินารายณ์","กาฬสินธุ์",{"$nulls":40},5,{"v":266119,"d":"266,119.00"},{"$nulls":12},{"$f":"BH8","v":5},{"$f":"BI8","v":{"v":266119,"d":"266,119.00"}}]
[{"$f":"A8+1","v":2},{"$nulls":15},"อบต.หนองห้าง ","กุฉินารายณ์","กาฬสินธุ์",{"$nulls":40},1,{"v":18802,"d":"18,802.00"},{"$nulls":12},{"$f":"BH9","v":1},{"v":18802,"d":"18,802.00"}]
[{"$f":"A9+1","v":3},{"$nulls":15},"อบต.เหล่าไฮงาม ","กุฉินารายณ์","กาฬสินธุ์",{"$nulls":40},3,{"v":169010,"d":"169,010.00"},{"$nulls":12},3,{"v":169010,"d":"169,010.00"}]
[{"$nulls":18},"กาฬสินธุ์ ผลรวม",{"$nulls":40},{"$f":"SUBTOTAL(9,BH8:BH10)","v":9},{"$f":"SUBTOTAL(9,BI8:BI10)","v":{"v":453931,"d":"453,931.00"}},{"$nulls":12},{"$f":"SUBTOTAL(9,BV8:BV10)","v":9},{"$f":"SUBTOTAL(9,BW8:BW10)","v":{"v":453931,"d":"453,931.00"}}]
[1,{"$nulls":15},"อบต.คณฑี ","เมืองกำแพงเพชร","กำแพงเพชร",{"$nulls":40},1,{"v":966,"d":"966.00"},{"$nulls":12},1,{"v":966,"d":"966.00"}]
[2,{"$nulls":15},"อบต.นครชุม ","เมืองกำแพงเพชร","กำแพงเพชร",{"$nulls":40},1,{"v":140116,"d":"140,116.00"},{"$nulls":12},1,{"v":140116,"d":"140,116.00"}]
[3,{"$nulls":15},"อบต.วังทอง ","เมืองกำแพงเพชร","กำแพงเพชร",{"$nulls":40},2,{"v":22000,"d":"22,000.00"},{"$nulls":12},2,{"v":22000,"d":"22,000.00"}]
[{"$nulls":18},"กำแพงเพชร ผลรวม",{"$nulls":40},{"$f":"SUBTOTAL(9,BH12:BH14)","v":4},{"$f":"SUBTOTAL(9,BI12:BI14)","v":{"v":163082,"d":"163,082.00"}},{"$nulls":12},{"$f":"SUBTOTAL(9,BV12:BV14)","v":4},{"$f":"SUBTOTAL(9,BW12:BW14)","v":{"v":163082,"d":"163,082.00"}}]
[1,{"$nulls":15},"อบต.นางาม ","มัญจาคีรี","ขอนแก่น",{"$nulls":40},1,{"v":22000,"d":"22,000.00"},{"$nulls":12},1,{"v":22000,"d":"22,000.00"}]
[{"$nulls":18},"ขอนแก่น ผลรวม",{"$nulls":40},{"$f":"SUBTOTAL(9,BH16:BH16)","v":1},{"$f":"SUBTOTAL(9,BI16:BI16)","v":{"v":22000,"d":"22,000.00"}},{"$nulls":12},{"$f":"SUBTOTAL(9,BV16:BV16)","v":1},{"$f":"SUBTOTAL(9,BW16:BW16)","v":{"v":22000,"d":"22,000.00"}}]
[1,{"$nulls":15},"อบต.แม่สูน ","ฝาง","เชียงใหม่",{"$nulls":40},3,{"v":257211,"d":"257,211.00"},{"$nulls":12},3,{"v":257211,"d":"257,211.00"}]
[{"$nulls":18},"เชียงใหม่ ผลรวม",{"$nulls":40},{"$f":"SUBTOTAL(9,BH18:BH18)","v":3},{"$f":"SUBTOTAL(9,BI18:BI18)","v":{"v":257211,"d":"257,211.00"}},{"$nulls":12},{"$f":"SUBTOTAL(9,BV18:BV18)","v":3},{"$f":"SUBTOTAL(9,BW18:BW18)","v":{"v":257211,"d":"257,211.00"}}]
[1,{"$nulls":15},"อบต.นาขาม ","เรณูนคร","นครพนม",{"$nulls":40},2,{"v":22000,"d":"22,000.00"},{"$nulls":12},2,{"v":22000,"d":"22,000.00"}]
[2,{"$nulls":15},"อบต.โพนสว่าง ","ศรีสงคราม","นครพนม",{"$nulls":40},1,{"v":169149,"d":"169,149.00"},{"$nulls":12},1,{"v":169149,"d":"169,149.00"}]
[{"$nulls":18},"นครพนม ผลรวม",{"$nulls":40},{"$f":"SUBTOTAL(9,BH20:BH21)","v":3},{"$f":"SUBTOTAL(9,BI20:BI21)","v":{"v":191149,"d":"191,149.00"}},{"$nulls":12},{"$f":"SUBTOTAL(9,BV20:BV21)","v":3},{"$f":"SUBTOTAL(9,BW20:BW21)","v":{"v":191149,"d":"191,149.00"}}]
[1,{"$nulls":15},"อบต.กระแชง","บางไทร","พระนครศรีอยุธยา",{"$nulls":44},1,{"v":55000,"d":"55,000.00"},{"$nulls":9},{"v":-55000,"d":"-55,000.00"}]
[{"$nulls":18},"พระนครศรีอยุธยา ผลรวม",{"$nulls":40},{"$f":"SUBTOTAL(9,BH23:BH23)","v":0},{"$f":"SUBTOTAL(9,BI23:BI23)","v":0},{"$nulls":12},{"$f":"SUBTOTAL(9,BV23:BV23)","v":0},{"$f":"SUBTOTAL(9,BW23:BW23)","v":{"v":-55000,"d":"-55,000.00"}}]
[1,{"$nulls":15},"อบต.เวียงทอง","สูงเม่น","แพร่",{"$nulls":44},1,{"v":30870.97,"d":"30,870.97"},{"$nulls":8},{"$f":"BH25","v":0},{"v":-30870.97,"d":"-30,870.97"}]
[{"$nulls":18},"แพร่ ผลรวม",{"$nulls":40},{"$f":"SUBTOTAL(9,BH25:BH25)","v":0},{"$f":"SUBTOTAL(9,BI25:BI25)","v":0},{"$nulls":12},{"$f":"SUBTOTAL(9,BV25:BV25)","v":0},{"$f":"SUBTOTAL(9,BW25:BW25)","v":{"v":-30870.97,"d":"-30,870.97"}}]
[1,{"$nulls":15},"อบต.หนองไฮ ","วาปีปทุม","มหาสารคาม",{"$nulls":40},1,{"v":22000,"d":"22,000.00"},{"$nulls":12},1,{"v":22000,"d":"22,000.00"}]
[{"$nulls":18},"มหาสารคาม ผลรวม",{"$nulls":40},{"$f":"SUBTOTAL(9,BH27:BH27)","v":1},{"$f":"SUBTOTAL(9,BI27:BI27)","v":{"v":22000,"d":"22,000.00"}},{"$nulls":12},{"$f":"SUBTOTAL(9,BV27:BV27)","v":1},{"$f":"SUBTOTAL(9,BW27:BW27)","v":{"v":22000,"d":"22,000.00"}}]
[1,{"$nulls":15},"อบต.ป่าไร่ ","ดอนตาล","มุกดาหาร",{"$nulls":40},1,{"v":16785,"d":"16,785.00"},{"$nulls":12},1,{"v":16785,"d":"16,785.00"}]
[{"$nulls":18},"มุกดาหาร ผลรวม",{"$nulls":40},{"$f":"SUBTOTAL(9,BH29:BH29)","v":1},{"$f":"SUBTOTAL(9,BI29:BI29)","v":{"v":16785,"d":"16,785.00"}},{"$nulls":12},{"$f":"SUBTOTAL(9,BV29:BV29)","v":1},{"$f":"SUBTOTAL(9,BW29:BW29)","v":{"v":16785,"d":"16,785.00"}}]
[1,{"$nulls":15},"อบต.ป่าพลู ","บ้านโฮ่ง","ลำพูน",{"$nulls":40},1,{"v":164352,"d":"164,352.00"},{"$nulls":12},1,{"v":164352,"d":"164,352.00"}]
[{"$nulls":18},"ลำพูน ผลรวม",{"$nulls":40},{"$f":"SUBTOTAL(9,BH31:BH31)","v":1},{"$f":"SUBTOTAL(9,BI31:BI31)","v":{"v":164352,"d":"164,352.00"}},{"$nulls":12},{"$f":"SUBTOTAL(9,BV31:BV31)","v":1},{"$f":"SUBTOTAL(9,BW31:BW31)","v":{"v":164352,"d":"164,352.00"}}]
[1,{"$nulls":15},"อบต.โคกเพชร ","ขุขันธ์","ศรีสะเกษ",{"$nulls":40},2,{"v":22000,"d":"22,000.00"},{"$nulls":12},2,{"v":22000,"d":"22,000.00"}]
[2,{"$nulls":15},"อบต.ขะยูง ","อุทุมพรพิสัย","ศรีสะเกษ",{"$nulls":40},4,{"v":66000,"d":"66,000.00"},{"$nulls":12},4,{"v":66000,"d":"66,000.00"}]
[{"$nulls":18},"ศรีสะเกษ ผลรวม",{"$nulls":40},{"$f":"SUBTOTAL(9,BH33:BH34)","v":6},{"$f":"SUBTOTAL(9,BI33:BI34)","v":{"v":88000,"d":"88,000.00"}},{"$nulls":12},{"$f":"SUBTOTAL(9,BV33:BV34)","v":6},{"$f":"SUBTOTAL(9,BW33:BW34)","v":{"v":88000,"d":"88,000.00"}}]
[1,{"$nulls":15},"อบต.คูหา ","สะบ้าย้อย","สงขลา",{"$nulls":40},2,{"v":22000,"d":"22,000.00"},{"$nulls":12},2,{"v":22000,"d":"22,000.00"}]
[{"$nulls":18},"สงขลา ผลรวม",{"$nulls":40},{"$f":"SUBTOTAL(9,BH36:BH36)","v":2},{"$f":"SUBTOTAL(9,BI36:BI36)","v":{"v":22000,"d":"22,000.00"}},{"$nulls":12},{"$f":"SUBTOTAL(9,BV36:BV36)","v":2},{"$f":"SUBTOTAL(9,BW36:BW36)","v":{"v":22000,"d":"22,000.00"}}]
[1,{"$nulls":15},"อบต.คำเขื่อนแก้ว ","ชานุมาน","อำนาจเจริญ",{"$nulls":40},2,{"v":112442,"d":"112,442.00"},{"$nulls":12},2,{"v":112442,"d":"112,442.00"}]
[2,{"$nulls":15},"อบต.จิกดู่ ","หัวตะพาน","อำนาจเจริญ",{"$nulls":40},4,{"v":66000,"d":"66,000.00"},{"$nulls":12},4,{"v":66000,"d":"66,000.00"}]
[{"$nulls":18},"อำนาจเจริญ ผลรวม",{"$nulls":40},{"$f":"SUBTOTAL(9,BH38:BH39)","v":6},{"$f":"SUBTOTAL(9,BI38:BI39)","v":{"v":178442,"d":"178,442.00"}},{"$nulls":12},{"$f":"SUBTOTAL(9,BV38:BV39)","v":6},{"$f":"SUBTOTAL(9,BW38:BW39)","v":{"v":178442,"d":"178,442.00"}}]
[1,{"$nulls":15},"อบต.นาไหม ","บ้านดุง","อุดรธานี",{"$nulls":40},1,{"v":162831,"d":"162,831.00"},{"$nulls":12},1,{"v":162831,"d":"162,831.00"}]
[2,{"$nulls":15},"อบต.บ้านดุง ","บ้านดุง","อุดรธานี",{"$nulls":40},2,{"v":183402,"d":"183,402.00"},{"$nulls":12},2,{"v":183402,"d":"183,402.00"}]
[3,{"$nulls":15},"อบต.อ้อมกอ ","บ้านดุง","อุดรธานี",{"$nulls":40},2,{"v":22000,"d":"22,000.00"},{"$nulls":12},2,{"v":22000,"d":"22,000.00"}]
[4,{"$nulls":15},"อบต.กุดสระ ","เมืองอุดรธานี","อุดรธานี",{"$nulls":40},1,{"v":148104,"d":"148,104.00"},{"$nulls":12},1,{"v":148104,"d":"148,104.00"}]
[{"$nulls":18},"อุดรธานี ผลรวม",{"$nulls":40},{"$f":"SUBTOTAL(9,BH41:BH44)","v":6},{"$f":"SUBTOTAL(9,BI41:BI44)","v":{"v":516337,"d":"516,337.00"}},{"$nulls":12},{"$f":"SUBTOTAL(9,BV41:BV44)","v":6},{"$f":"SUBTOTAL(9,BW41:BW44)","v":{"v":516337,"d":"516,337.00"}}]
[1,{"$nulls":15},"อบต.ขุนฝาง ","เมืองอุตรดิตถ์","อุตรดิตถ์",{"$nulls":40},1,{"v":169422,"d":"169,422.00"},{"$nulls":12},1,{"v":169422,"d":"169,422.00"}]
[{"$nulls":18},"อุตรดิตถ์ ผลรวม",{"$nulls":40},{"$f":"SUBTOTAL(9,BH46:BH46)","v":1},{"$f":"SUBTOTAL(9,BI46:BI46)","v":{"v":169422,"d":"169,422.00"}},{"$nulls":12},{"$f":"SUBTOTAL(9,BV46:BV46)","v":1},{"$f":"SUBTOTAL(9,BW46:BW46)","v":{"v":169422,"d":"169,422.00"}}]

{"sheet":"บัญชีรายชื่อ (รายใหม่) ","index":2,"n_rows":1792,"n_cols":92,"rows_kept":1792,"merged":[[0,0,0,72],[1,0,1,72],[3,0,6,0],[3,28,3,29],[3,35,3,41],[3,42,3,43],[3,49,3,50],[3,51,3,52],[3,53,3,54],[3,55,3,56],[3,57,3,58],[3,59,3,60],[3,61,3,62],[3,63,3,64],[3,65,3,66],[3,67,3,68],[3,69,3,70],[3,71,3,72],[4,1,6,1],[4,2,6,2],[4,3,6,3],[4,16,6,16],[4,28,4,29],[4,42,4,43],[4,49,4,50],[4,51,4,52],[4,53,4,54],[4,55,4,56],[4,57,4,58],[4,59,4,60],[4,61,4,62],[4,63,4,64],[4,65,4,66],[4,67,4,68],[4,69,4,70],[4,71,4,72]]}
["บัญชีรายละเอียดแจ้งการจัดสรรงบประมาณรายจ่ายประจำปีงบประมาณ พ.ศ. 2569"]
["เงินอุดหนุนทั่วไป เงินอุดหนุนสำหรับการจัดการศึกษาภาคบังคับ (บำเหน็จ บำนาญ) ไตรมาสที่ 2 (เดือนมกราคม - กุมภาพันธ์ 2569) เพิ่มเติม รายใหม่"]
[]
["ที่","คำนำ","ชื่อตัว","ชื่อสกุล","เลขบัตร","ว/ด/ป เกิด","ว/ด/ป ","ว/ด/ป ","ว/ด/ป ","เวลาราชการ","เวลาราชการ","เวลาก่อน","รับบำนาญเหตุ","รหัสท้องถิ่นA","ท้องถิ่นที่เข้า","รหัสท้องถิ่นB","ท้องถิ่นที่รับ","อำเภอ","จังหวัด","ประเภท","ตำแหน่งที่","ประเภทการรับ","ว/ด/ป ",{"$nulls":5},"เงินบำนาญ",null,"เงินบำนาญ","เงินบำนาญ","เงินบำนาญ","คำนวนเงินบำนาญ","คำนวนเงินบำนาญ","กรณีไม่มีสิทธิได้รับ ให้ลบข้อมูลออก ",{"$nulls":6},"ช.ค.บ.ฉบับที่ 1-18",null,"เงิน ช.ค.บ.","เงิน ช.ค.บ.","เงิน ช.ค.บ.","คำนวณเงิน ช.ค.บ.","คำนวณเงิน ช.ค.บ.","บำเหน็จดำรงชีพ",null,"   บำเหน็จดำรงชีพ",null,"   บำเหน็จดำรงชีพ",null,"เงินบำเหน็จปกติ",null,"เงินบำเหน็จตกทอด",null,"ตกเบิกเงิน",null,"เงินบำเหน็จตกทอดและ",null,"แจ้งยอดเงินจัดสรร  ",null,"แจ้งยอดเงินจัดสรร   ",null,"แจ้งยอดเงินจัดสรร   ",null,"แจ้งยอดเงินจัดสรร   ",null,"จัดสรรเงิน "]
[null,"หน้าชื่อ",null,null,"ประจำตัว",null,"ที่รับราชการ","โอนมา อปท.","ที่ออก","สำหรับคำนวณ","สำหรับคำนวณ","ถ่ายโอน",null,null,"รับราชการ",null,"บำนาญ",null,null,"ข้าราชการ","รับบำนาญ",null,"ที่ถึงแก่กรรม","เฉลี่ย","เงินเดือน","เงินเดือน","พสร.","ปี","ต่อเดือน",null,"ไตรมาส 1-4","จัดสรรไตรมาส 1","จัดสรรไตรมาส 2","จัดสรรไตรมาส 3","จัดสรรไตรมาส 4","ช.ค.บ.","รวมบำนาญ","ฉบับที่ 15","คำนวณ","ช.ค.บ.","ช.ค.บ.","ช.ค.บ.","ต่อเดือน",null,"ไตรมาส 1-4","จัดสรรไตรมาส 1","จัดสรรไตรมาส 2","จัดสรรไตรมาส 3","จัดสรรไตรมาส 4"," 200,000 แรก",null,"    อายุ 65 ปี",null,"    อายุ 70 ปี",{"$nulls":3}," (ตายในตำแหน่ง)",{"$nulls":3},"เงินช่วยพิเศษ (บำนาญตาย) ",null,"ไตรมาสที่ 1  (ต.ค. - ธ.ค. 68)",null," ไตรมาสที่ 2 (ม.ค - มี.ค.69)",null,"ไตรมาสที่ 3 (เม.ย. - มิ.ย. 69)",null," ไตรมาสที่ 4 (ก.ค. - ก.ย. 69)",null," ไตรมาสที่ 2 (ม.ค - ก.พ.69)"]
[{"$nulls":4},"ประชาชน",{"$nulls":3},"จากราชการ","เต็ม (ปี)","ทศนิยม (ปี)","(ปี)",{"$nulls":11},"60 เดือน","(เดิม)","(ปรับใหม่)",null,"งบประมาณ","จำนวน","จำนวนเงิน","(ต.ค.68 - ก.ย.69)","(ต.ค. - ธ.ค.68)","(ม.ค. - ก.พ.69)","(เม.ย. - มิ.ย.69)","(ก.ค. - ก.ย.69)","ฉบับที่ 1-14","และ ช.ค.บ.","ต่ำกว่า 9,000","ฉบับที่ 16","ฉบับที่ 16","ฉบับที่ 17","ฉบับที่ 18","จำนวน","จำนวนเงิน","(ต.ค.68 - ก.ย.69)","(ต.ค. - ธ.ค.68)","(ม.ค. - ก.พ.69)","(เม.ย. - มิ.ย.69)","(ก.ค. - ก.ย.69)","จำนวน","จำนวนเงิน","จำนวน","จำนวนเงิน","จำนวน","จำนวนเงิน","จำนวน","จำนวนเงิน","จำนวน","จำนวนเงิน","จำนวน","จำนวนเงิน","จำนวน","จำนวนเงิน","จำนวน","จำนวนเงิน","จำนวน","จำนวนเงิน","จำนวน","จำนวนเงิน","จำนวน","จำนวนเงิน","จำนวน","จำนวนเงิน"]
[{"$nulls":4},"ประชาชน",{"$nulls":4},"เต็ม (ปี)","ทศนิยม (ปี)","(ปี)",{"$nulls":16},"(ราย)","(บาท)","12 เดือน","3 เดือน","2 เดือน","3 เดือน","3 เดือน",{"$nulls":4},"เพิ่ม 4 %","ต่ำกว่า 10,000","ต่ำกว่า 11,000","(ราย)","(บาท)","12 เดือน","3 เดือน","2 เดือน","3 เดือน","3 เดือน","(ราย)","(บาท)","(ราย)","(บาท)","(ราย)","(บาท)","(ราย)","(บาท)","(ราย)","(บาท)","(ราย)","(บาท)","(ราย)","(บาท)","(ราย)","(บาท)","(ราย)","(บาท)","(ราย)","(บาท)","(ราย)","(บาท)","(ราย)","(บาท)"]
[1,"นาง","พรทิพา","ฉิมแก้ว",{"$nulls":4},"2568-10-01",{"$nulls":7},"อบต.เขาเขน","ปลายพระยา","กระบี่",{"$nulls":9},1,{"v":10777.2,"d":"10,777.20"},{"$f":"AD8*12","v":{"v":129326.40000000001,"d":"129,326.40"}},{"$f":"AD8*3","v":{"v":32331.600000000002,"d":"32,331.60"}},{"$f":"AD8*2","v":{"v":21554.4,"d":"21,554.40"}},{"$f":"AD8*3","v":{"v":32331.600000000002,"d":"32,331.60"}},{"$f":"AD8*3","v":{"v":32331.600000000002,"d":"32,331.60"}},null,{"$f":"AD8+AJ8","v":{"v":10777.2,"d":"10,777.20"}},{"$nulls":4},{"$f":"11000-AO8-AD8","v":{"v":222.79999999999927,"d":"222.80"}},1,{"$f":"AJ8+AL8+AO8+AP8","v":{"v":222.79999999999927,"d":"222.80"}},{"$f":"AR8*12","v":{"v":2673.5999999999913,"d":"2,673.60"}},{"$f":"AR8*3","v":{"v":668.3999999999978,"d":"668.40"}},{"$f":"AR8*2","v":{"v":445.59999999999854,"d":"445.60"}},{"$f":"AR8*3","v":{"v":668.3999999999978,"d":"668.40"}},{"$f":"AR8*3","v":{"v":668.3999999999978,"d":"668.40"}},1,{"v":161658,"d":"161,658.00"},{"$nulls":14},{"v":1,"d":"1.00"},{"$f":"AF8+AG8+AT8+AU8+AY8+BA8+BC8+BE8+BG8+BI8+BK8","v":{"v":216658,"d":"216,658.00"}},{"$nulls":4},{"$f":"BN8","v":1},{"$f":"ROUND(BO8,2)","v":{"v":216658,"d":"216,658.00"}}]
[{"$nulls":16},"อบต.เขาเขน ผลรวม","ปลายพระยา","กระบี่",{"$nulls":9},{"$f":"SUBTOTAL(9,AC8:AC8)","v":1},{"$f":"SUBTOTAL(9,AD8:AD8)","v":{"v":10777.2,"d":"10,777.20"}},{"$f":"SUBTOTAL(9,AE8:AE8)","v":{"v":129326.40000000001,"d":"129,326.40"}},{"$f":"SUBTOTAL(9,AF8:AF8)","v":{"v":32331.600000000002,"d":"32,331.60"}},{"$f":"SUBTOTAL(9,AG8:AG8)","v":{"v":21554.4,"d":"21,554.40"}},{"$nulls":9},{"$f":"SUBTOTAL(9,AQ8:AQ8)","v":1},{"$f":"SUBTOTAL(9,AR8:AR8)","v":{"v":222.79999999999927,"d":"222.80"}},{"$f":"SUBTOTAL(9,AS8:AS8)","v":{"v":2673.5999999999913,"d":"2,673.60"}},{"$f":"SUBTOTAL(9,AT8:AT8)","v":{"v":668.3999999999978,"d":"668.40"}},{"$f":"SUBTOTAL(9,AU8:AU8)","v":{"v":445.59999999999854,"d":"445.60"}},null,null,{"$f":"SUBTOTAL(9,AX8:AX8)","v":1},{"v":161658,"d":"161,658.00"},0,0,0,0,0,0,0,0,0,0,0,0,{"$nulls":3},{"$f":"AF9+AG9+AT9+AU9+AY9+BA9+BC9+BE9+BG9+BI9+BK9","v":{"v":216658,"d":"216,658.00"}},{"$nulls":4},{"$f":"SUBTOTAL(9,BT8:BT8)","v":1},{"$f":"SUBTOTAL(9,BU8:BU8)","v":{"v":216658,"d":"216,658.00"}}]
[{"$nulls":18},"กระบี่ ผลรวม",{"$nulls":9},{"$f":"SUBTOTAL(9,AC8:AC8)","v":1},{"$f":"SUBTOTAL(9,AD8:AD8)","v":{"v":10777.2,"d":"10,777.20"}},{"$f":"SUBTOTAL(9,AE8:AE8)","v":{"v":129326.40000000001,"d":"129,326.40"}},{"$f":"SUBTOTAL(9,AF8:AF8)","v":{"v":32331.600000000002,"d":"32,331.60"}},{"$f":"SUBTOTAL(9,AG8:AG8)","v":{"v":21554.4,"d":"21,554.40"}},{"$nulls":9},{"$f":"SUBTOTAL(9,AQ8:AQ8)","v":1},{"$f":"SUBTOTAL(9,AR8:AR8)","v":{"v":222.79999999999927,"d":"222.80"}},{"$f":"SUBTOTAL(9,AS8:AS8)","v":{"v":2673.5999999999913,"d":"2,673.60"}},{"$f":"SUBTOTAL(9,AT8:AT8)","v":{"v":668.3999999999978,"d":"668.40"}},{"$f":"SUBTOTAL(9,AU8:AU8)","v":{"v":445.59999999999854,"d":"445.60"}},null,null,{"$f":"SUBTOTAL(9,AX8:AX8)","v":1},{"v":161658,"d":"161,658.00"},0,0,0,0,0,0,0,0,0,0,0,0,{"$nulls":3},{"v":216658,"d":"216,658.00"},{"$nulls":4},{"$f":"SUBTOTAL(9,BT8:BT8)","v":1},{"$f":"SUBTOTAL(9,BU8:BU8)","v":{"v":216658,"d":"216,658.00"}}]
[1,"นาง","ประวาณี","ทาบุเรศ",{"$nulls":4},"2568-06-20",{"$nulls":7},"อบต.สำราญใต้","สามชัย","กาฬสินธุ์",{"$nulls":11},{"$f":"AD11*12","v":0},{"$f":"AD11*3","v":0},{"$f":"AD11*2","v":0},{"$f":"AD11*3","v":0},{"$f":"AD11*3","v":0},null,{"$f":"AD11+AJ11","v":0},{"$nulls":4},0,null,{"$f":"AJ11+AL11+AO11+AP11","v":0},{"$f":"AR11*12","v":0},{"$f":"AR11*3","v":0},{"$f":"AR11*2","v":0},{"$f":"AR11*3","v":0},{"$f":"AR11*3","v":0},{"$nulls":6},1,{"v":461500,"d":"461,500.00"},{"$nulls":8},{"v":1,"d":"1.00"},{"v":461500,"d":"461,500.00"},{"$nulls":4},{"$f":"BN11","v":1},{"$f":"ROUND(BO11,2)","v":{"v":461500,"d":"461,500.00"}}]
[{"$nulls":16},"อบต.สำราญใต้ ผลรวม","สามชัย","กาฬสินธุ์",{"$nulls":9},{"$f":"SUBTOTAL(9,AC11:AC11)","v":0},{"$f":"SUBTOTAL(9,AD11:AD11)","v":0},{"$f":"SUBTOTAL(9,AE11:AE11)","v":0},{"$f":"SUBTOTAL(9,AF11:AF11)","v":0},{"$f":"SUBTOTAL(9,AG11:AG11)","v":0},{"$nulls":9},{"$f":"SUBTOTAL(9,AQ11:AQ11)","v":0},{"$f":"SUBTOTAL(9,AR11:AR11)","v":0},{"$f":"SUBTOTAL(9,AS11:AS11)","v":0},{"$f":"SUBTOTAL(9,AT11:AT11)","v":0},{"$f":"SUBTOTAL(9,AU11:AU11)","v":0},null,null,{"$f":"SUBTOTAL(9,AX11:AX11)","v":0},0,0,0,0,0,1,{"v":461500,"d":"461,500.00"},0,0,0,0,0,0,{"$nulls":3},{"v":461500,"d":"461,500.00"},{"$nulls":4},{"$f":"SUBTOTAL(9,BT11:BT11)","v":1},{"$f":"SUBTOTAL(9,BU11:BU11)","v":{"v":461500,"d":"461,500.00"}}]
[{"$nulls":18},"กาฬสินธุ์ ผลรวม",{"$nulls":9},{"$f":"SUBTOTAL(9,AC11:AC11)","v":0},{"$f":"SUBTOTAL(9,AD11:AD11)","v":0},{"$f":"SUBTOTAL(9,AE11:AE11)","v":0},{"$f":"SUBTOTAL(9,AF11:AF11)","v":0},{"$f":"SUBTOTAL(9,AG11:AG11)","v":0},{"$nulls":9},{"$f":"SUBTOTAL(9,AQ11:AQ11)","v":0},{"$f":"SUBTOTAL(9,AR11:AR11)","v":0},{"$f":"SUBTOTAL(9,AS11:AS11)","v":0},{"$f":"SUBTOTAL(9,AT11:AT11)","v":0},{"$f":"SUBTOTAL(9,AU11:AU11)","v":0},null,null,{"$f":"SUBTOTAL(9,AX11:AX11)","v":0},0,0,0,0,0,1,{"v":461500,"d":"461,500.00"},0,0,0,0,0,0,{"$nulls":3},{"v":461500,"d":"461,500.00"},{"$nulls":4},{"$f":"SUBTOTAL(9,BT11:BT11)","v":1},{"$f":"SUBTOTAL(9,BU11:BU11)","v":{"v":461500,"d":"461,500.00"}}]
[1,"นาง","อรทัย","โคตะคาม",{"$nulls":4},"2568-10-01",{"$nulls":7},"อบต.ลอมคอม","พล","ขอนแก่น",null,"ครู",{"$nulls":7},1,{"v":9338,"d":"9,338.00"},{"$f":"AD14*12","v":{"v":112056,"d":"112,056.00"}},{"$f":"AD14*3","v":{"v":28014,"d":"28,014.00"}},{"$f":"AD14*2","v":{"v":18676,"d":"18,676.00"}},{"$f":"SUM(AD14*3)","v":{"v":28014,"d":"28,014.00"}},{"$f":"SUM(AD14*3)","v":{"v":28014,"d":"28,014.00"}},null,{"$f":"AD14+AJ14","v":{"v":9338,"d":"9,338.00"}},{"$nulls":4},{"$f":"11000-AO14-AD14","v":{"v":1662,"d":"1,662.00"}},1,{"$f":"AJ14+AL14+AO14+AP14","v":{"v":1662,"d":"1,662.00"}},{"$f":"AR14*12","v":{"v":19944,"d":"19,944.00"}},{"$f":"AR14*3","v":{"v":4986,"d":"4,986.00"}},{"$f":"AR14*2","v":{"v":3324,"d":"3,324.00"}},{"$f":"SUM(AR14*3)","v":{"v":4986,"d":"4,986.00"}},{"$f":"SUM(AR14*3)","v":{"v":4986,"d":"4,986.00"}},1,{"$f":"SUM(AD14*15)","v":{"v":140070,"d":"140,070.00"}},{"$nulls":14},{"v":1,"d":"1.00"},{"v":195070,"d":"195,070.00"},{"$nulls":4},{"$f":"BN14","v":1},{"$f":"ROUND(BO14,2)","v":{"v":195070,"d":"195,070.00"}}]
[{"$nulls":16},"อบต.ลอมคอม ผลรวม","พล","ขอนแก่น",{"$nulls":9},{"$f":"SUBTOTAL(9,AC14:AC14)","v":1},{"$f":"SUBTOTAL(9,AD14:AD14)","v":{"v":9338,"d":"9,338.00"}},{"$f":"SUBTOTAL(9,AE14:AE14)","v":{"v":112056,"d":"112,056.00"}},{"$f":"SUBTOTAL(9,AF14:AF14)","v":{"v":28014,"d":"28,014.00"}},{"$f":"SUBTOTAL(9,AG14:AG14)","v":{"v":18676,"d":"18,676.00"}},{"$nulls":9},{"$f":"SUBTOTAL(9,AQ14:AQ14)","v":1},{"$f":"SUBTOTAL(9,AR14:AR14)","v":{"v":1662,"d":"1,662.00"}},{"$f":"SUBTOTAL(9,AS14:AS14)","v":{"v":19944,"d":"19,944.00"}},{"$f":"SUBTOTAL(9,AT14:AT14)","v":{"v":4986,"d":"4,986.00"}},{"$f":"SUBTOTAL(9,AU14:AU14)","v":{"v":3324,"d":"3,324.00"}},null,null,{"$f":"SUBTOTAL(9,AX14:AX14)","v":1},{"v":140070,"d":"140,070.00"},0,0,0,0,0,0,0,0,0,0,0,0,{"$nulls":3},{"v":195070,"d":"195,070.00"},{"$nulls":4},{"$f":"SUBTOTAL(9,BT14:BT14)","v":1},{"$f":"SUBTOTAL(9,BU14:BU14)","v":{"v":195070,"d":"195,070.00"}}]
[{"$f":"A14+1","v":2},"นาง","สาวิตรี","ชัยย่อย",{"$nulls":4},"2568-10-01",{"$nulls":7},"อบต.ท่านางแนว","แวงน้อย","ขอนแก่น",null,"ครู",{"$nulls":7},1,{"v":6591.2,"d":"6,591.20"},{"$f":"AD16*12","v":{"v":79094.4,"d":"79,094.40"}},{"$f":"AD16*3","v":{"v":19773.6,"d":"19,773.60"}},{"$f":"AD16*2","v":{"v":13182.4,"d":"13,182.40"}},{"$f":"SUM(AD16*3)","v":{"v":19773.6,"d":"19,773.60"}},{"$f":"SUM(AD16*3)","v":{"v":19773.6,"d":"19,773.60"}},null,{"$f":"AD16+AJ16","v":{"v":6591.2,"d":"6,591.20"}},{"$nulls":4},{"$f":"11000-AO16-AD16","v":{"v":4408.8,"d":"4,408.80"}},1,{"$f":"AJ16+AL16+AO16+AP16","v":{"v":4408.8,"d":"4,408.80"}},{"$f":"AR16*12","v":{"v":52905.600000000006,"d":"52,905.60"}},{"$f":"AR16*3","v":{"v":13226.400000000001,"d":"13,226.40"}},{"$f":"AR16*2","v":{"v":8817.6,"d":"8,817.60"}},{"$f":"SUM(AR16*3)","v":{"v":13226.400000000001,"d":"13,226.40"}},{"$f":"SUM(AR16*3)","v":{"v":13226.400000000001,"d":"13,226.40"}},1,{"$f":"SUM(AD16*15)","v":{"v":98868,"d":"98,868.00"}},{"$nulls":14},{"v":1,"d":"1.00"},{"v":153868,"d":"153,868.00"},{"$nulls":4},{"$f":"BN16","v":1},{"$f":"ROUND(BO16,2)","v":{"v":153868,"d":"153,868.00"}}]
[{"$nulls":16},"อบต.ท่านางแนว ผลรวม","แวงน้อย","ขอนแก่น",{"$nulls":9},{"$f":"SUBTOTAL(9,AC16:AC16)","v":1},{"$f":"SUBTOTAL(9,AD16:AD16)","v":{"v":6591.2,"d":"6,591.20"}},{"$f":"SUBTOTAL(9,AE16:AE16)","v":{"v":79094.4,"d":"79,094.40"}},{"$f":"SUBTOTAL(9,AF16:AF16)","v":{"v":19773.6,"d":"19,773.60"}},{"$f":"SUBTOTAL(9,AG16:AG16)","v":{"v":13182.4,"d":"13,182.40"}},{"$nulls":9},{"$f":"SUBTOTAL(9,AQ16:AQ16)","v":1},{"$f":"SUBTOTAL(9,AR16:AR16)","v":{"v":4408.8,"d":"4,408.80"}},{"$f":"SUBTOTAL(9,AS16:AS16)","v":{"v":52905.600000000006,"d":"52,905.60"}},{"$f":"SUBTOTAL(9,AT16:AT16)","v":{"v":13226.400000000001,"d":"13,226.40"}},{"$f":"SUBTOTAL(9,AU16:AU16)","v":{"v":8817.6,"d":"8,817.60"}},null,null,{"$f":"SUBTOTAL(9,AX16:AX16)","v":1},{"v":98868,"d":"98,868.00"},0,0,0,0,0,0,0,0,0,0,0,0,{"$nulls":3},{"v":153868,"d":"153,868.00"},{"$nulls":4},{"$f":"SUBTOTAL(9,BT16:BT16)","v":1},{"$f":"SUBTOTAL(9,BU16:BU16)","v":{"v":153868,"d":"153,868.00"}}]
[{"$f":"A16+1","v":3},"นาง","สุปรียา","ดวงแสง",{"$nulls":4},"2568-10-01",{"$nulls":7},"อบต.ศรีสุข","สีชมพู","ขอนแก่น",null,"ครู",{"$nulls":7},1,{"v":9757.8,"d":"9,757.80"},{"$f":"AD18*12","v":{"v":117093.59999999999,"d":"117,093.60"}},{"$f":"AD18*3","v":{"v":29273.399999999998,"d":"29,273.40"}},{"$f":"AD18*2","v":{"v":19515.6,"d":"19,515.60"}},{"$f":"SUM(AD18*3)","v":{"v":29273.399999999998,"d":"29,273.40"}},{"$f":"SUM(AD18*3)","v":{"v":29273.399999999998,"d":"29,273.40"}},null,{"$f":"AD18+AJ18","v":{"v":9757.8,"d":"9,757.80"}},{"$nulls":4},{"$f":"11000-AO18-AD18","v":{"v":1242.2000000000007,"d":"1,242.20"}},1,{"$f":"AJ18+AL18+AO18+AP18","v":{"v":1242.2000000000007,"d":"1,242.20"}},{"$f":"AR18*12","v":{"v":14906.400000000009,"d":"14,906.40"}},{"$f":"AR18*3","v":{"v":3726.600000000002,"d":"3,726.60"}},{"$f":"AR18*2","v":{"v":2484.4000000000015,"d":"2,484.40"}},{"$f":"SUM(AR18*3)","v":{"v":3726.600000000002,"d":"3,726.60"}},{"$f":"SUM(AR18*3)","v":{"v":3726.600000000002,"d":"3,726.60"}},1,{"$f":"SUM(AD18*15)","v":{"v":146367,"d":"146,367.00"}},{"$nulls":14},{"v":1,"d":"1.00"},{"v":201367,"d":"201,367.00"},{"$nulls":4},{"$f":"BN18","v":1},{"$f":"ROUND(BO18,2)","v":{"v":201367,"d":"201,367.00"}}]
[{"$nulls":16},"อบต.ศรีสุข ผลรวม","สีชมพู","ขอนแก่น",{"$nulls":9},{"$f":"SUBTOTAL(9,AC18:AC18)","v":1},{"$f":"SUBTOTAL(9,AD18:AD18)","v":{"v":9757.8,"d":"9,757.80"}},{"$f":"SUBTOTAL(9,AE18:AE18)","v":{"v":117093.59999999999,"d":"117,093.60"}},{"$f":"SUBTOTAL(9,AF18:AF18)","v":{"v":29273.399999999998,"d":"29,273.40"}},{"$f":"SUBTOTAL(9,AG18:AG18)","v":{"v":19515.6,"d":"19,515.60"}},{"$nulls":9},{"$f":"SUBTOTAL(9,AQ18:AQ18)","v":1},{"$f":"SUBTOTAL(9,AR18:AR18)","v":{"v":1242.2000000000007,"d":"1,242.20"}},{"$f":"SUBTOTAL(9,AS18:AS18)","v":{"v":14906.400000000009,"d":"14,906.40"}},{"$f":"SUBTOTAL(9,AT18:AT18)","v":{"v":3726.600000000002,"d":"3,726.60"}},{"$f":"SUBTOTAL(9,AU18:AU18)","v":{"v":2484.4000000000015,"d":"2,484.40"}},null,null,{"$f":"SUBTOTAL(9,AX18:AX18)","v":1},{"v":146367,"d":"146,367.00"},0,0,0,0,0,0,0,0,0,0,0,0,{"$nulls":3},{"v":201367,"d":"201,367.00"},{"$nulls":4},{"$f":"SUBTOTAL(9,BT18:BT18)","v":1},{"$f":"SUBTOTAL(9,BU18:BU18)","v":{"v":201367,"d":"201,367.00"}}]
[{"$nulls":18},"ขอนแก่น ผลรวม",{"$nulls":9},{"$f":"SUBTOTAL(9,AC14:AC18)","v":3},{"$f":"SUBTOTAL(9,AD14:AD18)","v":{"v":25687,"d":"25,687.00"}},{"$f":"SUBTOTAL(9,AE14:AE18)","v":{"v":308244,"d":"308,244.00"}},{"$f":"SUBTOTAL(9,AF14:AF18)","v":{"v":77061,"d":"77,061.00"}},{"$f":"SUBTOTAL(9,AG14:AG18)","v":{"v":51374,"d":"51,374.00"}},{"$nulls":9},{"$f":"SUBTOTAL(9,AQ14:AQ18)","v":3},{"$f":"SUBTOTAL(9,AR14:AR18)","v":{"v":7313.000000000001,"d":"7,313.00"}},{"$f":"SUBTOTAL(9,AS14:AS18)","v":{"v":87756.00000000001,"d":"87,756.00"}},{"$f":"SUBTOTAL(9,AT14:AT18)","v":{"v":21939.000000000004,"d":"21,939.00"}},{"$f":"SUBTOTAL(9,AU14:AU18)","v":{"v":14626.000000000002,"d":"14,626.00"}},null,null,{"$f":"SUBTOTAL(9,AX14:AX18)","v":3},{"v":385305,"d":"385,305.00"},0,0,0,0,0,0,0,0,0,0,0,0,{"$nulls":3},{"v":550305,"d":"550,305.00"},{"$nulls":4},{"$f":"SUBTOTAL(9,BT14:BT18)","v":3},{"$f":"SUBTOTAL(9,BU14:BU18)","v":{"v":550305,"d":"550,305.00"}}]
[1,"นาง","ขนิษฐา","ธรรมจักร์",{"$nulls":4},"2568-10-01",{"$nulls":7},"อบต.นาเริก","พนัสนิคม","ชลบุรี",null,"ครู",{"$nulls":7},1,{"v":6941,"d":"6,941.00"},{"$f":"AD21*12","v":{"v":83292,"d":"83,292.00"}},{"$f":"AD21*3","v":{"v":20823,"d":"20,823.00"}},{"$f":"AD21*2","v":{"v":13882,"d":"13,882.00"}},{"$f":"AD21*3","v":{"v":20823,"d":"20,823.00"}},{"$f":"AD21*3","v":{"v":20823,"d":"20,823.00"}},null,{"$f":"AD21+AJ21","v":{"v":6941,"d":"6,941.00"}},{"$nulls":4},{"$f":"11000-AO21-AD21","v":{"v":4059,"d":"4,059.00"}},1,{"$f":"AJ21+AL21+AO21+AP21","v":{"v":4059,"d":"4,059.00"}},{"$f":"AR21*12","v":{"v":48708,"d":"48,708.00"}},{"$f":"AR21*3","v":{"v":12177,"d":"12,177.00"}},{"$f":"AR21*2","v":{"v":8118,"d":"8,118.00"}},{"$f":"AR21*3","v":{"v":12177,"d":"12,177.00"}},{"$f":"AR21*3","v":{"v":12177,"d":"12,177.00"}},1,{"v":104115,"d":"104,115.00"},{"$nulls":14},{"v":1,"d":"1.00"},{"v":159115,"d":"159,115.00"},{"$nulls":4},{"$f":"BN21","v":1},{"$f":"ROUND(BO21,2)","v":{"v":159115,"d":"159,115.00"}}]
[{"$nulls":16},"อบต.นาเริก ผลรวม","พนัสนิคม","ชลบุรี",{"$nulls":9},{"$f":"SUBTOTAL(9,AC21:AC21)","v":1},{"$f":"SUBTOTAL(9,AD21:AD21)","v":{"v":6941,"d":"6,941.00"}},{"$f":"SUBTOTAL(9,AE21:AE21)","v":{"v":83292,"d":"83,292.00"}},{"$f":"SUBTOTAL(9,AF21:AF21)","v":{"v":20823,"d":"20,823.00"}},{"$f":"SUBTOTAL(9,AG21:AG21)","v":{"v":13882,"d":"13,882.00"}},{"$nulls":9},{"$f":"SUBTOTAL(9,AQ21:AQ21)","v":1},{"$f":"SUBTOTAL(9,AR21:AR21)","v":{"v":4059,"d":"4,059.00"}},{"$f":"SUBTOTAL(9,AS21:AS21)","v":{"v":48708,"d":"48,708.00"}},{"$f":"SUBTOTAL(9,AT21:AT21)","v":{"v":12177,"d":"12,177.00"}},{"$f":"SUBTOTAL(9,AU21:AU21)","v":{"v":8118,"d":"8,118.00"}},null,null,{"$f":"SUBTOTAL(9,AX21:AX21)","v":1},{"v":104115,"d":"104,115.00"},0,0,0,0,0,0,0,0,0,0,0,0,{"$nulls":3},{"v":159115,"d":"159,115.00"},{"$nulls":4},{"$f":"SUBTOTAL(9,BT21:BT21)","v":1},{"$f":"SUBTOTAL(9,BU21:BU21)","v":{"v":159115,"d":"159,115.00"}}]
[{"$f":"A21+1","v":2},"นาง","แวนด้า","บูรณเจริญกิจ",{"$nulls":4},"2567-10-01",{"$nulls":7},"อบต.หนองปรือ","พนัสนิคม","ชลบุรี",null,"ครู",{"$nulls":7},1,{"v":7920,"d":"7,920.00"},{"$f":"AD23*12","v":{"v":95040,"d":"95,040.00"}},{"$f":"AD23*3","v":{"v":23760,"d":"23,760.00"}},{"$f":"AD23*2","v":{"v":15840,"d":"15,840.00"}},{"$f":"AD23*3","v":{"v":23760,"d":"23,760.00"}},{"$f":"AD23*3","v":{"v":23760,"d":"23,760.00"}},null,{"$f":"AD23+AJ23","v":{"v":7920,"d":"7,920.00"}},{"$nulls":4},{"$f":"11000-AO23-AD23","v":{"v":3080,"d":"3,080.00"}},1,{"$f":"AJ23+AL23+AO23+AP23","v":{"v":3080,"d":"3,080.00"}},{"$f":"AR23*12","v":{"v":36960,"d":"36,960.00"}},{"$f":"AR23*3","v":{"v":9240,"d":"9,240.00"}},{"$f":"AR23*2","v":{"v":6160,"d":"6,160.00"}},{"$f":"AR23*3","v":{"v":9240,"d":"9,240.00"}},{"$f":"AR23*3","v":{"v":9240,"d":"9,240.00"}},1,{"v":118800,"d":"118,800.00"},{"$nulls":14},{"v":1,"d":"1.00"},{"v":173800,"d":"173,800.00"},{"$nulls":4},{"$f":"BN23","v":1},{"$f":"ROUND(BO23,2)","v":{"v":173800,"d":"173,800.00"}}]
[{"$nulls":16},"อบต.หนองปรือ ผลรวม","พนัสนิคม","ชลบุรี",{"$nulls":9},{"$f":"SUBTOTAL(9,AC23:AC23)","v":1},{"$f":"SUBTOTAL(9,AD23:AD23)","v":{"v":7920,"d":"7,920.00"}},{"$f":"SUBTOTAL(9,AE23:AE23)","v":{"v":95040,"d":"95,040.00"}},{"$f":"SUBTOTAL(9,AF23:AF23)","v":{"v":23760,"d":"23,760.00"}},{"$f":"SUBTOTAL(9,AG23:AG23)","v":{"v":15840,"d":"15,840.00"}},{"$nulls":9},{"$f":"SUBTOTAL(9,AQ23:AQ23)","v":1},{"$f":"SUBTOTAL(9,AR23:AR23)","v":{"v":3080,"d":"3,080.00"}},{"$f":"SUBTOTAL(9,AS23:AS23)","v":{"v":36960,"d":"36,960.00"}},{"$f":"SUBTOTAL(9,AT23:AT23)","v":{"v":9240,"d":"9,240.00"}},{"$f":"SUBTOTAL(9,AU23:AU23)","v":{"v":6160,"d":"6,160.00"}},null,null,{"$f":"SUBTOTAL(9,AX23:AX23)","v":1},{"v":118800,"d":"118,800.00"},0,0,0,0,0,0,0,0,0,0,0,0,{"$nulls":3},{"v":173800,"d":"173,800.00"},{"$nulls":4},{"$f":"SUBTOTAL(9,BT23:BT23)","v":1},{"$f":"SUBTOTAL(9,BU23:BU23)","v":{"v":173800,"d":"173,800.00"}}]
[{"$nulls":18},"ชลบุรี ผลรวม",{"$nulls":9},{"$f":"SUBTOTAL(9,AC21:AC23)","v":2},{"$f":"SUBTOTAL(9,AD21:AD23)","v":{"v":14861,"d":"14,861.00"}},{"$f":"SUBTOTAL(9,AE21:AE23)","v":{"v":178332,"d":"178,332.00"}},{"$f":"SUBTOTAL(9,AF21:AF23)","v":{"v":44583,"d":"44,583.00"}},{"$f":"SUBTOTAL(9,AG21:AG23)","v":{"v":29722,"d":"29,722.00"}},{"$nulls":9},{"$f":"SUBTOTAL(9,AQ21:AQ23)","v":2},{"$f":"SUBTOTAL(9,AR21:AR23)","v":{"v":7139,"d":"7,139.00"}},{"$f":"SUBTOTAL(9,AS21:AS23)","v":{"v":85668,"d":"85,668.00"}},{"$f":"SUBTOTAL(9,AT21:AT23)","v":{"v":21417,"d":"21,417.00"}},{"$f":"SUBTOTAL(9,AU21:AU23)","v":{"v":14278,"d":"14,278.00"}},null,null,{"$f":"SUBTOTAL(9,AX21:AX23)","v":2},{"v":222915,"d":"222,915.00"},0,0,0,0,0,0,0,0,0,0,0,0,{"$nulls":3},{"v":332915,"d":"332,915.00"},{"$nulls":4},{"$f":"SUBTOTAL(9,BT21:BT23)","v":2},{"$f":"SUBTOTAL(9,BU21:BU23)","v":{"v":332915,"d":"332,915.00"}}]
[1,"นาง","หทัยทิพย์","จินะ",{"$nulls":4},"2568-10-01",{"$nulls":7},"อบต.ตับเต่า","เทิง","เชียงราย",{"$nulls":9},1,{"v":10432.8,"d":"10,432.80"},{"$f":"AD26*12","v":{"v":125193.59999999999,"d":"125,193.60"}},{"$f":"AD26*3","v":{"v":31298.399999999998,"d":"31,298.40"}},{"$f":"AD26*2","v":{"v":20865.6,"d":"20,865.60"}},{"$f":"AD26*3","v":{"v":31298.399999999998,"d":"31,298.40"}},{"$f":"AD26*3","v":{"v":31298.399999999998,"d":"31,298.40"}},null,{"$f":"AD26+AJ26","v":{"v":10432.8,"d":"10,432.80"}},{"$nulls":3},0,{"$f":"11000-AO26-AD26","v":{"v":567.2000000000007,"d":"567.20"}},{"$f":"+AC26","v":1},{"$f":"AJ26+AL26+AO26+AP26","v":{"v":567.2000000000007,"d":"567.20"}},{"$f":"AR26*12","v":{"v":6806.400000000009,"d":"6,806.40"}},{"$f":"AR26*3","v":{"v":1701.6000000000022,"d":"1,701.60"}},{"$f":"AR26*2","v":{"v":1134.4000000000015,"d":"1,134.40"}},{"$f":"AR26*3","v":{"v":1701.6000000000022,"d":"1,701.60"}},{"$f":"AR26*3","v":{"v":1701.6000000000022,"d":"1,701.60"}},1,{"v":156492,"d":"156,492.00"},{"$nulls":14},{"v":1,"d":"1.00"},{"v":211492,"d":"211,492.00"},{"$nulls":4},{"$f":"BN26","v":1},{"$f":"ROUND(BO26,2)","v":{"v":211492,"d":"211,492.00"}}]
[{"$nulls":16},"อบต.ตับเต่า ผลรวม","เทิง","เชียงราย",{"$nulls":9},{"$f":"SUBTOTAL(9,AC26:AC26)","v":1},{"$f":"SUBTOTAL(9,AD26:AD26)","v":{"v":10432.8,"d":"10,432.80"}},{"$f":"SUBTOTAL(9,AE26:AE26)","v":{"v":125193.59999999999,"d":"125,193.60"}},{"$f":"SUBTOTAL(9,AF26:AF26)","v":{"v":31298.399999999998,"d":"31,298.40"}},{"$f":"SUBTOTAL(9,AG26:AG26)","v":{"v":20865.6,"d":"20,865.60"}},{"$nulls":9},{"$f":"SUBTOTAL(9,AQ26:AQ26)","v":1},{"$f":"SUBTOTAL(9,AR26:AR26)","v":{"v":567.2000000000007,"d":"567.20"}},{"$f":"SUBTOTAL(9,AS26:AS26)","v":{"v":6806.400000000009,"d":"6,806.40"}},{"$f":"SUBTOTAL(9,AT26:AT26)","v":{"v":1701.6000000000022,"d":"1,701.60"}},{"$f":"SUBTOTAL(9,AU26:AU26)","v":{"v":1134.4000000000015,"d":"1,134.40"}},null,null,{"$f":"SUBTOTAL(9,AX26:AX26)","v":1},{"v":156492,"d":"156,492.00"},0,0,0,0,0,0,0,0,0,0,0,0,{"$nulls":3},{"v":211492,"d":"211,492.00"},{"$nulls":4},{"$f":"SUBTOTAL(9,BT26:BT26)","v":1},{"$f":"SUBTOTAL(9,BU26:BU26)","v":{"v":211492,"d":"211,492.00"}}]
[{"$nulls":18},"เชียงราย ผลรวม",{"$nulls":9},{"$f":"SUBTOTAL(9,AC26:AC26)","v":1},{"$f":"SUBTOTAL(9,AD26:AD26)","v":{"v":10432.8,"d":"10,432.80"}},{"$f":"SUBTOTAL(9,AE26:AE26)","v":{"v":125193.59999999999,"d":"125,193.60"}},{"$f":"SUBTOTAL(9,AF26:AF26)","v":{"v":31298.399999999998,"d":"31,298.40"}},{"$f":"SUBTOTAL(9,AG26:AG26)","v":{"v":20865.6,"d":"20,865.60"}},{"$nulls":9},{"$f":"SUBTOTAL(9,AQ26:AQ26)","v":1},{"$f":"SUBTOTAL(9,AR26:AR26)","v":{"v":567.2000000000007,"d":"567.20"}},{"$f":"SUBTOTAL(9,AS26:AS26)","v":{"v":6806.400000000009,"d":"6,806.40"}},{"$f":"SUBTOTAL(9,AT26:AT26)","v":{"v":1701.6000000000022,"d":"1,701.60"}},{"$f":"SUBTOTAL(9,AU26:AU26)","v":{"v":1134.4000000000015,"d":"1,134.40"}},null,null,{"$f":"SUBTOTAL(9,AX26:AX26)","v":1},{"v":156492,"d":"156,492.00"},0,0,0,0,0,0,0,0,0,0,0,0,{"$nulls":3},{"v":211492,"d":"211,492.00"},{"$nulls":4},{"$f":"SUBTOTAL(9,BT26:BT26)","v":1},{"$f":"SUBTOTAL(9,BU26:BU26)","v":{"v":211492,"d":"211,492.00"}}]
[1,"นาง","รวงทอง","ศรีหน่อ",3110401148665,{"$nulls":3},"2568-10-01",{"$nulls":7},"อบต.แม่คะ","ฝาง","เชียงใหม่",null,"ครู",{"$nulls":9},{"$f":"AD29*12","v":0},{"$f":"AD29*3","v":0},{"$f":"AD29*2","v":0},{"$f":"AD29*3","v":0},{"$f":"AD29*3","v":0},null,{"$f":"AD29+AJ29","v":0},{"$nulls":6},{"$f":"AJ29+AL29+AO29+AP29","v":0},{"$f":"AR29*12","v":0},{"$f":"AR29*3","v":0},{"$f":"AR29*2","v":0},{"$f":"AR29*3","v":0},{"$f":"AR29*3","v":0},1,{"$f":"137085-133497","v":{"v":3588,"d":"3,588.00"}},{"$nulls":14},{"v":1,"d":"1.00"},{"v":3588,"d":"3,588.00"},{"$nulls":4},{"$f":"BN29","v":1},{"$f":"ROUND(BO29,2)","v":{"v":3588,"d":"3,588.00"}},{"$nulls":18},"ตกเบิกดำรงชีพ และต้องเปลี่ยน บำนาญเป็นยอดใหม่เป็น 8,489 บาท (เดิม 8,013.20)"]
[{"$nulls":16},"อบต.แม่คะ ผลรวม","ฝาง","เชียงใหม่",{"$nulls":9},{"$f":"SUBTOTAL(9,AC29:AC29)","v":0},{"$f":"SUBTOTAL(9,AD29:AD29)","v":0},{"$f":"SUBTOTAL(9,AE29:AE29)","v":0},{"$f":"SUBTOTAL(9,AF29:AF29)","v":0},{"$f":"SUBTOTAL(9,AG29:AG29)","v":0},{"$nulls":9},{"$f":"SUBTOTAL(9,AQ29:AQ29)","v":0},{"$f":"SUBTOTAL(9,AR29:AR29)","v":0},{"$f":"SUBTOTAL(9,AS29:AS29)","v":0},{"$f":"SUBTOTAL(9,AT29:AT29)","v":0},{"$f":"SUBTOTAL(9,AU29:AU29)","v":0},null,null,{"$f":"SUBTOTAL(9,AX29:AX29)","v":1},{"v":3588,"d":"3,588.00"},0,0,0,0,0,0,0,0,0,0,0,0,{"$nulls":3},{"v":3588,"d":"3,588.00"},{"$nulls":4},{"$f":"SUBTOTAL(9,BT29:BT29)","v":1},{"$f":"SUBTOTAL(9,BU29:BU29)","v":{"v":3588,"d":"3,588.00"}}]
[{"$f":"A29+1","v":2},"นาง","ประไพ","คำหน้อย",{"$nulls":4},"2568-10-01",{"$nulls":7},"อบต.เวียง","ฝาง","เชียงใหม่",null,"ครู",{"$nulls":9},{"$f":"AD31*12","v":0},{"$f":"AD31*3","v":0},{"$f":"AD31*2","v":0},{"$f":"AD31*3","v":0},{"$f":"AD31*3","v":0},null,{"$f":"AD31+AJ31","v":0},{"$nulls":6},{"$f":"AJ31+AL31+AO31+AP31","v":0},{"$f":"AR31*12","v":0},{"$f":"AR31*3","v":0},{"$f":"AR31*2","v":0},{"$f":"AR31*3","v":0},{"$f":"AR31*3","v":0},1,{"$f":"142842-138432","v":{"v":4410,"d":"4,410.00"}},{"$nulls":14},{"v":1,"d":"1.00"},{"v":4410,"d":"4,410.00"},{"$nulls":4},{"$f":"BN31","v":1},{"$f":"ROUND(BO31,2)","v":{"v":4410,"d":"4,410.00"}}]
[{"$nulls":16},"อบต.เวียง ผลรวม","ฝาง","เชียงใหม่",{"$nulls":9},{"$f":"SUBTOTAL(9,AC31:AC31)","v":0},{"$f":"SUBTOTAL(9,AD31:AD31)","v":0},{"$f":"SUBTOTAL(9,AE31:AE31)","v":0},{"$f":"SUBTOTAL(9,AF31:AF31)","v":0},{"$f":"SUBTOTAL(9,AG31:AG31)","v":0},{"$nulls":9},{"$f":"SUBTOTAL(9,AQ31:AQ31)","v":0},{"$f":"SUBTOTAL(9,AR31:AR31)","v":0},{"$f":"SUBTOTAL(9,AS31:AS31)","v":0},{"$f":"SUBTOTAL(9,AT31:AT31)","v":0},{"$f":"SUBTOTAL(9,AU31:AU31)","v":0},null,null,{"$f":"SUBTOTAL(9,AX31:AX31)","v":1},{"v":4410,"d":"4,410.00"},0,0,0,0,0,0,0,0,0,0,0,0,{"$nulls":3},{"v":4410,"d":"4,410.00"},{"$nulls":4},{"$f":"SUBTOTAL(9,BT31:BT31)","v":1},{"$f":"SUBTOTAL(9,BU31:BU31)","v":{"v":4410,"d":"4,410.00"}}]
[{"$f":"A31+1","v":3},"นาง","อธัญญา","กล้าณรงค์เชาว์",{"$nulls":4},"2568-10-01",{"$nulls":7},"อบต.แม่นาจร","แม่แจ่ม","เชียงใหม่",null,"ครู",{"$nulls":9},{"$f":"AD33*12","v":0},{"$f":"AD33*3","v":0},{"$f":"AD33*2","v":0},{"$f":"AD33*3","v":0},{"$f":"AD33*3","v":0},null,{"$f":"AD33+AJ33","v":0},{"$nulls":6},{"$f":"AJ33+AL33+AO33+AP33","v":0},{"$f":"AR33*12","v":0},{"$f":"AR33*3","v":0},{"$f":"AR33*2","v":0},{"$f":"AR33*3","v":0},{"$f":"AR33*3","v":0},1,{"$f":"100650-98307","v":{"v":2343,"d":"2,343.00"}},{"$nulls":14},{"v":1,"d":"1.00"},{"v":2343,"d":"2,343.00"},{"$nulls":4},{"$f":"BN33","v":1},{"$f":"ROUND(BO33,2)","v":{"v":2343,"d":"2,343.00"}},{"$nulls":18},"ตกเบิกดำรงชีพ และต้องเปลี่ยน บำนาญเป็นยอดใหม่เป็น 8,489 บาท (เดิม 8,013.20)"]
[{"$nulls":16},"อบต.แม่นาจร ผลรวม","แม่แจ่ม","เชียงใหม่",{"$nulls":9},{"$f":"SUBTOTAL(9,AC33:AC33)","v":0},{"$f":"SUBTOTAL(9,AD33:AD33)","v":0},{"$f":"SUBTOTAL(9,AE33:AE33)","v":0},{"$f":"SUBTOTAL(9,AF33:AF33)","v":0},{"$f":"SUBTOTAL(9,AG33:AG33)","v":0},{"$nulls":9},{"$f":"SUBTOTAL(9,AQ33:AQ33)","v":0},{"$f":"SUBTOTAL(9,AR33:AR33)","v":0},{"$f":"SUBTOTAL(9,AS33:AS33)","v":0},{"$f":"SUBTOTAL(9,AT33:AT33)","v":0},{"$f":"SUBTOTAL(9,AU33:AU33)","v":0},null,null,{"$f":"SUBTOTAL(9,AX33:AX33)","v":1},{"v":2343,"d":"2,343.00"},0,0,0,0,0,0,0,0,0,0,0,0,{"$nulls":3},{"v":2343,"d":"2,343.00"},{"$nulls":4},{"$f":"SUBTOTAL(9,BT33:BT33)","v":1},{"$f":"SUBTOTAL(9,BU33:BU33)","v":{"v":2343,"d":"2,343.00"}}]
[{"$f":"A33+1","v":4},"นาง","พรพรรณ","แก้วนันตา",{"$nulls":4},"2568-10-01",{"$nulls":7},"อบต.ทุ่งรวงทอง","แม่วาง","เชียงใหม่",null,"ครู",{"$nulls":9},{"$f":"AD35*12","v":0},{"$f":"AD35*3","v":0},{"$f":"AD35*2","v":0},{"$f":"AD35*3","v":0},{"$f":"AD35*3","v":0},null,{"$f":"AD35+AJ35","v":0},{"$nulls":6},{"$f":"AJ35+AL35+AO35+AP35","v":0},{"$f":"AR35*12","v":0},{"$f":"AR35*3","v":0},{"$f":"AR35*2","v":0},{"$f":"AR35*3","v":0},{"$f":"AR35*3","v":0},1,{"$f":"100056-97152","v":{"v":2904,"d":"2,904.00"}},{"$nulls":14},{"v":1,"d":"1.00"},{"v":2904,"d":"2,904.00"},{"$nulls":4},{"$f":"BN35","v":1},{"$f":"ROUND(BO35,2)","v":{"v":2904,"d":"2,904.00"}},{"$nulls":18},"ตกเบิกดำรงชีพ และต้องเปลี่ยน บำนาญเป็นยอดใหม่เป็น 8,489 บาท (เดิม 8,013.20)"]
[{"$nulls":16},"อบต.ทุ่งรวงทอง ผลรวม","แม่วาง","เชียงใหม่",{"$nulls":9},{"$f":"SUBTOTAL(9,AC35:AC35)","v":0},{"$f":"SUBTOTAL(9,AD35:AD35)","v":0},{"$f":"SUBTOTAL(9,AE35:AE35)","v":0},{"$f":"SUBTOTAL(9,AF35:AF35)","v":0},{"$f":"SUBTOTAL(9,AG35:AG35)","v":0},{"$nulls":9},{"$f":"SUBTOTAL(9,AQ35:AQ35)","v":0},{"$f":"SUBTOTAL(9,AR35:AR35)","v":0},{"$f":"SUBTOTAL(9,AS35:AS35)","v":0},{"$f":"SUBTOTAL(9,AT35:AT35)","v":0},{"$f":"SUBTOTAL(9,AU35:AU35)","v":0},null,null,{"$f":"SUBTOTAL(9,AX35:AX35)","v":1},{"v":2904,"d":"2,904.00"},0,0,0,0,0,0,0,0,0,0,0,0,{"$nulls":3},{"v":2904,"d":"2,904.00"},{"$nulls":4},{"$f":"SUBTOTAL(9,BT35:BT35)","v":1},{"$f":"SUBTOTAL(9,BU35:BU35)","v":{"v":2904,"d":"2,904.00"}}]
[{"$nulls":18},"เชียงใหม่ ผลรวม",{"$nulls":9},{"$f":"SUBTOTAL(9,AC29:AC35)","v":0},{"$f":"SUBTOTAL(9,AD29:AD35)","v":0},{"$f":"SUBTOTAL(9,AE29:AE35)","v":0},{"$f":"SUBTOTAL(9,AF29:AF35)","v":0},{"$f":"SUBTOTAL(9,AG29:AG35)","v":0},{"$nulls":9},{"$f":"SUBTOTAL(9,AQ29:AQ35)","v":0},{"$f":"SUBTOTAL(9,AR29:AR35)","v":0},{"$f":"SUBTOTAL(9,AS29:AS35)","v":0},{"$f":"SUBTOTAL(9,AT29:AT35)","v":0},{"$f":"SUBTOTAL(9,AU29:AU35)","v":0},null,null,{"$f":"SUBTOTAL(9,AX29:AX35)","v":4},{"v":13245,"d":"13,245.00"},0,0,0,0,0,0,0,0,0,0,0,0,{"$nulls":3},{"v":13245,"d":"13,245.00"},{"$nulls":4},{"$f":"SUBTOTAL(9,BT29:BT35)","v":4},{"$f":"SUBTOTAL(9,BU29:BU35)","v":{"v":13245,"d":"13,245.00"}}]
[1,"นางสาว","กนกวรรณ","กาญจนเพ็ญ",{"$nulls":4},"2568-08-26",{"$nulls":7},"อบต.เขาวิเศษ","วังวิเศษ","ตรัง",null,"ครู",{"$nulls":9},{"$f":"AD38*12","v":0},{"$f":"AD38*3","v":0},{"$f":"AD38*2","v":0},{"$nulls":11},{"$f":"AR38*12","v":0},{"$f":"AR38*3","v":0},{"$f":"AR38*2","v":0},{"$nulls":14},1,{"v":264693,"d":"264,693.00"},null,null,{"v":1,"d":"1.00"},{"v":264693,"d":"264,693.00"},{"$nulls":4},{"$f":"BN38","v":1},{"$f":"ROUND(BO38,2)","v":{"v":264693,"d":"264,693.00"}},{"$nulls":11},"."]
[{"$nulls":16},"อบต.เขาวิเศษ ผลรวม","วังวิเศษ","ตรัง",{"$nulls":9},{"$f":"SUBTOTAL(9,AC38:AC38)","v":0},{"$f":"SUBTOTAL(9,AD38:AD38)","v":0},{"$f":"SUBTOTAL(9,AE38:AE38)","v":0},{"$f":"SUBTOTAL(9,AF38:AF38)","v":0},{"$f":"SUBTOTAL(9,AG38:AG38)","v":0},{"$nulls":9},{"$f":"SUBTOTAL(9,AQ38:AQ38)","v":0},{"$f":"SUBTOTAL(9,AR38:AR38)","v":0},{"$f":"SUBTOTAL(9,AS38:AS38)","v":0},{"$f":"SUBTOTAL(9,AT38:AT38)","v":0},{"$f":"SUBTOTAL(9,AU38:AU38)","v":0},null,null,{"$f":"SUBTOTAL(9,AX38:AX38)","v":0},0,0,0,0,0,0,0,0,0,0,0,1,{"v":264693,"d":"264,693.00"},{"$nulls":3},{"v":264693,"d":"264,693.00"},{"$nulls":4},{"$f":"SUBTOTAL(9,BT38:BT38)","v":1},{"$f":"SUBTOTAL(9,BU38:BU38)","v":{"v":264693,"d":"264,693.00"}}]
[{"$nulls":18},"ตรัง ผลรวม",{"$nulls":9},{"$f":"SUBTOTAL(9,AC38:AC38)","v":0},{"$f":"SUBTOTAL(9,AD38:AD38)","v":0},{"$f":"SUBTOTAL(9,AE38:AE38)","v":0},{"$f":"SUBTOTAL(9,AF38:AF38)","v":0},{"$f":"SUBTOTAL(9,AG38:AG38)","v":0},{"$nulls":9},{"$f":"SUBTOTAL(9,AQ38:AQ38)","v":0},{"$f":"SUBTOTAL(9,AR38:AR38)","v":0},{"$f":"SUBTOTAL(9,AS38:AS38)","v":0},{"$f":"SUBTOTAL(9,AT38:AT38)","v":0},{"$f":"SUBTOTAL(9,AU38:AU38)","v":0},null,null,{"$f":"SUBTOTAL(9,AX38:AX38)","v":0},0,0,0,0,0,0,0,0,0,0,0,1,{"v":264693,"d":"264,693.00"},{"$nulls":3},{"v":264693,"d":"264,693.00"},{"$nulls":4},{"$f":"SUBTOTAL(9,BT38:BT38)","v":1},{"$f":"SUBTOTAL(9,BU38:BU38)","v":{"v":264693,"d":"264,693.00"}}]
[1,"นาง","วิจิตร","ถือทอง",{"$nulls":4},"2568-10-01",{"$nulls":7},"อบต.พุ่มแก","นาแก","นครพนม",null,"ครู",{"$nulls":7},1,{"v":6373.4,"d":"6,373.40"},{"$f":"AD41*12","v":{"v":76480.79999999999,"d":"76,480.80"}},{"$f":"AD41*3","v":{"v":19120.199999999997,"d":"19,120.20"}},{"$f":"AD41*2","v":{"v":12746.8,"d":"12,746.80"}},{"$f":"AD41*3","v":{"v":19120.199999999997,"d":"19,120.20"}},{"$f":"AD41*3","v":{"v":19120.199999999997,"d":"19,120.20"}},null,{"$f":"AD41+AJ41","v":{"v":6373.4,"d":"6,373.40"}},{"$nulls":4},{"$f":"11000-AO41-AD41","v":{"v":4626.6,"d":"4,626.60"}},1,{"$f":"AJ41+AL41+AN41+AO41+AP41","v":{"v":4626.6,"d":"4,626.60"}},{"$f":"AR41*12","v":{"v":55519.200000000004,"d":"55,519.20"}},{"$f":"AR41*3","v":{"v":13879.800000000001,"d":"13,879.80"}},{"$f":"AR41*2","v":{"v":9253.2,"d":"9,253.20"}},{"$f":"AR41*3","v":{"v":13879.800000000001,"d":"13,879.80"}},{"$f":"AR41*3","v":{"v":13879.800000000001,"d":"13,879.80"}},1,{"$f":"SUM(AD41*15)","v":{"v":95601,"d":"95,601.00"}},{"$nulls":14},{"v":1,"d":"1.00"},{"v":150601,"d":"150,601.00"},{"$nulls":4},{"$f":"BN41","v":1},{"$f":"ROUND(BO41,2)","v":{"v":150601,"d":"150,601.00"}}]
[{"$nulls":16},"อบต.พุ่มแก ผลรวม","นาแก","นครพนม",{"$nulls":9},{"$f":"SUBTOTAL(9,AC41:AC41)","v":1},{"$f":"SUBTOTAL(9,AD41:AD41)","v":{"v":6373.4,"d":"6,373.40"}},{"$f":"SUBTOTAL(9,AE41:AE41)","v":{"v":76480.79999999999,"d":"76,480.80"}},{"$f":"SUBTOTAL(9,AF41:AF41)","v":{"v":19120.199999999997,"d":"19,120.20"}},{"$f":"SUBTOTAL(9,AG41:AG41)","v":{"v":12746.8,"d":"12,746.80"}},{"$nulls":9},{"$f":"SUBTOTAL(9,AQ41:AQ41)","v":1},{"$f":"SUBTOTAL(9,AR41:AR41)","v":{"v":4626.6,"d":"4,626.60"}},{"$f":"SUBTOTAL(9,AS41:AS41)","v":{"v":55519.200000000004,"d":"55,519.20"}},{"$f":"SUBTOTAL(9,AT41:AT41)","v":{"v":13879.800000000001,"d":"13,879.80"}},{"$f":"SUBTOTAL(9,AU41:AU41)","v":{"v":9253.2,"d":"9,253.20"}},null,null,{"$f":"SUBTOTAL(9,AX41:AX41)","v":1},{"v":95601,"d":"95,601.00"},0,0,0,0,0,0,0,0,0,0,0,0,{"$nulls":3},{"v":150601,"d":"150,601.00"},{"$nulls":4},{"$f":"SUBTOTAL(9,BT41:BT41)","v":1},{"$f":"SUBTOTAL(9,BU41:BU41)","v":{"v":150601,"d":"150,601.00"}}]
[{"$f":"A41+1","v":2},"นาง","ณัฎฐ์ฎาพร","เทือกขันติ",{"$nulls":4},"2568-10-01",{"$nulls":7},"อบต.หนองบ่อ","นาแก","นครพนม",null,"ครู",{"$nulls":7},1,{"v":6435,"d":"6,435.00"},{"$f":"AD43*12","v":{"v":77220,"d":"77,220.00"}},{"$f":"AD43*3","v":{"v":19305,"d":"19,305.00"}},{"$f":"AD43*2","v":{"v":12870,"d":"12,870.00"}},{"$f":"AD43*3","v":{"v":19305,"d":"19,305.00"}},{"$f":"AD43*3","v":{"v":19305,"d":"19,305.00"}},null,{"$f":"AD43+AJ43","v":{"v":6435,"d":"6,435.00"}},{"$nulls":4},{"$f":"11000-AO43-AD43","v":{"v":4565,"d":"4,565.00"}},1,{"$f":"AJ43+AL43+AN43+AO43+AP43","v":{"v":4565,"d":"4,565.00"}},{"$f":"AR43*12","v":{"v":54780,"d":"54,780.00"}},{"$f":"AR43*3","v":{"v":13695,"d":"13,695.00"}},{"$f":"AR43*2","v":{"v":9130,"d":"9,130.00"}},{"$f":"AR43*3","v":{"v":13695,"d":"13,695.00"}},{"$f":"AR43*3","v":{"v":13695,"d":"13,695.00"}},1,{"$f":"SUM(AD43*15)","v":{"v":96525,"d":"96,525.00"}},{"$nulls":14},{"v":1,"d":"1.00"},{"v":151525,"d":"151,525.00"},{"$nulls":4},{"$f":"BN43","v":1},{"$f":"ROUND(BO43,2)","v":{"v":151525,"d":"151,525.00"}}]
[{"$nulls":16},"อบต.หนองบ่อ ผลรวม","นาแก","นครพนม",{"$nulls":9},{"$f":"SUBTOTAL(9,AC43:AC43)","v":1},{"$f":"SUBTOTAL(9,AD43:AD43)","v":{"v":6435,"d":"6,435.00"}},{"$f":"SUBTOTAL(9,AE43:AE43)","v":{"v":77220,"d":"77,220.00"}},{"$f":"SUBTOTAL(9,AF43:AF43)","v":{"v":19305,"d":"19,305.00"}},{"$f":"SUBTOTAL(9,AG43:AG43)","v":{"v":12870,"d":"12,870.00"}},{"$nulls":9},{"$f":"SUBTOTAL(9,AQ43:AQ43)","v":1},{"$f":"SUBTOTAL(9,AR43:AR43)","v":{"v":4565,"d":"4,565.00"}},{"$f":"SUBTOTAL(9,AS43:AS43)","v":{"v":54780,"d":"54,780.00"}},{"$f":"SUBTOTAL(9,AT43:AT43)","v":{"v":13695,"d":"13,695.00"}},{"$f":"SUBTOTAL(9,AU43:AU43)","v":{"v":9130,"d":"9,130.00"}},null,null,{"$f":"SUBTOTAL(9,AX43:AX43)","v":1},{"v":96525,"d":"96,525.00"},0,0,0,0,0,0,0,0,0,0,0,0,{"$nulls":3},{"v":151525,"d":"151,525.00"},{"$nulls":4},{"$f":"SUBTOTAL(9,BT43:BT43)","v":1},{"$f":"SUBTOTAL(9,BU43:BU43)","v":{"v":151525,"d":"151,525.00"}}]
[{"$f":"A43+1","v":3},"นาง","ดวงใจ","แพงโสภา",{"$nulls":4},"2568-10-01",{"$nulls":7},"อบต.ดอนเตย","นาทม","นครพนม",null,"ครู",{"$nulls":7},1,{"v":10581.2,"d":"10,581.20"},{"$f":"AD45*12","v":{"v":126974.40000000001,"d":"126,974.40"}},{"$f":"AD45*3","v":{"v":31743.600000000002,"d":"31,743.60"}},{"$f":"AD45*2","v":{"v":21162.4,"d":"21,162.40"}},{"$f":"AD45*3","v":{"v":31743.600000000002,"d":"31,743.60"}},{"$f":"AD45*3","v":{"v":31743.600000000002,"d":"31,743.60"}},null,{"$f":"AD45+AJ45","v":{"v":10581.2,"d":"10,581.20"}},{"$nulls":4},{"$f":"11000-AO45-AD45","v":{"v":418.7999999999993,"d":"418.80"}},1,{"$f":"AJ45+AL45+AN45+AO45+AP45","v":{"v":418.7999999999993,"d":"418.80"}},{"$f":"AR45*12","v":{"v":5025.599999999991,"d":"5,025.60"}},{"$f":"AR45*3","v":{"v":1256.3999999999978,"d":"1,256.40"}},{"$f":"AR45*2","v":{"v":837.5999999999985,"d":"837.60"}},{"$f":"AR45*3","v":{"v":1256.3999999999978,"d":"1,256.40"}},{"$f":"AR45*3","v":{"v":1256.3999999999978,"d":"1,256.40"}},1,{"$f":"SUM(AD45*15)","v":{"v":158718,"d":"158,718.00"}},{"$nulls":14},{"v":1,"d":"1.00"},{"v":213718,"d":"213,718.00"},{"$nulls":4},{"$f":"BN45","v":1},{"$f":"ROUND(BO45,2)","v":{"v":213718,"d":"213,718.00"}}]
[{"$nulls":16},"อบต.ดอนเตย ผลรวม","นาทม","นครพนม",{"$nulls":9},{"$f":"SUBTOTAL(9,AC45:AC45)","v":1},{"$f":"SUBTOTAL(9,AD45:AD45)","v":{"v":10581.2,"d":"10,581.20"}},{"$f":"SUBTOTAL(9,AE45:AE45)","v":{"v":126974.40000000001,"d":"126,974.40"}},{"$f":"SUBTOTAL(9,AF45:AF45)","v":{"v":31743.600000000002,"d":"31,743.60"}},{"$f":"SUBTOTAL(9,AG45:AG45)","v":{"v":21162.4,"d":"21,162.40"}},{"$nulls":9},{"$f":"SUBTOTAL(9,AQ45:AQ45)","v":1},{"$f":"SUBTOTAL(9,AR45:AR45)","v":{"v":418.7999999999993,"d":"418.80"}},{"$f":"SUBTOTAL(9,AS45:AS45)","v":{"v":5025.599999999991,"d":"5,025.60"}},{"$f":"SUBTOTAL(9,AT45:AT45)","v":{"v":1256.3999999999978,"d":"1,256.40"}},{"$f":"SUBTOTAL(9,AU45:AU45)","v":{"v":837.5999999999985,"d":"837.60"}},null,null,{"$f":"SUBTOTAL(9,AX45:AX45)","v":1},{"v":158718,"d":"158,718.00"},0,0,0,0,0,0,0,0,0,0,0,0,{"$nulls":3},{"v":213718,"d":"213,718.00"},{"$nulls":4},{"$f":"SUBTOTAL(9,BT45:BT45)","v":1},{"$f":"SUBTOTAL(9,BU45:BU45)","v":{"v":213718,"d":"213,718.00"}}]
[{"$f":"A45+1","v":4},"นาง","ศรวณีย์","ออทอลาน",{"$nulls":4},"2568-10-01",{"$nulls":7},"อบต.นาขมิ้น","โพนสวรรค์","นครพนม",null,"ครู",{"$nulls":7},1,{"v":6795.8,"d":"6,795.80"},{"$f":"AD47*12","v":{"v":81549.6,"d":"81,549.60"}},{"$f":"AD47*3","v":{"v":20387.4,"d":"20,387.40"}},{"$f":"AD47*2","v":{"v":13591.6,"d":"13,591.60"}},{"$f":"AD47*3","v":{"v":20387.4,"d":"20,387.40"}},{"$f":"AD47*3","v":{"v":20387.4,"d":"20,387.40"}},null,{"$f":"AD47+AJ47","v":{"v":6795.8,"d":"6,795.80"}},{"$nulls":4},{"$f":"11000-AO47-AD47","v":{"v":4204.2,"d":"4,204.20"}},1,{"$f":"AJ47+AL47+AN47+AO47+AP47","v":{"v":4204.2,"d":"4,204.20"}},{"$f":"AR47*12","v":{"v":50450.399999999994,"d":"50,450.40"}},{"$f":"AR47*3","v":{"v":12612.599999999999,"d":"12,612.60"}},{"$f":"AR47*2","v":{"v":8408.4,"d":"8,408.40"}},{"$f":"AR47*3","v":{"v":12612.599999999999,"d":"12,612.60"}},{"$f":"AR47*3","v":{"v":12612.599999999999,"d":"12,612.60"}},1,{"$f":"SUM(AD47*15)","v":{"v":101937,"d":"101,937.00"}},{"$nulls":14},{"v":1,"d":"1.00"},{"v":156937,"d":"156,937.00"},{"$nulls":4},{"$f":"BN47","v":1},{"$f":"ROUND(BO47,2)","v":{"v":156937,"d":"156,937.00"}}]
[{"$nulls":16},"อบต.นาขมิ้น ผลรวม","โพนสวรรค์","นครพนม",{"$nulls":9},{"$f":"SUBTOTAL(9,AC47:AC47)","v":1},{"$f":"SUBTOTAL(9,AD47:AD47)","v":{"v":6795.8,"d":"6,795.80"}},{"$f":"SUBTOTAL(9,AE47:AE47)","v":{"v":81549.6,"d":"81,549.60"}},{"$f":"SUBTOTAL(9,AF47:AF47)","v":{"v":20387.4,"d":"20,387.40"}},{"$f":"SUBTOTAL(9,AG47:AG47)","v":{"v":13591.6,"d":"13,591.60"}},{"$nulls":9},{"$f":"SUBTOTAL(9,AQ47:AQ47)","v":1},{"$f":"SUBTOTAL(9,AR47:AR47)","v":{"v":4204.2,"d":"4,204.20"}},{"$f":"SUBTOTAL(9,AS47:AS47)","v":{"v":50450.399999999994,"d":"50,450.40"}},{"$f":"SUBTOTAL(9,AT47:AT47)","v":{"v":12612.599999999999,"d":"12,612.60"}},{"$f":"SUBTOTAL(9,AU47:AU47)","v":{"v":8408.4,"d":"8,408.40"}},null,null,{"$f":"SUBTOTAL(9,AX47:AX47)","v":1},{"v":101937,"d":"101,937.00"},0,0,0,0,0,0,0,0,0,0,0,0,{"$nulls":3},{"v":156937,"d":"156,937.00"},{"$nulls":4},{"$f":"SUBTOTAL(9,BT47:BT47)","v":1},{"$f":"SUBTOTAL(9,BU47:BU47)","v":{"v":156937,"d":"156,937.00"}}]
[{"$f":"A120+1","v":3},"นาง","สมปอง","ไชยรัตน์",{"$nulls":4},"2568-10-01",{"$nulls":7},"อบต.คำเตย","เมืองนครพนม","นครพนม",null,"ครู",{"$nulls":7},1,{"v":9926,"d":"9,926.00"},{"$f":"AD49*12","v":{"v":119112,"d":"119,112.00"}},{"$f":"AD49*3","v":{"v":29778,"d":"29,778.00"}},{"$f":"AD49*2","v":{"v":19852,"d":"19,852.00"}},{"$f":"AD49*3","v":{"v":29778,"d":"29,778.00"}},{"$f":"AD49*3","v":{"v":29778,"d":"29,778.00"}},null,{"$f":"AD49+AJ49","v":{"v":9926,"d":"9,926.00"}},{"$nulls":4},{"$f":"11000-AO49-AD49","v":{"v":1074,"d":"1,074.00"}},1,{"$f":"AJ49+AL49+AN49+AO49+AP49","v":{"v":1074,"d":"1,074.00"}},{"$f":"AR49*12","v":{"v":12888,"d":"12,888.00"}},{"$f":"AR49*3","v":{"v":3222,"d":"3,222.00"}},{"$f":"AR49*2","v":{"v":2148,"d":"2,148.00"}},{"$f":"AR49*3","v":{"v":3222,"d":"3,222.00"}},{"$f":"AR49*3","v":{"v":3222,"d":"3,222.00"}},1,{"$f":"SUM(AD49*15)","v":{"v":148890,"d":"148,890.00"}},{"$nulls":14},{"v":1,"d":"1.00"},{"v":203890,"d":"203,890.00"},{"$nulls":4},{"$f":"BN49","v":1},{"$f":"ROUND(BO49,2)","v":{"v":203890,"d":"203,890.00"}}]
[{"$nulls":16},"อบต.คำเตย ผลรวม","เมืองนครพนม","นครพนม",{"$nulls":9},{"$f":"SUBTOTAL(9,AC49:AC49)","v":1},{"$f":"SUBTOTAL(9,AD49:AD49)","v":{"v":9926,"d":"9,926.00"}},{"$f":"SUBTOTAL(9,AE49:AE49)","v":{"v":119112,"d":"119,112.00"}},{"$f":"SUBTOTAL(9,AF49:AF49)","v":{"v":29778,"d":"29,778.00"}},{"$f":"SUBTOTAL(9,AG49:AG49)","v":{"v":19852,"d":"19,852.00"}},{"$nulls":9},{"$f":"SUBTOTAL(9,AQ49:AQ49)","v":1},{"$f":"SUBTOTAL(9,AR49:AR49)","v":{"v":1074,"d":"1,074.00"}},{"$f":"SUBTOTAL(9,AS49:AS49)","v":{"v":12888,"d":"12,888.00"}},{"$f":"SUBTOTAL(9,AT49:AT49)","v":{"v":3222,"d":"3,222.00"}},{"$f":"SUBTOTAL(9,AU49:AU49)","v":{"v":2148,"d":"2,148.00"}},null,null,{"$f":"SUBTOTAL(9,AX49:AX49)","v":1},{"v":148890,"d":"148,890.00"},0,0,0,0,0,0,0,0,0,0,0,0,{"$nulls":3},{"v":203890,"d":"203,890.00"},{"$nulls":4},{"$f":"SUBTOTAL(9,BT49:BT49)","v":1},{"$f":"SUBTOTAL(9,BU49:BU49)","v":{"v":203890,"d":"203,890.00"}}]
[{"$f":"A47+1","v":5},"นาย","ธนาคาร","ชนะค้า",{"$nulls":4},"2568-10-01",{"$nulls":7},"อบต.บ้านกลาง","เมืองนครพนม","นครพนม",null,"ครู",{"$nulls":7},1,{"v":7363.2,"d":"7,363.20"},{"$f":"AD51*12","v":{"v":88358.4,"d":"88,358.40"}},{"$f":"AD51*3","v":{"v":22089.6,"d":"22,089.60"}},{"$f":"AD51*2","v":{"v":14726.4,"d":"14,726.40"}},{"$f":"AD51*3","v":{"v":22089.6,"d":"22,089.60"}},{"$f":"AD51*3","v":{"v":22089.6,"d":"22,089.60"}},null,{"$f":"AD51+AJ51","v":{"v":7363.2,"d":"7,363.20"}},{"$nulls":4},{"$f":"11000-AO51-AD51","v":{"v":3636.8,"d":"3,636.80"}},1,{"$f":"AJ51+AL51+AN51+AO51+AP51","v":{"v":3636.8,"d":"3,636.80"}},{"$f":"AR51*12","v":{"v":43641.600000000006,"d":"43,641.60"}},{"$f":"AR51*3","v":{"v":10910.400000000001,"d":"10,910.40"}},{"$f":"AR51*2","v":{"v":7273.6,"d":"7,273.60"}},{"$f":"AR51*3","v":{"v":10910.400000000001,"d":"10,910.40"}},{"$f":"AR51*3","v":{"v":10910.400000000001,"d":"10,910.40"}},1,{"$f":"SUM(AD51*15)","v":{"v":110448,"d":"110,448.00"}},{"$nulls":14},{"v":1,"d":"1.00"},{"v":165448,"d":"165,448.00"},{"$nulls":4},{"$f":"BN51","v":1},{"$f":"ROUND(BO51,2)","v":{"v":165448,"d":"165,448.00"}}]
[{"$nulls":16},"อบต.บ้านกลาง ผลรวม","เมืองนครพนม","นครพนม",{"$nulls":9},{"$f":"SUBTOTAL(9,AC51:AC51)","v":1},{"$f":"SUBTOTAL(9,AD51:AD51)","v":{"v":7363.2,"d":"7,363.20"}},{"$f":"SUBTOTAL(9,AE51:AE51)","v":{"v":88358.4,"d":"88,358.40"}},{"$f":"SUBTOTAL(9,AF51:AF51)","v":{"v":22089.6,"d":"22,089.60"}},{"$f":"SUBTOTAL(9,AG51:AG51)","v":{"v":14726.4,"d":"14,726.40"}},{"$nulls":9},{"$f":"SUBTOTAL(9,AQ51:AQ51)","v":1},{"$f":"SUBTOTAL(9,AR51:AR51)","v":{"v":3636.8,"d":"3,636.80"}},{"$f":"SUBTOTAL(9,AS51:AS51)","v":{"v":43641.600000000006,"d":"43,641.60"}},{"$f":"SUBTOTAL(9,AT51:AT51)","v":{"v":10910.400000000001,"d":"10,910.40"}},{"$f":"SUBTOTAL(9,AU51:AU51)","v":{"v":7273.6,"d":"7,273.60"}},null,null,{"$f":"SUBTOTAL(9,AX51:AX51)","v":1},{"v":110448,"d":"110,448.00"},0,0,0,0,0,0,0,0,0,0,0,0,{"$nulls":3},{"v":165448,"d":"165,448.00"},{"$nulls":4},{"$f":"SUBTOTAL(9,BT51:BT51)","v":1},{"$f":"SUBTOTAL(9,BU51:BU51)","v":{"v":165448,"d":"165,448.00"}}]
[{"$nulls":18},"นครพนม ผลรวม",{"$nulls":9},{"$f":"SUBTOTAL(9,AC41:AC51)","v":6},{"$f":"SUBTOTAL(9,AD41:AD51)","v":{"v":47474.59999999999,"d":"47,474.60"}},{"$f":"SUBTOTAL(9,AE41:AE51)","v":{"v":569695.2000000001,"d":"569,695.20"}},{"$f":"SUBTOTAL(9,AF41:AF51)","v":{"v":142423.80000000002,"d":"142,423.80"}},{"$f":"SUBTOTAL(9,AG41:AG51)","v":{"v":94949.19999999998,"d":"94,949.20"}},{"$nulls":9},{"$f":"SUBTOTAL(9,AQ41:AQ51)","v":6},{"$f":"SUBTOTAL(9,AR41:AR51)","v":{"v":18525.399999999998,"d":"18,525.40"}},{"$f":"SUBTOTAL(9,AS41:AS51)","v":{"v":222304.80000000002,"d":"222,304.80"}},{"$f":"SUBTOTAL(9,AT41:AT51)","v":{"v":55576.200000000004,"d":"55,576.20"}},{"$f":"SUBTOTAL(9,AU41:AU51)","v":{"v":37050.799999999996,"d":"37,050.80"}},null,null,{"$f":"SUBTOTAL(9,AX41:AX51)","v":6},{"v":712119,"d":"712,119.00"},0,0,0,0,0,0,0,0,0,0,0,0,{"$nulls":3},{"v":1042119,"d":"1,042,119.00"},{"$nulls":4},{"$f":"SUBTOTAL(9,BT41:BT51)","v":6},{"$f":"SUBTOTAL(9,BU41:BU51)","v":{"v":1042119,"d":"1,042,119.00"}}]
[1,"น.ส.","ธิติมา","กิตติรงค์","3309800355415",{"$nulls":3},"2568-11-06",{"$nulls":7},"อบต.บ้านเก่า","ด่านขุนทด","นครราชสีมา",null,"ครู",null,"2568-10-03",{"$nulls":7},{"$f":"AD54*12","v":0},{"$f":"AD54*3","v":0},{"$f":"AD54*2","v":0},{"$f":"AD54*3","v":0},{"$f":"AD54*3","v":0},null,{"$f":"AD54+AJ54","v":0},{"$nulls":3},0,0,null,{"$f":"AJ54+AL54+AO54+AP54","v":0},{"$f":"AR54*12","v":0},{"$f":"AR54*3","v":0},{"$f":"AR54*2","v":0},{"$f":"AR54*3","v":0},{"$f":"AR54*3","v":0},{"$nulls":8},1,{"v":495820,"d":"495,820.00"},{"$nulls":6},{"v":1,"d":"1.00"},{"v":495820,"d":"495,820.00"},{"$nulls":4},{"$f":"BN54","v":1},{"$f":"ROUND(BO54,2)","v":{"v":495820,"d":"495,820.00"}}]
[{"$nulls":16},"อบต.บ้านเก่า ผลรวม","ด่านขุนทด","นครราชสีมา",{"$nulls":9},{"$f":"SUBTOTAL(9,AC54:AC54)","v":0},{"$f":"SUBTOTAL(9,AD54:AD54)","v":0},{"$f":"SUBTOTAL(9,AE54:AE54)","v":0},{"$f":"SUBTOTAL(9,AF54:AF54)","v":0},{"$f":"SUBTOTAL(9,AG54:AG54)","v":0},{"$nulls":9},{"$f":"SUBTOTAL(9,AQ54:AQ54)","v":0},{"$f":"SUBTOTAL(9,AR54:AR54)","v":0},{"$f":"SUBTOTAL(9,AS54:AS54)","v":0},{"$f":"SUBTOTAL(9,AT54:AT54)","v":0},{"$f":"SUBTOTAL(9,AU54:AU54)","v":0},null,null,{"$f":"SUBTOTAL(9,AX54:AX54)","v":0},0,0,0,0,0,0,0,1,{"v":495820,"d":"495,820.00"},0,0,0,0,{"$nulls":3},{"v":495820,"d":"495,820.00"},{"$nulls":4},{"$f":"SUBTOTAL(9,BT54:BT54)","v":1},{"$f":"SUBTOTAL(9,BU54:BU54)","v":{"v":495820,"d":"495,820.00"}}]
[{"$f":"A54+1","v":2},"นาง","รำพรวน","วันวาน","3401400204284",{"$nulls":3},"2568-10-01",{"$nulls":7},"อบต.โคกกระเบื้อง","บ้านเหล่อม","นครราชสีมา",null,"ครู",{"$nulls":7},1,{"v":6938.8,"d":"6,938.80"},{"$f":"AD56*12","v":{"v":83265.6,"d":"83,265.60"}},{"$f":"AD56*3","v":{"v":20816.4,"d":"20,816.40"}},{"$f":"AD56*2","v":{"v":13877.6,"d":"13,877.60"}},{"$f":"AD56*3","v":{"v":20816.4,"d":"20,816.40"}},{"$f":"AD56*3","v":{"v":20816.4,"d":"20,816.40"}},null,0,{"$nulls":3},{"$f":"10000-AD56","v":{"v":3061.2,"d":"3,061.20"}},{"$f":"11000-AO56-AD56","v":{"v":1000,"d":"1,000.00"}},1,{"$f":"AJ56+AL56+AO56+AP56","v":{"v":4061.2,"d":"4,061.20"}},{"$f":"AR56*12","v":{"v":48734.399999999994,"d":"48,734.40"}},{"$f":"AR56*3","v":{"v":12183.599999999999,"d":"12,183.60"}},{"$f":"AR56*2","v":{"v":8122.4,"d":"8,122.40"}},{"$f":"AR56*3","v":{"v":12183.599999999999,"d":"12,183.60"}},{"$f":"AR56*3","v":{"v":12183.599999999999,"d":"12,183.60"}},1,{"v":104082,"d":"104,082.00"},{"$nulls":14},{"v":1,"d":"1.00"},{"v":159082,"d":"159,082.00"},{"$nulls":4},{"$f":"BN56","v":1},{"$f":"ROUND(BO56,2)","v":{"v":159082,"d":"159,082.00"}}]
[{"$nulls":16},"อบต.โคกกระเบื้อง ผลรวม","บ้านเหล่อม","นครราชสีมา",{"$nulls":9},{"$f":"SUBTOTAL(9,AC56:AC56)","v":1},{"$f":"SUBTOTAL(9,AD56:AD56)","v":{"v":6938.8,"d":"6,938.80"}},{"$f":"SUBTOTAL(9,AE56:AE56)","v":{"v":83265.6,"d":"83,265.60"}},{"$f":"SUBTOTAL(9,AF56:AF56)","v":{"v":20816.4,"d":"20,816.40"}},{"$f":"SUBTOTAL(9,AG56:AG56)","v":{"v":13877.6,"d":"13,877.60"}},{"$nulls":9},{"$f":"SUBTOTAL(9,AQ56:AQ56)","v":1},{"$f":"SUBTOTAL(9,AR56:AR56)","v":{"v":4061.2,"d":"4,061.20"}},{"$f":"SUBTOTAL(9,AS56:AS56)","v":{"v":48734.399999999994,"d":"48,734.40"}},{"$f":"SUBTOTAL(9,AT56:AT56)","v":{"v":12183.599999999999,"d":"12,183.60"}},{"$f":"SUBTOTAL(9,AU56:AU56)","v":{"v":8122.4,"d":"8,122.40"}},null,null,{"$f":"SUBTOTAL(9,AX56:AX56)","v":1},{"v":104082,"d":"104,082.00"},0,0,0,0,0,0,0,0,0,0,0,0,{"$nulls":3},{"v":159082,"d":"159,082.00"},{"$nulls":4},{"$f":"SUBTOTAL(9,BT56:BT56)","v":1},{"$f":"SUBTOTAL(9,BU56:BU56)","v":{"v":159082,"d":"159,082.00"}}]
[{"$nulls":18},"นครราชสีมา ผลรวม",{"$nulls":9},{"$f":"SUBTOTAL(9,AC54:AC56)","v":1},{"$f":"SUBTOTAL(9,AD54:AD56)","v":{"v":6938.8,"d":"6,938.80"}},{"$f":"SUBTOTAL(9,AE54:AE56)","v":{"v":83265.6,"d":"83,265.60"}},{"$f":"SUBTOTAL(9,AF54:AF56)","v":{"v":20816.4,"d":"20,816.40"}},{"$f":"SUBTOTAL(9,AG54:AG56)","v":{"v":13877.6,"d":"13,877.60"}},{"$nulls":9},{"$f":"SUBTOTAL(9,AQ54:AQ56)","v":1},{"$f":"SUBTOTAL(9,AR54:AR56)","v":{"v":4061.2,"d":"4,061.20"}},{"$f":"SUBTOTAL(9,AS54:AS56)","v":{"v":48734.399999999994,"d":"48,734.40"}},{"$f":"SUBTOTAL(9,AT54:AT56)","v":{"v":12183.599999999999,"d":"12,183.60"}},{"$f":"SUBTOTAL(9,AU54:AU56)","v":{"v":8122.4,"d":"8,122.40"}},null,null,{"$f":"SUBTOTAL(9,AX54:AX56)","v":1},{"v":104082,"d":"104,082.00"},0,0,0,0,0,0,1,{"v":495820,"d":"495,820.00"},0,0,0,0,{"$nulls":3},{"v":654902,"d":"654,902.00"},{"$nulls":4},{"$f":"SUBTOTAL(9,BT54:BT56)","v":2},{"$f":"SUBTOTAL(9,BU54:BU56)","v":{"v":654902,"d":"654,902.00"}}]
[1,"นาง","นิพล","พรหมทอง",{"$nulls":4},"2568-10-01",{"$nulls":7},"อบต.เคร็ง","ชะอวด","นครศรีธรรมราช",{"$nulls":9},1,{"v":8330.4,"d":"8,330.40"},{"$f":"AD59*12","v":{"v":99964.79999999999,"d":"99,964.80"}},{"$f":"AD59*3","v":{"v":24991.199999999997,"d":"24,991.20"}},{"$f":"AD59*2","v":{"v":16660.8,"d":"16,660.80"}},{"$f":"AD59*3","v":{"v":24991.199999999997,"d":"24,991.20"}},{"$f":"AD59*3","v":{"v":24991.199999999997,"d":"24,991.20"}},null,{"$f":"AD59+AJ59","v":{"v":8330.4,"d":"8,330.40"}},{"$nulls":4},{"$f":"11000-AO59-AD59","v":{"v":2669.6000000000004,"d":"2,669.60"}},1,{"$f":"AJ59+AL59+AN59+AO59+AP59","v":{"v":2669.6000000000004,"d":"2,669.60"}},{"$f":"AR59*12","v":{"v":32035.200000000004,"d":"32,035.20"}},{"$f":"AR59*3","v":{"v":8008.800000000001,"d":"8,008.80"}},{"$f":"AR59*2","v":{"v":5339.200000000001,"d":"5,339.20"}},{"$f":"AR59*3","v":{"v":8008.800000000001,"d":"8,008.80"}},{"$f":"AR59*3","v":{"v":8008.800000000001,"d":"8,008.80"}},1,{"v":124956,"d":"124,956.00"},{"$nulls":14},{"v":1,"d":"1.00"},{"v":179956,"d":"179,956.00"},{"$nulls":4},{"$f":"BN59","v":1},{"$f":"ROUND(BO59,2)","v":{"v":179956,"d":"179,956.00"}}]
[{"$nulls":16},"อบต.เคร็ง ผลรวม","ชะอวด","นครศรีธรรมราช",{"$nulls":9},{"$f":"SUBTOTAL(9,AC59:AC59)","v":1},{"$f":"SUBTOTAL(9,AD59:AD59)","v":{"v":8330.4,"d":"8,330.40"}},{"$f":"SUBTOTAL(9,AE59:AE59)","v":{"v":99964.79999999999,"d":"99,964.80"}},{"$f":"SUBTOTAL(9,AF59:AF59)","v":{"v":24991.199999999997,"d":"24,991.20"}},{"$f":"SUBTOTAL(9,AG59:AG59)","v":{"v":16660.8,"d":"16,660.80"}},{"$nulls":9},{"$f":"SUBTOTAL(9,AQ59:AQ59)","v":1},{"$f":"SUBTOTAL(9,AR59:AR59)","v":{"v":2669.6000000000004,"d":"2,669.60"}},{"$f":"SUBTOTAL(9,AS59:AS59)","v":{"v":32035.200000000004,"d":"32,035.20"}},{"$f":"SUBTOTAL(9,AT59:AT59)","v":{"v":8008.800000000001,"d":"8,008.80"}},{"$f":"SUBTOTAL(9,AU59:AU59)","v":{"v":5339.200000000001,"d":"5,339.20"}},null,null,{"$f":"SUBTOTAL(9,AX59:AX59)","v":1},{"v":124956,"d":"124,956.00"},0,0,0,0,0,0,0,0,0,0,0,0,{"$nulls":3},{"v":179956,"d":"179,956.00"},{"$nulls":4},{"$f":"SUBTOTAL(9,BT59:BT59)","v":1},{"$f":"SUBTOTAL(9,BU59:BU59)","v":{"v":179956,"d":"179,956.00"}}]
[{"$f":"A59+1","v":2},"นาง","บำเพ็ญ","บุตรทอง",{"$nulls":4},"2568-10-01",{"$nulls":7},"อบต.ท่าซอม","หัวไทร","นครศรีธรรมราช",{"$nulls":9},1,{"v":9274.2,"d":"9,274.20"},{"$f":"AD61*12","v":{"v":111290.40000000001,"d":"111,290.40"}},{"$f":"AD61*3","v":{"v":27822.600000000002,"d":"27,822.60"}},{"$f":"AD61*2","v":{"v":18548.4,"d":"18,548.40"}},{"$f":"AD61*3","v":{"v":27822.600000000002,"d":"27,822.60"}},{"$f":"AD61*3","v":{"v":27822.600000000002,"d":"27,822.60"}},null,{"$f":"AD61+AJ61","v":{"v":9274.2,"d":"9,274.20"}},{"$nulls":4},{"$f":"11000-AO61-AD61","v":{"v":1725.7999999999993,"d":"1,725.80"}},1,{"$f":"AJ61+AL61+AO61+AP61","v":{"v":1725.7999999999993,"d":"1,725.80"}},{"$f":"AR61*12","v":{"v":20709.59999999999,"d":"20,709.60"}},{"$f":"AR61*3","v":{"v":5177.399999999998,"d":"5,177.40"}},{"$f":"AR61*2","v":{"v":3451.5999999999985,"d":"3,451.60"}},{"$f":"AR61*3","v":{"v":5177.399999999998,"d":"5,177.40"}},{"$f":"AR61*3","v":{"v":5177.399999999998,"d":"5,177.40"}},1,{"v":139113,"d":"139,113.00"},{"$nulls":14},{"v":1,"d":"1.00"},{"v":194113,"d":"194,113.00"},{"$nulls":4},{"$f":"BN61","v":1},{"$f":"ROUND(BO61,2)","v":{"v":194113,"d":"194,113.00"}}]
[{"$nulls":16},"อบต.ท่าซอม ผลรวม","หัวไทร","นครศรีธรรมราช",{"$nulls":9},{"$f":"SUBTOTAL(9,AC61:AC61)","v":1},{"$f":"SUBTOTAL(9,AD61:AD61)","v":{"v":9274.2,"d":"9,274.20"}},{"$f":"SUBTOTAL(9,AE61:AE61)","v":{"v":111290.40000000001,"d":"111,290.40"}},{"$f":"SUBTOTAL(9,AF61:AF61)","v":{"v":27822.600000000002,"d":"27,822.60"}},{"$f":"SUBTOTAL(9,AG61:AG61)","v":{"v":18548.4,"d":"18,548.40"}},{"$nulls":9},{"$f":"SUBTOTAL(9,AQ61:AQ61)","v":1},{"$f":"SUBTOTAL(9,AR61:AR61)","v":{"v":1725.7999999999993,"d":"1,725.80"}},{"$f":"SUBTOTAL(9,AS61:AS61)","v":{"v":20709.59999999999,"d":"20,709.60"}},{"$f":"SUBTOTAL(9,AT61:AT61)","v":{"v":5177.399999999998,"d":"5,177.40"}},{"$f":"SUBTOTAL(9,AU61:AU61)","v":{"v":3451.5999999999985,"d":"3,451.60"}},null,null,{"$f":"SUBTOTAL(9,AX61:AX61)","v":1},{"v":139113,"d":"139,113.00"},0,0,0,0,0,0,0,0,0,0,0,0,{"$nulls":3},{"v":194113,"d":"194,113.00"},{"$nulls":4},{"$f":"SUBTOTAL(9,BT61:BT61)","v":1},{"$f":"SUBTOTAL(9,BU61:BU61)","v":{"v":194113,"d":"194,113.00"}}]
[{"$nulls":18},"นครศรีธรรมราช ผลรวม",{"$nulls":9},{"$f":"SUBTOTAL(9,AC59:AC61)","v":2},{"$f":"SUBTOTAL(9,AD59:AD61)","v":{"v":17604.6,"d":"17,604.60"}},{"$f":"SUBTOTAL(9,AE59:AE61)","v":{"v":211255.2,"d":"211,255.20"}},{"$f":"SUBTOTAL(9,AF59:AF61)","v":{"v":52813.8,"d":"52,813.80"}},{"$f":"SUBTOTAL(9,AG59:AG61)","v":{"v":35209.2,"d":"35,209.20"}},{"$nulls":9},{"$f":"SUBTOTAL(9,AQ59:AQ61)","v":2},{"$f":"SUBTOTAL(9,AR59:AR61)","v":{"v":4395.4,"d":"4,395.40"}},{"$f":"SUBTOTAL(9,AS59:AS61)","v":{"v":52744.799999999996,"d":"52,744.80"}},{"$f":"SUBTOTAL(9,AT59:AT61)","v":{"v":13186.199999999999,"d":"13,186.20"}},{"$f":"SUBTOTAL(9,AU59:AU61)","v":{"v":8790.8,"d":"8,790.80"}},null,null,{"$f":"SUBTOTAL(9,AX59:AX61)","v":2},{"v":264069,"d":"264,069.00"},0,0,0,0,0,0,0,0,0,0,0,0,{"$nulls":3},{"v":374069,"d":"374,069.00"},{"$nulls":4},{"$f":"SUBTOTAL(9,BT59:BT61)","v":2},{"$f":"SUBTOTAL(9,BU59:BU61)","v":{"v":374069,"d":"374,069.00"}}]
[1,"นาง","สุปราณี","รัตณี","3960100325382",{"$nulls":3},"2568-10-16",{"$nulls":7},"อบต.โคกเคียน","เมืองนราธิวาส","นราธิวาส",null,"ครู",{"$nulls":7},1,{"v":6050,"d":"6,050.00"},{"v":69672.58,"d":"69,672.58"},{"v":15222.58,"d":"15,222.58"},{"$f":"AD64*2","v":{"v":12100,"d":"12,100.00"}},{"$f":"AD64*3","v":{"v":18150,"d":"18,150.00"}},{"$f":"AD64*3","v":{"v":18150,"d":"18,150.00"}},null,0,{"$nulls":3},{"$f":"10000-AD64","v":{"v":3950,"d":"3,950.00"}},{"$f":"11000-AO64-AD64","v":{"v":1000,"d":"1,000.00"}},1,{"$f":"AJ64+AL64+AO64+AP64","v":{"v":4950,"d":"4,950.00"}},{"$f":"AR64*12","v":{"v":59400,"d":"59,400.00"}},{"v":12454.84,"d":"12,454.84"},{"$f":"AR64*2","v":{"v":9900,"d":"9,900.00"}},{"$f":"AR64*3","v":{"v":14850,"d":"14,850.00"}},{"$f":"AR64*3","v":{"v":14850,"d":"14,850.00"}},1,{"v":90750,"d":"90,750.00"},{"$nulls":14},{"v":1,"d":"1.00"},{"v":140427.41999999998,"d":"140,427.42"},{"$nulls":4},{"$f":"BN64","v":1},{"$f":"ROUND(BO64,2)","v":{"v":140427.42,"d":"140,427.42"}}]
[{"$nulls":16},"อบต.โคกเคียน ผลรวม","เมืองนราธิวาส","นราธิวาส",{"$nulls":9},{"$f":"SUBTOTAL(9,AC64:AC64)","v":1},{"$f":"SUBTOTAL(9,AD64:AD64)","v":{"v":6050,"d":"6,050.00"}},{"$f":"SUBTOTAL(9,AE64:AE64)","v":{"v":69672.58,"d":"69,672.58"}},{"$f":"SUBTOTAL(9,AF64:AF64)","v":{"v":15222.58,"d":"15,222.58"}},{"$f":"SUBTOTAL(9,AG64:AG64)","v":{"v":12100,"d":"12,100.00"}},{"$nulls":9},{"$f":"SUBTOTAL(9,AQ64:AQ64)","v":1},{"$f":"SUBTOTAL(9,AR64:AR64)","v":{"v":4950,"d":"4,950.00"}},{"$f":"SUBTOTAL(9,AS64:AS64)","v":{"v":59400,"d":"59,400.00"}},{"$f":"SUBTOTAL(9,AT64:AT64)","v":{"v":12454.84,"d":"12,454.84"}},{"$f":"SUBTOTAL(9,AU64:AU64)","v":{"v":9900,"d":"9,900.00"}},null,null,{"$f":"SUBTOTAL(9,AX64:AX64)","v":1},{"v":90750,"d":"90,750.00"},0,0,0,0,0,0,0,0,0,0,0,0,{"$nulls":3},{"v":140427.41999999998,"d":"140,427.42"},{"$nulls":4},{"$f":"SUBTOTAL(9,BT64:BT64)","v":1},{"$f":"SUBTOTAL(9,BU64:BU64)","v":{"v":140427.42,"d":"140,427.42"}}]
[{"$f":"A64+1","v":2},"น.ส.","ไรมะห์","สะมะแอ","3960500442335",{"$nulls":3},"2568-10-01",{"$nulls":7},"อบต.เฉลิม","ระแงะ","นราธิวาส",null,"ครู",{"$nulls":7},1,{"v":6426.2,"d":"6,426.20"},{"$f":"AD66*12","v":{"v":77114.4,"d":"77,114.40"}},{"$f":"AD66*3","v":{"v":19278.6,"d":"19,278.60"}},{"$f":"AD66*2","v":{"v":12852.4,"d":"12,852.40"}},{"$f":"AD66*3","v":{"v":19278.6,"d":"19,278.60"}},{"$f":"AD66*3","v":{"v":19278.6,"d":"19,278.60"}},null,0,{"$nulls":3},{"$f":"10000-AD66","v":{"v":3573.8,"d":"3,573.80"}},{"$f":"11000-AO66-AD66","v":{"v":1000,"d":"1,000.00"}},1,{"$f":"AJ66+AL66+AO66+AP66","v":{"v":4573.8,"d":"4,573.80"}},{"$f":"AR66*12","v":{"v":54885.600000000006,"d":"54,885.60"}},{"$f":"AR66*3","v":{"v":13721.400000000001,"d":"13,721.40"}},{"$f":"AR66*2","v":{"v":9147.6,"d":"9,147.60"}},{"$f":"AR66*3","v":{"v":13721.400000000001,"d":"13,721.40"}},{"$f":"AR66*3","v":{"v":13721.400000000001,"d":"13,721.40"}},1,{"v":96393,"d":"96,393.00"},{"$nulls":14},{"v":1,"d":"1.00"},{"v":151393,"d":"151,393.00"},{"$nulls":4},{"$f":"BN66","v":1},{"$f":"ROUND(BO66,2)","v":{"v":151393,"d":"151,393.00"}}]
[{"$nulls":16},"อบต.เฉลิม ผลรวม","ระแงะ","นราธิวาส",{"$nulls":9},{"$f":"SUBTOTAL(9,AC66:AC66)","v":1},{"$f":"SUBTOTAL(9,AD66:AD66)","v":{"v":6426.2,"d":"6,426.20"}},{"$f":"SUBTOTAL(9,AE66:AE66)","v":{"v":77114.4,"d":"77,114.40"}},{"$f":"SUBTOTAL(9,AF66:AF66)","v":{"v":19278.6,"d":"19,278.60"}},{"$f":"SUBTOTAL(9,AG66:AG66)","v":{"v":12852.4,"d":"12,852.40"}},{"$nulls":9},{"$f":"SUBTOTAL(9,AQ66:AQ66)","v":1},{"$f":"SUBTOTAL(9,AR66:AR66)","v":{"v":4573.8,"d":"4,573.80"}},{"$f":"SUBTOTAL(9,AS66:AS66)","v":{"v":54885.600000000006,"d":"54,885.60"}},{"$f":"SUBTOTAL(9,AT66:AT66)","v":{"v":13721.400000000001,"d":"13,721.40"}},{"$f":"SUBTOTAL(9,AU66:AU66)","v":{"v":9147.6,"d":"9,147.60"}},null,null,{"$f":"SUBTOTAL(9,AX66:AX66)","v":1},{"v":96393,"d":"96,393.00"},0,0,0,0,0,0,0,0,0,0,0,0,{"$nulls":3},{"v":151393,"d":"151,393.00"},{"$nulls":4},{"$f":"SUBTOTAL(9,BT66:BT66)","v":1},{"$f":"SUBTOTAL(9,BU66:BU66)","v":{"v":151393,"d":"151,393.00"}}]
[{"$f":"A66+1","v":3},"นาง","ปาตีเมาะ","แวมะ","3960100109868",{"$nulls":3},"2568-10-01",{"$nulls":7},"อบต.ศรีสาคร","ศรีสาคร","นราธิวาส",null,"ครู",{"$nulls":7},1,{"v":10043.6,"d":"10,043.60"},{"$f":"AD68*12","v":{"v":120523.20000000001,"d":"120,523.20"}},{"$f":"AD68*3","v":{"v":30130.800000000003,"d":"30,130.80"}},{"$f":"AD68*2","v":{"v":20087.2,"d":"20,087.20"}},{"$f":"AD68*3","v":{"v":30130.800000000003,"d":"30,130.80"}},{"$f":"AD68*3","v":{"v":30130.800000000003,"d":"30,130.80"}},null,0,{"$nulls":3},{"$f":"10000-AD68","v":{"v":-43.600000000000364,"d":"-43.60"}},{"$f":"11000-AO68-AD68","v":{"v":1000,"d":"1,000.00"}},1,{"$f":"AJ68+AL68+AO68+AP68","v":{"v":956.3999999999996,"d":"956.40"}},{"$f":"AR68*12","v":{"v":11476.799999999996,"d":"11,476.80"}},{"$f":"AR68*3","v":{"v":2869.199999999999,"d":"2,869.20"}},{"$f":"AR68*2","v":{"v":1912.7999999999993,"d":"1,912.80"}},{"$f":"AR68*3","v":{"v":2869.199999999999,"d":"2,869.20"}},{"$f":"AR68*3","v":{"v":2869.199999999999,"d":"2,869.20"}},1,{"v":150654,"d":"150,654.00"},{"$nulls":14},{"v":1,"d":"1.00"},{"v":205654,"d":"205,654.00"},{"$nulls":4},{"$f":"BN68","v":1},{"$f":"ROUND(BO68,2)","v":{"v":205654,"d":"205,654.00"}}]
[{"$nulls":16},"อบต.ศรีสาคร ผลรวม","ศรีสาคร","นราธิวาส",{"$nulls":9},{"$f":"SUBTOTAL(9,AC68:AC68)","v":1},{"$f":"SUBTOTAL(9,AD68:AD68)","v":{"v":10043.6,"d":"10,043.60"}},{"$f":"SUBTOTAL(9,AE68:AE68)","v":{"v":120523.20000000001,"d":"120,523.20"}},{"$f":"SUBTOTAL(9,AF68:AF68)","v":{"v":30130.800000000003,"d":"30,130.80"}},{"$f":"SUBTOTAL(9,AG68:AG68)","v":{"v":20087.2,"d":"20,087.20"}},{"$nulls":9},{"$f":"SUBTOTAL(9,AQ68:AQ68)","v":1},{"$f":"SUBTOTAL(9,AR68:AR68)","v":{"v":956.3999999999996,"d":"956.40"}},{"$f":"SUBTOTAL(9,AS68:AS68)","v":{"v":11476.799999999996,"d":"11,476.80"}},{"$f":"SUBTOTAL(9,AT68:AT68)","v":{"v":2869.199999999999,"d":"2,869.20"}},{"$f":"SUBTOTAL(9,AU68:AU68)","v":{"v":1912.7999999999993,"d":"1,912.80"}},null,null,{"$f":"SUBTOTAL(9,AX68:AX68)","v":1},{"v":150654,"d":"150,654.00"},0,0,0,0,0,0,0,0,0,0,0,0,{"$nulls":3},{"v":205654,"d":"205,654.00"},{"$nulls":4},{"$f":"SUBTOTAL(9,BT68:BT68)","v":1},{"$f":"SUBTOTAL(9,BU68:BU68)","v":{"v":205654,"d":"205,654.00"}}]
[{"$nulls":18},"นราธิวาส ผลรวม",{"$nulls":9},{"$f":"SUBTOTAL(9,AC64:AC68)","v":3},{"$f":"SUBTOTAL(9,AD64:AD68)","v":{"v":22519.800000000003,"d":"22,519.80"}},{"$f":"SUBTOTAL(9,AE64:AE68)","v":{"v":267310.18,"d":"267,310.18"}},{"$f":"SUBTOTAL(9,AF64:AF68)","v":{"v":64631.98,"d":"64,631.98"}},{"$f":"SUBTOTAL(9,AG64:AG68)","v":{"v":45039.600000000006,"d":"45,039.60"}},{"$nulls":9},{"$f":"SUBTOTAL(9,AQ64:AQ68)","v":3},{"$f":"SUBTOTAL(9,AR64:AR68)","v":{"v":10480.199999999999,"d":"10,480.20"}},{"$f":"SUBTOTAL(9,AS64:AS68)","v":{"v":125762.4,"d":"125,762.40"}},{"$f":"SUBTOTAL(9,AT64:AT68)","v":{"v":29045.440000000002,"d":"29,045.44"}},{"$f":"SUBTOTAL(9,AU64:AU68)","v":{"v":20960.399999999998,"d":"20,960.40"}},null,null,{"$f":"SUBTOTAL(9,AX64:AX68)","v":3},{"v":337797,"d":"337,797.00"},0,0,0,0,0,0,0,0,0,0,0,0,{"$nulls":3},{"v":497474.42000000004,"d":"497,474.42"},{"$nulls":4},{"$f":"SUBTOTAL(9,BT64:BT68)","v":3},{"$f":"SUBTOTAL(9,BU64:BU68)","v":{"v":497474.42000000004,"d":"497,474.42"}}]
[1,"นาง","ณัฐจิยา","พรหมเหรียญชัย",{"$nulls":4},"2568-10-01",{"$nulls":7},"อบต.จอมพระ","ท่าวังผา","น่าน",{"$nulls":9},1,{"v":10250.8,"d":"10,250.80"},{"$f":"AD71*12","v":{"v":123009.59999999999,"d":"123,009.60"}},{"$f":"AD71*3","v":{"v":30752.399999999998,"d":"30,752.40"}},{"$f":"AD71*2","v":{"v":20501.6,"d":"20,501.60"}},{"$f":"AD71*3","v":{"v":30752.399999999998,"d":"30,752.40"}},{"$f":"AD71*3","v":{"v":30752.399999999998,"d":"30,752.40"}},null,{"$f":"AD71+AJ71","v":{"v":10250.8,"d":"10,250.80"}},{"$nulls":3},0,{"$f":"11000-AO71-AD71","v":{"v":749.2000000000007,"d":"749.20"}},{"$f":"+AC71","v":1},{"$f":"AJ71+AL71+AO71+AP71","v":{"v":749.2000000000007,"d":"749.20"}},{"$f":"AR71*12","v":{"v":8990.400000000009,"d":"8,990.40"}},{"$f":"AR71*3","v":{"v":2247.600000000002,"d":"2,247.60"}},{"$f":"AR71*2","v":{"v":1498.4000000000015,"d":"1,498.40"}},{"$f":"AR71*3","v":{"v":2247.600000000002,"d":"2,247.60"}},{"$f":"AR71*3","v":{"v":2247.600000000002,"d":"2,247.60"}},1,{"v":153762,"d":"153,762.00"},{"$nulls":14},{"v":1,"d":"1.00"},{"v":208762,"d":"208,762.00"},{"$nulls":4},{"$f":"BN71","v":1},{"$f":"ROUND(BO71,2)","v":{"v":208762,"d":"208,762.00"}}]
[{"$nulls":16},"อบต.จอมพระ ผลรวม","ท่าวังผา","น่าน",{"$nulls":9},{"$f":"SUBTOTAL(9,AC71:AC71)","v":1},{"$f":"SUBTOTAL(9,AD71:AD71)","v":{"v":10250.8,"d":"10,250.80"}},{"$f":"SUBTOTAL(9,AE71:AE71)","v":{"v":123009.59999999999,"d":"123,009.60"}},{"$f":"SUBTOTAL(9,AF71:AF71)","v":{"v":30752.399999999998,"d":"30,752.40"}},{"$f":"SUBTOTAL(9,AG71:AG71)","v":{"v":20501.6,"d":"20,501.60"}},{"$nulls":9},{"$f":"SUBTOTAL(9,AQ71:AQ71)","v":1},{"$f":"SUBTOTAL(9,AR71:AR71)","v":{"v":749.2000000000007,"d":"749.20"}},{"$f":"SUBTOTAL(9,AS71:AS71)","v":{"v":8990.400000000009,"d":"8,990.40"}},{"$f":"SUBTOTAL(9,AT71:AT71)","v":{"v":2247.600000000002,"d":"2,247.60"}},{"$f":"SUBTOTAL(9,AU71:AU71)","v":{"v":1498.4000000000015,"d":"1,498.40"}},null,null,{"$f":"SUBTOTAL(9,AX71:AX71)","v":1},{"v":153762,"d":"153,762.00"},0,0,0,0,0,0,0,0,0,0,0,0,{"$nulls":3},{"v":208762,"d":"208,762.00"},{"$nulls":4},{"$f":"SUBTOTAL(9,BT71:BT71)","v":1},{"$f":"SUBTOTAL(9,BU71:BU71)","v":{"v":208762,"d":"208,762.00"}}]
[{"$nulls":18},"น่าน ผลรวม",{"$nulls":9},{"$f":"SUBTOTAL(9,AC71:AC71)","v":1},{"$f":"SUBTOTAL(9,AD71:AD71)","v":{"v":10250.8,"d":"10,250.80"}},{"$f":"SUBTOTAL(9,AE71:AE71)","v":{"v":123009.59999999999,"d":"123,009.60"}},{"$f":"SUBTOTAL(9,AF71:AF71)","v":{"v":30752.399999999998,"d":"30,752.40"}},{"$f":"SUBTOTAL(9,AG71:AG71)","v":{"v":20501.6,"d":"20,501.60"}},{"$nulls":9},{"$f":"SUBTOTAL(9,AQ71:AQ71)","v":1},{"$f":"SUBTOTAL(9,AR71:AR71)","v":{"v":749.2000000000007,"d":"749.20"}},{"$f":"SUBTOTAL(9,AS71:AS71)","v":{"v":8990.400000000009,"d":"8,990.40"}},{"$f":"SUBTOTAL(9,AT71:AT71)","v":{"v":2247.600000000002,"d":"2,247.60"}},{"$f":"SUBTOTAL(9,AU71:AU71)","v":{"v":1498.4000000000015,"d":"1,498.40"}},null,null,{"$f":"SUBTOTAL(9,AX71:AX71)","v":1},{"v":153762,"d":"153,762.00"},0,0,0,0,0,0,0,0,0,0,0,0,{"$nulls":3},{"$f":"AF73+AG73+AT73+AU73+AY73+BA73+BC73+BE73+BG73+BI73+BK73","v":{"v":208762,"d":"208,762.00"}},{"$nulls":4},{"$f":"SUBTOTAL(9,BT71:BT71)","v":1},{"$f":"SUBTOTAL(9,BU71:BU71)","v":{"v":208762,"d":"208,762.00"}}]
[1,"นาง","อุทิศ","ต้นสิน",{"$nulls":4},"2568-10-01",{"$nulls":7},"อบต.โซ่","โซ่พิสัย","บึงกาฬ",null,"ครู",{"$nulls":7},1,{"v":8710,"d":"8,710.00"},{"$f":"AD74*12","v":{"v":104520,"d":"104,520.00"}},{"$f":"AD74*3","v":{"v":26130,"d":"26,130.00"}},{"$f":"AD74*2","v":{"v":17420,"d":"17,420.00"}},{"$f":"AD74*3","v":{"v":26130,"d":"26,130.00"}},{"$f":"AD74*3","v":{"v":26130,"d":"26,130.00"}},null,{"$f":"AD74+AJ74","v":{"v":8710,"d":"8,710.00"}},{"$nulls":4},{"$f":"11000-AO74-AD74","v":{"v":2290,"d":"2,290.00"}},1,{"$f":"AJ74+AL74+AN74+AO74+AP74","v":{"v":2290,"d":"2,290.00"}},{"$f":"AR74*12","v":{"v":27480,"d":"27,480.00"}},{"$f":"AR74*3","v":{"v":6870,"d":"6,870.00"}},{"$f":"AR74*2","v":{"v":4580,"d":"4,580.00"}},{"$f":"AR74*3","v":{"v":6870,"d":"6,870.00"}},{"$f":"AR74*3","v":{"v":6870,"d":"6,870.00"}},1,{"$f":"SUM(AD74*15)","v":{"v":130650,"d":"130,650.00"}},{"$nulls":14},{"v":1,"d":"1.00"},{"v":185650,"d":"185,650.00"},{"$nulls":4},{"$f":"BN74","v":1},{"$f":"ROUND(BO74,2)","v":{"v":185650,"d":"185,650.00"}}]
[{"$nulls":16},"อบต.โซ่ ผลรวม","โซ่พิสัย","บึงกาฬ",{"$nulls":9},{"$f":"SUBTOTAL(9,AC74:AC74)","v":1},{"$f":"SUBTOTAL(9,AD74:AD74)","v":{"v":8710,"d":"8,710.00"}},{"$f":"SUBTOTAL(9,AE74:AE74)","v":{"v":104520,"d":"104,520.00"}},{"$f":"SUBTOTAL(9,AF74:AF74)","v":{"v":26130,"d":"26,130.00"}},{"$f":"SUBTOTAL(9,AG74:AG74)","v":{"v":17420,"d":"17,420.00"}},{"$nulls":9},{"$f":"SUBTOTAL(9,AQ74:AQ74)","v":1},{"$f":"SUBTOTAL(9,AR74:AR74)","v":{"v":2290,"d":"2,290.00"}},{"$f":"SUBTOTAL(9,AS74:AS74)","v":{"v":27480,"d":"27,480.00"}},{"$f":"SUBTOTAL(9,AT74:AT74)","v":{"v":6870,"d":"6,870.00"}},{"$f":"SUBTOTAL(9,AU74:AU74)","v":{"v":4580,"d":"4,580.00"}},null,null,{"$f":"SUBTOTAL(9,AX74:AX74)","v":1},{"v":130650,"d":"130,650.00"},0,0,0,0,0,0,0,0,0,0,0,0,{"$nulls":3},{"v":185650,"d":"185,650.00"},{"$nulls":4},{"$f":"SUBTOTAL(9,BT74:BT74)","v":1},{"$f":"SUBTOTAL(9,BU74:BU74)","v":{"v":185650,"d":"185,650.00"}}]
[{"$f":"A74+1","v":2},"นาง","บุญเพ็ญ","ใจกว้าง",{"$nulls":4},"2568-10-01",{"$nulls":7},"อบต.ศรีชมภู","โซ่พิสัย","บึงกาฬ",null,"ครู",{"$nulls":7},1,{"v":6010,"d":"6,010.00"},{"$f":"AD76*12","v":{"v":72120,"d":"72,120.00"}},{"$f":"AD76*3","v":{"v":18030,"d":"18,030.00"}},{"$f":"AD76*2","v":{"v":12020,"d":"12,020.00"}},{"$f":"AD76*3","v":{"v":18030,"d":"18,030.00"}},{"$f":"AD76*3","v":{"v":18030,"d":"18,030.00"}},null,{"$f":"AD76+AJ76","v":{"v":6010,"d":"6,010.00"}},{"$nulls":4},{"$f":"11000-AO76-AD76","v":{"v":4990,"d":"4,990.00"}},1,{"$f":"AJ76+AL76+AN76+AO76+AP76","v":{"v":4990,"d":"4,990.00"}},{"$f":"AR76*12","v":{"v":59880,"d":"59,880.00"}},{"$f":"AR76*3","v":{"v":14970,"d":"14,970.00"}},{"$f":"AR76*2","v":{"v":9980,"d":"9,980.00"}},{"$f":"AR76*3","v":{"v":14970,"d":"14,970.00"}},{"$f":"AR76*3","v":{"v":14970,"d":"14,970.00"}},1,{"$f":"SUM(AD76*15)","v":{"v":90150,"d":"90,150.00"}},{"$nulls":14},{"v":1,"d":"1.00"},{"v":145150,"d":"145,150.00"},{"$nulls":4},{"$f":"BN76","v":1},{"$f":"ROUND(BO76,2)","v":{"v":145150,"d":"145,150.00"}}]
[{"$nulls":16},"อบต.ศรีชมภู ผลรวม","โซ่พิสัย","บึงกาฬ",{"$nulls":9},{"$f":"SUBTOTAL(9,AC76:AC76)","v":1},{"$f":"SUBTOTAL(9,AD76:AD76)","v":{"v":6010,"d":"6,010.00"}},{"$f":"SUBTOTAL(9,AE76:AE76)","v":{"v":72120,"d":"72,120.00"}},{"$f":"SUBTOTAL(9,AF76:AF76)","v":{"v":18030,"d":"18,030.00"}},{"$f":"SUBTOTAL(9,AG76:AG76)","v":{"v":12020,"d":"12,020.00"}},{"$nulls":9},{"$f":"SUBTOTAL(9,AQ76:AQ76)","v":1},{"$f":"SUBTOTAL(9,AR76:AR76)","v":{"v":4990,"d":"4,990.00"}},{"$f":"SUBTOTAL(9,AS76:AS76)","v":{"v":59880,"d":"59,880.00"}},{"$f":"SUBTOTAL(9,AT76:AT76)","v":{"v":14970,"d":"14,970.00"}},{"$f":"SUBTOTAL(9,AU76:AU76)","v":{"v":9980,"d":"9,980.00"}},null,null,{"$f":"SUBTOTAL(9,AX76:AX76)","v":1},{"v":90150,"d":"90,150.00"},0,0,0,0,0,0,0,0,0,0,0,0,{"$nulls":3},{"v":145150,"d":"145,150.00"},{"$nulls":4},{"$f":"SUBTOTAL(9,BT76:BT76)","v":1},{"$f":"SUBTOTAL(9,BU76:BU76)","v":{"v":145150,"d":"145,150.00"}}]
[{"$f":"A76+1","v":3},"นาง","ประเจียด","สุขผ่อง",{"$nulls":4},"2568-10-01",{"$nulls":7},"อบต.โพธิ์หมากแข้ง","บึงโขงหลง","บึงกาฬ",null,"ครู",{"$nulls":7},1,{"v":10455.2,"d":"10,455.20"},{"$f":"AD78*12","v":{"v":125462.40000000001,"d":"125,462.40"}},{"$f":"AD78*3","v":{"v":31365.600000000002,"d":"31,365.60"}},{"$f":"AD78*2","v":{"v":20910.4,"d":"20,910.40"}},{"$f":"AD78*3","v":{"v":31365.600000000002,"d":"31,365.60"}},{"$f":"AD78*3","v":{"v":31365.600000000002,"d":"31,365.60"}},null,{"$f":"AD78+AJ78","v":{"v":10455.2,"d":"10,455.20"}},{"$nulls":4},{"$f":"11000-AO78-AD78","v":{"v":544.7999999999993,"d":"544.80"}},1,{"$f":"AJ78+AL78+AN78+AO78+AP78","v":{"v":544.7999999999993,"d":"544.80"}},{"$f":"AR78*12","v":{"v":6537.599999999991,"d":"6,537.60"}},{"$f":"AR78*3","v":{"v":1634.3999999999978,"d":"1,634.40"}},{"$f":"AR78*2","v":{"v":1089.5999999999985,"d":"1,089.60"}},{"$f":"AR78*3","v":{"v":1634.3999999999978,"d":"1,634.40"}},{"$f":"AR78*3","v":{"v":1634.3999999999978,"d":"1,634.40"}},1,{"$f":"SUM(AD78*15)","v":{"v":156828,"d":"156,828.00"}},{"$nulls":14},{"v":1,"d":"1.00"},{"v":211828,"d":"211,828.00"},{"$nulls":4},{"$f":"BN78","v":1},{"$f":"ROUND(BO78,2)","v":{"v":211828,"d":"211,828.00"}}]
[{"$nulls":16},"อบต.โพธิ์หมากแข้ง ผลรวม","บึงโขงหลง","บึงกาฬ",{"$nulls":9},{"$f":"SUBTOTAL(9,AC78:AC78)","v":1},{"$f":"SUBTOTAL(9,AD78:AD78)","v":{"v":10455.2,"d":"10,455.20"}},{"$f":"SUBTOTAL(9,AE78:AE78)","v":{"v":125462.40000000001,"d":"125,462.40"}},{"$f":"SUBTOTAL(9,AF78:AF78)","v":{"v":31365.600000000002,"d":"31,365.60"}},{"$f":"SUBTOTAL(9,AG78:AG78)","v":{"v":20910.4,"d":"20,910.40"}},{"$nulls":9},{"$f":"SUBTOTAL(9,AQ78:AQ78)","v":1},{"$f":"SUBTOTAL(9,AR78:AR78)","v":{"v":544.7999999999993,"d":"544.80"}},{"$f":"SUBTOTAL(9,AS78:AS78)","v":{"v":6537.599999999991,"d":"6,537.60"}},{"$f":"SUBTOTAL(9,AT78:AT78)","v":{"v":1634.3999999999978,"d":"1,634.40"}},{"$f":"SUBTOTAL(9,AU78:AU78)","v":{"v":1089.5999999999985,"d":"1,089.60"}},null,null,{"$f":"SUBTOTAL(9,AX78:AX78)","v":1},{"v":156828,"d":"156,828.00"},0,0,0,0,0,0,0,0,0,0,0,0,{"$nulls":3},{"v":211828,"d":"211,828.00"},{"$nulls":4},{"$f":"SUBTOTAL(9,BT78:BT78)","v":1},{"$f":"SUBTOTAL(9,BU78:BU78)","v":{"v":211828,"d":"211,828.00"}}]
[{"$f":"A78+1","v":4},"นางสาว","ทัศนีย์","แสงเลิศ",{"$nulls":4},"2568-10-01",{"$nulls":7},"อบต.นาแสง","ศรีวิไล","บึงกาฬ",null,"ครู",{"$nulls":7},1,{"v":10413.2,"d":"10,413.20"},{"$f":"AD80*12","v":{"v":124958.40000000001,"d":"124,958.40"}},{"$f":"AD80*3","v":{"v":31239.600000000002,"d":"31,239.60"}},{"$f":"AD80*2","v":{"v":20826.4,"d":"20,826.40"}},{"$f":"AD80*3","v":{"v":31239.600000000002,"d":"31,239.60"}},{"$f":"AD80*3","v":{"v":31239.600000000002,"d":"31,239.60"}},null,{"$f":"AD80+AJ80","v":{"v":10413.2,"d":"10,413.20"}},{"$nulls":4},{"$f":"11000-AO80-AD80","v":{"v":586.7999999999993,"d":"586.80"}},1,{"$f":"AJ80+AL80+AN80+AO80+AP80","v":{"v":586.7999999999993,"d":"586.80"}},{"$f":"AR80*12","v":{"v":7041.599999999991,"d":"7,041.60"}},{"$f":"AR80*3","v":{"v":1760.3999999999978,"d":"1,760.40"}},{"$f":"AR80*2","v":{"v":1173.5999999999985,"d":"1,173.60"}},{"$f":"AR80*3","v":{"v":1760.3999999999978,"d":"1,760.40"}},{"$f":"AR80*3","v":{"v":1760.3999999999978,"d":"1,760.40"}},1,{"$f":"SUM(AD80*15)","v":{"v":156198,"d":"156,198.00"}},{"$nulls":14},{"v":1,"d":"1.00"},{"v":211198,"d":"211,198.00"},{"$nulls":4},{"$f":"BN80","v":1},{"$f":"ROUND(BO80,2)","v":{"v":211198,"d":"211,198.00"}}]
[{"$nulls":16},"อบต.นาแสง ผลรวม","ศรีวิไล","บึงกาฬ",{"$nulls":9},{"$f":"SUBTOTAL(9,AC80:AC80)","v":1},{"$f":"SUBTOTAL(9,AD80:AD80)","v":{"v":10413.2,"d":"10,413.20"}},{"$f":"SUBTOTAL(9,AE80:AE80)","v":{"v":124958.40000000001,"d":"124,958.40"}},{"$f":"SUBTOTAL(9,AF80:AF80)","v":{"v":31239.600000000002,"d":"31,239.60"}},{"$f":"SUBTOTAL(9,AG80:AG80)","v":{"v":20826.4,"d":"20,826.40"}},{"$nulls":9},{"$f":"SUBTOTAL(9,AQ80:AQ80)","v":1},{"$f":"SUBTOTAL(9,AR80:AR80)","v":{"v":586.7999999999993,"d":"586.80"}},{"$f":"SUBTOTAL(9,AS80:AS80)","v":{"v":7041.599999999991,"d":"7,041.60"}},{"$f":"SUBTOTAL(9,AT80:AT80)","v":{"v":1760.3999999999978,"d":"1,760.40"}},{"$f":"SUBTOTAL(9,AU80:AU80)","v":{"v":1173.5999999999985,"d":"1,173.60"}},null,null,{"$f":"SUBTOTAL(9,AX80:AX80)","v":1},{"v":156198,"d":"156,198.00"},0,0,0,0,0,0,0,0,0,0,0,0,{"$nulls":3},{"v":211198,"d":"211,198.00"},{"$nulls":4},{"$f":"SUBTOTAL(9,BT80:BT80)","v":1},{"$f":"SUBTOTAL(9,BU80:BU80)","v":{"v":211198,"d":"211,198.00"}}]
[{"$nulls":18},"บึงกาฬ ผลรวม",{"$nulls":9},{"$f":"SUBTOTAL(9,AC74:AC80)","v":4},{"$f":"SUBTOTAL(9,AD74:AD80)","v":{"v":35588.4,"d":"35,588.40"}},{"$f":"SUBTOTAL(9,AE74:AE80)","v":{"v":427060.80000000005,"d":"427,060.80"}},{"$f":"SUBTOTAL(9,AF74:AF80)","v":{"v":106765.20000000001,"d":"106,765.20"}},{"$f":"SUBTOTAL(9,AG74:AG80)","v":{"v":71176.8,"d":"71,176.80"}},{"$nulls":9},{"$f":"SUBTOTAL(9,AQ74:AQ80)","v":4},{"$f":"SUBTOTAL(9,AR74:AR80)","v":{"v":8411.599999999999,"d":"8,411.60"}},{"$f":"SUBTOTAL(9,AS74:AS80)","v":{"v":100939.19999999998,"d":"100,939.20"}},{"$f":"SUBTOTAL(9,AT74:AT80)","v":{"v":25234.799999999996,"d":"25,234.80"}},{"$f":"SUBTOTAL(9,AU74:AU80)","v":{"v":16823.199999999997,"d":"16,823.20"}},null,null,{"$f":"SUBTOTAL(9,AX74:AX80)","v":4},{"v":533826,"d":"533,826.00"},0,0,0,0,0,0,0,0,0,0,0,0,{"$nulls":3},{"v":753826,"d":"753,826.00"},{"$nulls":4},{"$f":"SUBTOTAL(9,BT74:BT80)","v":4},{"$f":"SUBTOTAL(9,BU74:BU80)","v":{"v":753826,"d":"753,826.00"}}]
[1,"น.ส.","ธัญวรรณ","พิศงาม","331100127188",{"$nulls":3},"2568-10-01",{"$nulls":7},"อบต.ร่อนทอง","สตึก","บุรีรัมย์",null,"ครู",{"$nulls":7},1,{"v":10368.4,"d":"10,368.40"},{"$f":"AD83*12","v":{"v":124420.79999999999,"d":"124,420.80"}},{"$f":"AD83*3","v":{"v":31105.199999999997,"d":"31,105.20"}},{"$f":"AD83*2","v":{"v":20736.8,"d":"20,736.80"}},{"$f":"AD83*3","v":{"v":31105.199999999997,"d":"31,105.20"}},{"$f":"AD83*3","v":{"v":31105.199999999997,"d":"31,105.20"}},null,0,{"$nulls":3},{"$f":"10000-AD83","v":{"v":-368.39999999999964,"d":"-368.40"}},{"$f":"11000-AO83-AD83","v":{"v":1000,"d":"1,000.00"}},1,{"$f":"AJ83+AL83+AO83+AP83","v":{"v":631.6000000000004,"d":"631.60"}},{"$f":"AR83*12","v":{"v":7579.200000000004,"d":"7,579.20"}},{"$f":"AR83*3","v":{"v":1894.800000000001,"d":"1,894.80"}},{"$f":"AR83*2","v":{"v":1263.2000000000007,"d":"1,263.20"}},{"$f":"AR83*3","v":{"v":1894.800000000001,"d":"1,894.80"}},{"$f":"AR83*3","v":{"v":1894.800000000001,"d":"1,894.80"}},1,{"v":155526,"d":"155,526.00"},{"$nulls":14},{"v":1,"d":"1.00"},{"v":210526,"d":"210,526.00"},{"$nulls":4},{"$f":"BN83","v":1},{"$f":"ROUND(BO83,2)","v":{"v":210526,"d":"210,526.00"}}]
[{"$nulls":16},"อบต.ร่อนทอง ผลรวม","สตึก","บุรีรัมย์",{"$nulls":9},{"$f":"SUBTOTAL(9,AC83:AC83)","v":1},{"$f":"SUBTOTAL(9,AD83:AD83)","v":{"v":10368.4,"d":"10,368.40"}},{"$f":"SUBTOTAL(9,AE83:AE83)","v":{"v":124420.79999999999,"d":"124,420.80"}},{"$f":"SUBTOTAL(9,AF83:AF83)","v":{"v":31105.199999999997,"d":"31,105.20"}},{"$f":"SUBTOTAL(9,AG83:AG83)","v":{"v":20736.8,"d":"20,736.80"}},{"$nulls":9},{"$f":"SUBTOTAL(9,AQ83:AQ83)","v":1},{"$f":"SUBTOTAL(9,AR83:AR83)","v":{"v":631.6000000000004,"d":"631.60"}},{"$f":"SUBTOTAL(9,AS83:AS83)","v":{"v":7579.200000000004,"d":"7,579.20"}},{"$f":"SUBTOTAL(9,AT83:AT83)","v":{"v":1894.800000000001,"d":"1,894.80"}},{"$f":"SUBTOTAL(9,AU83:AU83)","v":{"v":1263.2000000000007,"d":"1,263.20"}},null,null,{"$f":"SUBTOTAL(9,AX83:AX83)","v":1},{"v":155526,"d":"155,526.00"},0,0,0,0,0,0,0,0,0,0,0,0,{"$nulls":3},{"v":210526,"d":"210,526.00"},{"$nulls":4},{"$f":"SUBTOTAL(9,BT83:BT83)","v":1},{"$f":"SUBTOTAL(9,BU83:BU83)","v":{"v":210526,"d":"210,526.00"}}]
[{"$nulls":18},"บุรีรัมย์ ผลรวม",{"$nulls":9},{"$f":"SUBTOTAL(9,AC83:AC83)","v":1},{"$f":"SUBTOTAL(9,AD83:AD83)","v":{"v":10368.4,"d":"10,368.40"}},{"$f":"SUBTOTAL(9,AE83:AE83)","v":{"v":124420.79999999999,"d":"124,420.80"}},{"$f":"SUBTOTAL(9,AF83:AF83)","v":{"v":31105.199999999997,"d":"31,105.20"}},{"$f":"SUBTOTAL(9,AG83:AG83)","v":{"v":20736.8,"d":"20,736.80"}},{"$nulls":9},{"$f":"SUBTOTAL(9,AQ83:AQ83)","v":1},{"$f":"SUBTOTAL(9,AR83:AR83)","v":{"v":631.6000000000004,"d":"631.60"}},{"$f":"SUBTOTAL(9,AS83:AS83)","v":{"v":7579.200000000004,"d":"7,579.20"}},{"$f":"SUBTOTAL(9,AT83:AT83)","v":{"v":1894.800000000001,"d":"1,894.80"}},{"$f":"SUBTOTAL(9,AU83:AU83)","v":{"v":1263.2000000000007,"d":"1,263.20"}},null,null,{"$f":"SUBTOTAL(9,AX83:AX83)","v":1},{"v":155526,"d":"155,526.00"},0,0,0,0,0,0,0,0,0,0,0,0,{"$nulls":3},{"v":210526,"d":"210,526.00"},{"$nulls":4},{"$f":"SUBTOTAL(9,BT83:BT83)","v":1},{"$f":"SUBTOTAL(9,BU83:BU83)","v":{"v":210526,"d":"210,526.00"}}]
[1,"นาง","เฉลิม","ปัจจุสนันท์",3820700060887,{"$nulls":3},"2568-10-01",{"$nulls":7},"อบต.ระแหง","ลาดหลุมแก้ว","ปทุมธานี",null,"ครู",{"$nulls":7},1,{"v":9170.2,"d":"9,170.20"},{"$f":"AD86*12","v":{"v":110042.40000000001,"d":"110,042.40"}},{"$f":"AD86*3","v":{"v":27510.600000000002,"d":"27,510.60"}},{"$f":"AD86*2","v":{"v":18340.4,"d":"18,340.40"}},{"$f":"AD86*3","v":{"v":27510.600000000002,"d":"27,510.60"}},{"$f":"AD86*3","v":{"v":27510.600000000002,"d":"27,510.60"}},null,{"$f":"AD86+AJ86","v":{"v":9170.2,"d":"9,170.20"}},{"$nulls":4},{"$f":"11000-AO86-AD86","v":{"v":1829.7999999999993,"d":"1,829.80"}},1,{"v":1829.8,"d":"1,829.80"},{"$f":"AR86*12","v":{"v":21957.6,"d":"21,957.60"}},{"$f":"AR86*3","v":{"v":5489.4,"d":"5,489.40"}},{"$f":"AR86*2","v":{"v":3659.6,"d":"3,659.60"}},{"$f":"AR86*3","v":{"v":5489.4,"d":"5,489.40"}},{"$f":"AR86*3","v":{"v":5489.4,"d":"5,489.40"}},1,{"v":137553,"d":"137,553.00"},{"$nulls":14},{"v":1,"d":"1.00"},{"v":192553,"d":"192,553.00"},{"$nulls":4},{"$f":"BN86","v":1},{"$f":"ROUND(BO86,2)","v":{"v":192553,"d":"192,553.00"}}]
[{"$nulls":16},"อบต.ระแหง ผลรวม","ลาดหลุมแก้ว","ปทุมธานี",{"$nulls":9},{"$f":"SUBTOTAL(9,AC86:AC86)","v":1},{"$f":"SUBTOTAL(9,AD86:AD86)","v":{"v":9170.2,"d":"9,170.20"}},{"$f":"SUBTOTAL(9,AE86:AE86)","v":{"v":110042.40000000001,"d":"110,042.40"}},{"$f":"SUBTOTAL(9,AF86:AF86)","v":{"v":27510.600000000002,"d":"27,510.60"}},{"$f":"SUBTOTAL(9,AG86:AG86)","v":{"v":18340.4,"d":"18,340.40"}},{"$nulls":9},{"$f":"SUBTOTAL(9,AQ86:AQ86)","v":1},{"$f":"SUBTOTAL(9,AR86:AR86)","v":{"v":1829.8,"d":"1,829.80"}},{"$f":"SUBTOTAL(9,AS86:AS86)","v":{"v":21957.6,"d":"21,957.60"}},{"$f":"SUBTOTAL(9,AT86:AT86)","v":{"v":5489.4,"d":"5,489.40"}},{"$f":"SUBTOTAL(9,AU86:AU86)","v":{"v":3659.6,"d":"3,659.60"}},null,null,{"$f":"SUBTOTAL(9,AX86:AX86)","v":1},{"v":137553,"d":"137,553.00"},0,0,0,0,0,0,0,0,0,0,0,0,{"$nulls":3},{"v":192553,"d":"192,553.00"},{"$nulls":4},{"$f":"SUBTOTAL(9,BT86:BT86)","v":1},{"$f":"SUBTOTAL(9,BU86:BU86)","v":{"v":192553,"d":"192,553.00"}}]
[{"$f":"A86+1","v":2},"นาง","นิตยา","บุญเกษม",3770600244332,{"$nulls":3},"2568-10-01",{"$nulls":7},"อบต.บึงคำพร้อย","ลำลูกกา","ปทุมธานี",null,"ครู",{"$nulls":7},1,{"v":9730,"d":"9,730.00"},{"$f":"AD88*12","v":{"v":116760,"d":"116,760.00"}},{"$f":"AD88*3","v":{"v":29190,"d":"29,190.00"}},{"$f":"AD88*2","v":{"v":19460,"d":"19,460.00"}},{"$f":"AD88*3","v":{"v":29190,"d":"29,190.00"}},{"$f":"AD88*3","v":{"v":29190,"d":"29,190.00"}},null,{"$f":"AD88+AJ88","v":{"v":9730,"d":"9,730.00"}},{"$nulls":4},{"$f":"11000-AO88-AD88","v":{"v":1270,"d":"1,270.00"}},1,{"v":1270,"d":"1,270.00"},{"$f":"AR88*12","v":{"v":15240,"d":"15,240.00"}},{"$f":"AR88*3","v":{"v":3810,"d":"3,810.00"}},{"$f":"AR88*2","v":{"v":2540,"d":"2,540.00"}},{"$f":"AR88*3","v":{"v":3810,"d":"3,810.00"}},{"$f":"AR88*3","v":{"v":3810,"d":"3,810.00"}},1,{"v":145950,"d":"145,950.00"},{"$nulls":14},{"v":1,"d":"1.00"},{"v":200950,"d":"200,950.00"},{"$nulls":4},{"$f":"BN88","v":1},{"$f":"ROUND(BO88,2)","v":{"v":200950,"d":"200,950.00"}}]
[{"$nulls":16},"อบต.บึงคำพร้อย ผลรวม","ลำลูกกา","ปทุมธานี",{"$nulls":9},{"$f":"SUBTOTAL(9,AC88:AC88)","v":1},{"$f":"SUBTOTAL(9,AD88:AD88)","v":{"v":9730,"d":"9,730.00"}},{"$f":"SUBTOTAL(9,AE88:AE88)","v":{"v":116760,"d":"116,760.00"}},{"$f":"SUBTOTAL(9,AF88:AF88)","v":{"v":29190,"d":"29,190.00"}},{"$f":"SUBTOTAL(9,AG88:AG88)","v":{"v":19460,"d":"19,460.00"}},{"$nulls":9},{"$f":"SUBTOTAL(9,AQ88:AQ88)","v":1},{"$f":"SUBTOTAL(9,AR88:AR88)","v":{"v":1270,"d":"1,270.00"}},{"$f":"SUBTOTAL(9,AS88:AS88)","v":{"v":15240,"d":"15,240.00"}},{"$f":"SUBTOTAL(9,AT88:AT88)","v":{"v":3810,"d":"3,810.00"}},{"$f":"SUBTOTAL(9,AU88:AU88)","v":{"v":2540,"d":"2,540.00"}},null,null,{"$f":"SUBTOTAL(9,AX88:AX88)","v":1},{"v":145950,"d":"145,950.00"},0,0,0,0,0,0,0,0,0,0,0,0,{"$nulls":3},{"v":200950,"d":"200,950.00"},{"$nulls":4},{"$f":"SUBTOTAL(9,BT88:BT88)","v":1},{"$f":"SUBTOTAL(9,BU88:BU88)","v":{"v":200950,"d":"200,950.00"}}]
[{"$nulls":18},"ปทุมธานี ผลรวม",{"$nulls":9},{"$f":"SUBTOTAL(9,AC86:AC88)","v":2},{"$f":"SUBTOTAL(9,AD86:AD88)","v":{"v":18900.2,"d":"18,900.20"}},{"$f":"SUBTOTAL(9,AE86:AE88)","v":{"v":226802.40000000002,"d":"226,802.40"}},{"$f":"SUBTOTAL(9,AF86:AF88)","v":{"v":56700.600000000006,"d":"56,700.60"}},{"$f":"SUBTOTAL(9,AG86:AG88)","v":{"v":37800.4,"d":"37,800.40"}},{"$nulls":9},{"$f":"SUBTOTAL(9,AQ86:AQ88)","v":2},{"$f":"SUBTOTAL(9,AR86:AR88)","v":{"v":3099.8,"d":"3,099.80"}},{"$f":"SUBTOTAL(9,AS86:AS88)","v":{"v":37197.6,"d":"37,197.60"}},{"$f":"SUBTOTAL(9,AT86:AT88)","v":{"v":9299.4,"d":"9,299.40"}},{"$f":"SUBTOTAL(9,AU86:AU88)","v":{"v":6199.6,"d":"6,199.60"}},null,null,{"$f":"SUBTOTAL(9,AX86:AX88)","v":2},{"v":283503,"d":"283,503.00"},0,0,0,0,0,0,0,0,0,0,0,0,{"$nulls":3},{"v":393503,"d":"393,503.00"},{"$nulls":4},{"$f":"SUBTOTAL(9,BT86:BT88)","v":2},{"$f":"SUBTOTAL(9,BU86:BU88)","v":{"v":393503,"d":"393,503.00"}}]
[1,"นาง","บุญเรือง","พวงแฉล้ม",3770100449555,{"$nulls":3},"2564-10-01",{"$nulls":7},"อบต.ปากน้ำปราณ","ปราณบุรี","ประจวบคีรีขันธ์",null,"ครู",{"$nulls":9},{"$f":"AD91*12","v":0},{"$f":"AD91*3","v":0},{"$f":"AD91*2","v":0},{"$f":"AD91*3","v":0},{"$f":"AD91*3","v":0},null,{"$f":"AD91+AJ91","v":0},{"$nulls":4},{"$f":"11000-AO91-AD91","v":{"v":11000,"d":"11,000.00"}},null,null,{"$f":"AR91*12","v":0},{"$f":"AR91*3","v":0},{"$f":"AR91*2","v":0},{"$f":"AR91*3","v":0},{"$f":"AR91*3","v":0},null,null,1,{"v":200000,"d":"200,000.00"},{"$nulls":12},{"v":1,"d":"1.00"},{"v":200000,"d":"200,000.00"},{"$nulls":4},{"$f":"BN91","v":1},{"$f":"ROUND(BO91,2)","v":{"v":200000,"d":"200,000.00"}}]
[{"$nulls":16},"อบต.ปากน้ำปราณ ผลรวม","ปราณบุรี","ประจวบคีรีขันธ์",{"$nulls":9},{"$f":"SUBTOTAL(9,AC91:AC91)","v":0},{"$f":"SUBTOTAL(9,AD91:AD91)","v":0},{"$f":"SUBTOTAL(9,AE91:AE91)","v":0},{"$f":"SUBTOTAL(9,AF91:AF91)","v":0},{"$f":"SUBTOTAL(9,AG91:AG91)","v":0},{"$nulls":9},{"$f":"SUBTOTAL(9,AQ91:AQ91)","v":0},{"$f":"SUBTOTAL(9,AR91:AR91)","v":0},{"$f":"SUBTOTAL(9,AS91:AS91)","v":0},{"$f":"SUBTOTAL(9,AT91:AT91)","v":0},{"$f":"SUBTOTAL(9,AU91:AU91)","v":0},null,null,{"$f":"SUBTOTAL(9,AX91:AX91)","v":0},0,1,{"v":200000,"d":"200,000.00"},0,0,0,0,0,0,0,0,0,0,{"$nulls":3},{"v":200000,"d":"200,000.00"},{"$nulls":4},{"$f":"SUBTOTAL(9,BT91:BT91)","v":1},{"$f":"SUBTOTAL(9,BU91:BU91)","v":{"v":200000,"d":"200,000.00"}}]
[{"$f":"A91+1","v":2},"นางสาว","เกตุชญา","สุขพวง",3770100449555,{"$nulls":3},"2568-11-22",{"$nulls":7},"อบต.ทับใต้","หัวหิน","ประจวบคีรีขันธ์",null,"ครู",{"$nulls":9},{"$f":"AD93*12","v":0},{"$f":"AD93*3","v":0},{"$f":"AD93*2","v":0},{"$f":"AD93*3","v":0},{"$f":"AD93*3","v":0},null,{"$f":"AD93+AJ93","v":0},{"$nulls":4},{"$f":"11000-AO93-AD93","v":{"v":11000,"d":"11,000.00"}},null,null,{"$f":"AR93*12","v":0},{"$f":"AR93*3","v":0},{"$f":"AR93*2","v":0},{"$f":"AR93*3","v":0},{"$f":"AR93*3","v":0},{"$nulls":8},1,{"v":497560,"d":"497,560.00"},{"$nulls":6},{"v":1,"d":"1.00"},{"v":497560,"d":"497,560.00"},{"$nulls":4},{"$f":"BN93","v":1},{"$f":"ROUND(BO93,2)","v":{"v":497560,"d":"497,560.00"}}]
[{"$nulls":16},"อบต.ทับใต้ ผลรวม","หัวหิน","ประจวบคีรีขันธ์",{"$nulls":9},{"$f":"SUBTOTAL(9,AC93:AC93)","v":0},{"$f":"SUBTOTAL(9,AD93:AD93)","v":0},{"$f":"SUBTOTAL(9,AE93:AE93)","v":0},{"$f":"SUBTOTAL(9,AF93:AF93)","v":0},{"$f":"SUBTOTAL(9,AG93:AG93)","v":0},{"$nulls":9},{"$f":"SUBTOTAL(9,AQ93:AQ93)","v":0},{"$f":"SUBTOTAL(9,AR93:AR93)","v":0},{"$f":"SUBTOTAL(9,AS93:AS93)","v":0},{"$f":"SUBTOTAL(9,AT93:AT93)","v":0},{"$f":"SUBTOTAL(9,AU93:AU93)","v":0},null,null,{"$f":"SUBTOTAL(9,AX93:AX93)","v":0},0,0,0,0,0,0,0,1,{"v":497560,"d":"497,560.00"},0,0,0,0,{"$nulls":3},{"v":497560,"d":"497,560.00"},{"$nulls":4},{"$f":"SUBTOTAL(9,BT93:BT93)","v":1},{"$f":"SUBTOTAL(9,BU93:BU93)","v":{"v":497560,"d":"497,560.00"}}]
[{"$nulls":18},"ประจวบคีรีขันธ์ ผลรวม",{"$nulls":9},{"$f":"SUBTOTAL(9,AC91:AC93)","v":0},{"$f":"SUBTOTAL(9,AD91:AD93)","v":0},{"$f":"SUBTOTAL(9,AE91:AE93)","v":0},{"$f":"SUBTOTAL(9,AF91:AF93)","v":0},{"$f":"SUBTOTAL(9,AG91:AG93)","v":0},{"$nulls":9},{"$f":"SUBTOTAL(9,AQ91:AQ93)","v":0},{"$f":"SUBTOTAL(9,AR91:AR93)","v":0},{"$f":"SUBTOTAL(9,AS91:AS93)","v":0},{"$f":"SUBTOTAL(9,AT91:AT93)","v":0},{"$f":"SUBTOTAL(9,AU91:AU93)","v":0},null,null,{"$f":"SUBTOTAL(9,AX91:AX93)","v":0},0,1,{"v":200000,"d":"200,000.00"},0,0,0,0,1,{"v":497560,"d":"497,560.00"},0,0,0,0,{"$nulls":3},{"v":697560,"d":"697,560.00"},{"$nulls":4},{"$f":"SUBTOTAL(9,BT91:BT93)","v":2},{"$f":"SUBTOTAL(9,BU91:BU93)","v":{"v":697560,"d":"697,560.00"}}]
[1,"นาง","วัลภา","วาสแดง","3850100188564",{"$nulls":3},"2568-10-01",{"$nulls":7},"อบต.บางโกระ","โคกโพธิ์","ปัตตานี",null,"ครู",{"$nulls":8},0,{"$f":"AD96*12","v":0},{"$f":"AD96*3","v":0},{"$f":"AD96*2","v":0},{"$f":"AD96*3","v":0},{"$f":"AD96*3","v":0},null,0,{"$nulls":3},0,0,null,{"$f":"AJ96+AL96+AO96+AP96","v":0},{"$f":"AR96*12","v":0},{"$f":"AR96*3","v":0},{"$f":"AR96*2","v":0},{"$f":"AR96*3","v":0},{"$f":"AR96*3","v":0},1,{"$f":"158760","v":{"v":158760,"d":"158,760.00"}},{"$nulls":14},{"v":1,"d":"1.00"},{"v":158760,"d":"158,760.00"},{"$nulls":4},{"$f":"BN96","v":1},{"$f":"ROUND(BO96,2)","v":{"v":158760,"d":"158,760.00"}}]
[{"$nulls":16},"อบต.บางโกระ ผลรวม","โคกโพธิ์","ปัตตานี",{"$nulls":9},{"$f":"SUBTOTAL(9,AC96:AC96)","v":0},{"$f":"SUBTOTAL(9,AD96:AD96)","v":0},{"$f":"SUBTOTAL(9,AE96:AE96)","v":0},{"$f":"SUBTOTAL(9,AF96:AF96)","v":0},{"$f":"SUBTOTAL(9,AG96:AG96)","v":0},{"$nulls":9},{"$f":"SUBTOTAL(9,AQ96:AQ96)","v":0},{"$f":"SUBTOTAL(9,AR96:AR96)","v":0},{"$f":"SUBTOTAL(9,AS96:AS96)","v":0},{"$f":"SUBTOTAL(9,AT96:AT96)","v":0},{"$f":"SUBTOTAL(9,AU96:AU96)","v":0},null,null,{"$f":"SUBTOTAL(9,AX96:AX96)","v":1},{"v":158760,"d":"158,760.00"},0,0,0,0,0,0,0,0,0,0,0,0,{"$nulls":3},{"v":158760,"d":"158,760.00"},{"$nulls":4},{"$f":"SUBTOTAL(9,BT96:BT96)","v":1},{"$f":"SUBTOTAL(9,BU96:BU96)","v":{"v":158760,"d":"158,760.00"}}]
[{"$f":"A96+1","v":2},"นาง","นิตยา","เมาะแล","3940600100011",{"$nulls":3},"2568-10-01",{"$nulls":7},"อบต.พิเทน","ทุ่งยางแดง","ปัตตานี",null,"ครู",{"$nulls":7},1,{"v":10169.6,"d":"10,169.60"},{"$f":"AD98*12","v":{"v":122035.20000000001,"d":"122,035.20"}},{"$f":"AD98*3","v":{"v":30508.800000000003,"d":"30,508.80"}},{"$f":"AD98*2","v":{"v":20339.2,"d":"20,339.20"}},{"$f":"AD98*3","v":{"v":30508.800000000003,"d":"30,508.80"}},{"$f":"AD98*3","v":{"v":30508.800000000003,"d":"30,508.80"}},null,0,{"$nulls":3},{"$f":"10000-AD98","v":{"v":-169.60000000000036,"d":"-169.60"}},{"$f":"11000-AO98-AD98","v":{"v":1000,"d":"1,000.00"}},1,{"$f":"AJ98+AL98+AO98+AP98","v":{"v":830.3999999999996,"d":"830.40"}},{"$f":"AR98*12","v":{"v":9964.799999999996,"d":"9,964.80"}},{"$f":"AR98*3","v":{"v":2491.199999999999,"d":"2,491.20"}},{"$f":"AR98*2","v":{"v":1660.7999999999993,"d":"1,660.80"}},{"$f":"AR98*3","v":{"v":2491.199999999999,"d":"2,491.20"}},{"$f":"AR98*3","v":{"v":2491.199999999999,"d":"2,491.20"}},1,{"v":152544,"d":"152,544.00"},{"$nulls":14},{"v":1,"d":"1.00"},{"v":207544,"d":"207,544.00"},{"$nulls":4},{"$f":"BN98","v":1},{"$f":"ROUND(BO98,2)","v":{"v":207544,"d":"207,544.00"}}]
[{"$nulls":16},"อบต.พิเทน ผลรวม","ทุ่งยางแดง","ปัตตานี",{"$nulls":9},{"$f":"SUBTOTAL(9,AC98:AC98)","v":1},{"$f":"SUBTOTAL(9,AD98:AD98)","v":{"v":10169.6,"d":"10,169.60"}},{"$f":"SUBTOTAL(9,AE98:AE98)","v":{"v":122035.20000000001,"d":"122,035.20"}},{"$f":"SUBTOTAL(9,AF98:AF98)","v":{"v":30508.800000000003,"d":"30,508.80"}},{"$f":"SUBTOTAL(9,AG98:AG98)","v":{"v":20339.2,"d":"20,339.20"}},{"$nulls":9},{"$f":"SUBTOTAL(9,AQ98:AQ98)","v":1},{"$f":"SUBTOTAL(9,AR98:AR98)","v":{"v":830.3999999999996,"d":"830.40"}},{"$f":"SUBTOTAL(9,AS98:AS98)","v":{"v":9964.799999999996,"d":"9,964.80"}},{"$f":"SUBTOTAL(9,AT98:AT98)","v":{"v":2491.199999999999,"d":"2,491.20"}},{"$f":"SUBTOTAL(9,AU98:AU98)","v":{"v":1660.7999999999993,"d":"1,660.80"}},null,null,{"$f":"SUBTOTAL(9,AX98:AX98)","v":1},{"v":152544,"d":"152,544.00"},0,0,0,0,0,0,0,0,0,0,0,0,{"$nulls":3},{"v":207544,"d":"207,544.00"},{"$nulls":4},{"$f":"SUBTOTAL(9,BT98:BT98)","v":1},{"$f":"SUBTOTAL(9,BU98:BU98)","v":{"v":207544,"d":"207,544.00"}}]
[{"$nulls":18},"ปัตตานี ผลรวม",{"$nulls":9},{"$f":"SUBTOTAL(9,AC96:AC98)","v":1},{"$f":"SUBTOTAL(9,AD96:AD98)","v":{"v":10169.6,"d":"10,169.60"}},{"$f":"SUBTOTAL(9,AE96:AE98)","v":{"v":122035.20000000001,"d":"122,035.20"}},{"$f":"SUBTOTAL(9,AF96:AF98)","v":{"v":30508.800000000003,"d":"30,508.80"}},{"$f":"SUBTOTAL(9,AG96:AG98)","v":{"v":20339.2,"d":"20,339.20"}},{"$nulls":9},{"$f":"SUBTOTAL(9,AQ96:AQ98)","v":1},{"$f":"SUBTOTAL(9,AR96:AR98)","v":{"v":830.3999999999996,"d":"830.40"}},{"$f":"SUBTOTAL(9,AS96:AS98)","v":{"v":9964.799999999996,"d":"9,964.80"}},{"$f":"SUBTOTAL(9,AT96:AT98)","v":{"v":2491.199999999999,"d":"2,491.20"}},{"$f":"SUBTOTAL(9,AU96:AU98)","v":{"v":1660.7999999999993,"d":"1,660.80"}},null,null,{"$f":"SUBTOTAL(9,AX96:AX98)","v":2},{"v":311304,"d":"311,304.00"},0,0,0,0,0,0,0,0,0,0,0,0,{"$nulls":3},{"v":366304,"d":"366,304.00"},{"$nulls":4},{"$f":"SUBTOTAL(9,BT96:BT98)","v":2},{"$f":"SUBTOTAL(9,BU96:BU98)","v":{"v":366304,"d":"366,304.00"}}]
[1,"นาง","พัชรา","อุบลรัตน์",{"$nulls":12},"อบต.กระแชง","บางไทร","พระนครศรีอยุธยา",{"$nulls":3},"2568-06-18",{"$nulls":7},{"$f":"AD101*12","v":0},{"$f":"AD101*3","v":0},{"$f":"AD101*2","v":0},{"$f":"AD101*3","v":0},{"$f":"AD101*3","v":0},null,{"$f":"AD101+AJ101","v":0},{"$nulls":3},0,null,{"$f":"+AC101","v":0},{"$f":"AJ101+AL101+AO101+AP101","v":0},{"$f":"AR101*12","v":0},{"$f":"AR101*3","v":0},{"$f":"AR101*2","v":0},{"$f":"AR101*3","v":0},{"$f":"AR101*3","v":0},{"$nulls":12},1,{"v":246039,"d":"246,039.00"},null,null,{"v":1,"d":"1.00"},{"v":246039,"d":"246,039.00"},{"$nulls":4},{"$f":"BN101","v":1},{"$f":"ROUND(BO101,2)","v":{"v":246039,"d":"246,039.00"}}]
[{"$nulls":16},"อบต.กระแชง ผลรวม","บางไทร","พระนครศรีอยุธยา",{"$nulls":9},{"$f":"SUBTOTAL(9,AC101:AC101)","v":0},{"$f":"SUBTOTAL(9,AD101:AD101)","v":0},{"$f":"SUBTOTAL(9,AE101:AE101)","v":0},{"$f":"SUBTOTAL(9,AF101:AF101)","v":0},{"$f":"SUBTOTAL(9,AG101:AG101)","v":0},{"$nulls":9},{"$f":"SUBTOTAL(9,AQ101:AQ101)","v":0},{"$f":"SUBTOTAL(9,AR101:AR101)","v":0},{"$f":"SUBTOTAL(9,AS101:AS101)","v":0},{"$f":"SUBTOTAL(9,AT101:AT101)","v":0},{"$f":"SUBTOTAL(9,AU101:AU101)","v":0},null,null,{"$f":"SUBTOTAL(9,AX101:AX101)","v":0},0,0,0,0,0,0,0,0,0,0,0,1,{"v":246039,"d":"246,039.00"},{"$nulls":3},{"v":246039,"d":"246,039.00"},{"$nulls":4},{"$f":"SUBTOTAL(9,BT101:BT101)","v":1},{"$f":"SUBTOTAL(9,BU101:BU101)","v":{"v":246039,"d":"246,039.00"}}]
[{"$nulls":18},"พระนครศรีอยุธยา ผลรวม",{"$nulls":9},{"$f":"SUBTOTAL(9,AC101:AC101)","v":0},{"$f":"SUBTOTAL(9,AD101:AD101)","v":0},{"$f":"SUBTOTAL(9,AE101:AE101)","v":0},{"$f":"SUBTOTAL(9,AF101:AF101)","v":0},{"$f":"SUBTOTAL(9,AG101:AG101)","v":0},{"$nulls":9},{"$f":"SUBTOTAL(9,AQ101:AQ101)","v":0},{"$f":"SUBTOTAL(9,AR101:AR101)","v":0},{"$f":"SUBTOTAL(9,AS101:AS101)","v":0},{"$f":"SUBTOTAL(9,AT101:AT101)","v":0},{"$f":"SUBTOTAL(9,AU101:AU101)","v":0},null,null,{"$f":"SUBTOTAL(9,AX101:AX101)","v":0},0,0,0,0,0,0,0,0,0,0,0,1,{"v":246039,"d":"246,039.00"},{"$nulls":3},{"v":246039,"d":"246,039.00"},{"$nulls":4},{"$f":"SUBTOTAL(9,BT101:BT101)","v":1},{"$f":"SUBTOTAL(9,BU101:BU101)","v":{"v":246039,"d":"246,039.00"}}]
[1,"นาง","ประภา","ทองศรีจันทร์",{"$nulls":4},"2568-10-01",{"$nulls":7},"อบต.โคกทราย","ป่าบอน","พัทลุง",{"$nulls":9},1,{"v":6716.6,"d":"6,716.60"},{"$f":"AD104*12","v":{"v":80599.20000000001,"d":"80,599.20"}},{"$f":"AD104*3","v":{"v":20149.800000000003,"d":"20,149.80"}},{"$f":"AD104*2","v":{"v":13433.2,"d":"13,433.20"}},{"$f":"AD104*3","v":{"v":20149.800000000003,"d":"20,149.80"}},{"$f":"AD104*3","v":{"v":20149.800000000003,"d":"20,149.80"}},null,{"$f":"AD104+AJ104","v":{"v":6716.6,"d":"6,716.60"}},{"$nulls":3},0,{"$f":"11000-AO104-AD104","v":{"v":4283.4,"d":"4,283.40"}},{"$f":"+AC104","v":1},{"$f":"AJ104+AL104+AO104+AP104","v":{"v":4283.4,"d":"4,283.40"}},{"$f":"AR104*12","v":{"v":51400.799999999996,"d":"51,400.80"}},{"$f":"AR104*3","v":{"v":12850.199999999999,"d":"12,850.20"}},{"$f":"AR104*2","v":{"v":8566.8,"d":"8,566.80"}},{"$f":"AR104*3","v":{"v":12850.199999999999,"d":"12,850.20"}},{"$f":"AR104*3","v":{"v":12850.199999999999,"d":"12,850.20"}},1,{"v":100749,"d":"100,749.00"},{"$nulls":14},{"v":1,"d":"1.00"},{"v":155749,"d":"155,749.00"},{"$nulls":4},{"$f":"BN104","v":1},{"$f":"ROUND(BO104,2)","v":{"v":155749,"d":"155,749.00"}}]
[{"$nulls":16},"อบต.โคกทราย ผลรวม","ป่าบอน","พัทลุง",{"$nulls":9},{"$f":"SUBTOTAL(9,AC104:AC104)","v":1},{"$f":"SUBTOTAL(9,AD104:AD104)","v":{"v":6716.6,"d":"6,716.60"}},{"$f":"SUBTOTAL(9,AE104:AE104)","v":{"v":80599.20000000001,"d":"80,599.20"}},{"$f":"SUBTOTAL(9,AF104:AF104)","v":{"v":20149.800000000003,"d":"20,149.80"}},{"$f":"SUBTOTAL(9,AG104:AG104)","v":{"v":13433.2,"d":"13,433.20"}},{"$nulls":9},{"$f":"SUBTOTAL(9,AQ104:AQ104)","v":1},{"$f":"SUBTOTAL(9,AR104:AR104)","v":{"v":4283.4,"d":"4,283.40"}},{"$f":"SUBTOTAL(9,AS104:AS104)","v":{"v":51400.799999999996,"d":"51,400.80"}},{"$f":"SUBTOTAL(9,AT104:AT104)","v":{"v":12850.199999999999,"d":"12,850.20"}},{"$f":"SUBTOTAL(9,AU104:AU104)","v":{"v":8566.8,"d":"8,566.80"}},null,null,{"$f":"SUBTOTAL(9,AX104:AX104)","v":1},{"v":100749,"d":"100,749.00"},0,0,0,0,0,0,0,0,0,0,0,0,{"$nulls":3},{"v":155749,"d":"155,749.00"},{"$nulls":4},{"$f":"SUBTOTAL(9,BT104:BT104)","v":1},{"$f":"SUBTOTAL(9,BU104:BU104)","v":{"v":155749,"d":"155,749.00"}}]
[{"$nulls":18},"พัทลุง ผลรวม",{"$nulls":9},{"$f":"SUBTOTAL(9,AC104:AC104)","v":1},{"$f":"SUBTOTAL(9,AD104:AD104)","v":{"v":6716.6,"d":"6,716.60"}},{"$f":"SUBTOTAL(9,AE104:AE104)","v":{"v":80599.20000000001,"d":"80,599.20"}},{"$f":"SUBTOTAL(9,AF104:AF104)","v":{"v":20149.800000000003,"d":"20,149.80"}},{"$f":"SUBTOTAL(9,AG104:AG104)","v":{"v":13433.2,"d":"13,433.20"}},{"$nulls":9},{"$f":"SUBTOTAL(9,AQ104:AQ104)","v":1},{"$f":"SUBTOTAL(9,AR104:AR104)","v":{"v":4283.4,"d":"4,283.40"}},{"$f":"SUBTOTAL(9,AS104:AS104)","v":{"v":51400.799999999996,"d":"51,400.80"}},{"$f":"SUBTOTAL(9,AT104:AT104)","v":{"v":12850.199999999999,"d":"12,850.20"}},{"$f":"SUBTOTAL(9,AU104:AU104)","v":{"v":8566.8,"d":"8,566.80"}},null,null,{"$f":"SUBTOTAL(9,AX104:AX104)","v":1},{"v":100749,"d":"100,749.00"},0,0,0,0,0,0,0,0,0,0,0,0,{"$nulls":3},{"v":155749,"d":"155,749.00"},{"$nulls":4},{"$f":"SUBTOTAL(9,BT104:BT104)","v":1},{"$f":"SUBTOTAL(9,BU104:BU104)","v":{"v":155749,"d":"155,749.00"}}]
[1,"นาง","ธนัชพร","ขันมณี",{"$nulls":12},"อบต.เวียงทอง","สูงเม่น","แพร่",{"$nulls":3},"2568-12-06",{"$nulls":6},0,{"$f":"AD107*12","v":0},{"$f":"AD107*3","v":0},{"$f":"AD107*2","v":0},{"$f":"AD107*3","v":0},{"$f":"AD107*3","v":0},null,{"$f":"AD107+AJ107","v":0},{"$nulls":4},0,null,{"$f":"AJ107+AL107+AO107+AP107","v":0},{"$f":"AR107*12","v":0},{"$f":"AR107*3","v":0},{"$f":"AR107*2","v":0},{"$f":"AR107*3","v":0},{"$f":"AR107*3","v":0},null,0,{"$nulls":10},1,{"v":278370,"d":"278,370.00"},null,null,{"v":1,"d":"1.00"},{"v":278370,"d":"278,370.00"},{"$nulls":4},{"$f":"BN107","v":1},{"$f":"ROUND(BO107,2)","v":{"v":278370,"d":"278,370.00"}}]
[{"$nulls":16},"อบต.เวียงทอง ผลรวม","สูงเม่น","แพร่",{"$nulls":9},{"$f":"SUBTOTAL(9,AC107:AC107)","v":0},{"$f":"SUBTOTAL(9,AD107:AD107)","v":0},{"$f":"SUBTOTAL(9,AE107:AE107)","v":0},{"$f":"SUBTOTAL(9,AF107:AF107)","v":0},{"$f":"SUBTOTAL(9,AG107:AG107)","v":0},{"$nulls":9},{"$f":"SUBTOTAL(9,AQ107:AQ107)","v":0},{"$f":"SUBTOTAL(9,AR107:AR107)","v":0},{"$f":"SUBTOTAL(9,AS107:AS107)","v":0},{"$f":"SUBTOTAL(9,AT107:AT107)","v":0},{"$f":"SUBTOTAL(9,AU107:AU107)","v":0},null,null,{"$f":"SUBTOTAL(9,AX107:AX107)","v":0},0,0,0,0,0,0,0,0,0,0,0,1,{"v":278370,"d":"278,370.00"},{"$nulls":3},{"v":278370,"d":"278,370.00"},{"$nulls":4},{"$f":"SUBTOTAL(9,BT107:BT107)","v":1},{"$f":"SUBTOTAL(9,BU107:BU107)","v":{"v":278370,"d":"278,370.00"}}]
[{"$nulls":18},"แพร่ ผลรวม",{"$nulls":9},{"$f":"SUBTOTAL(9,AC107:AC107)","v":0},{"$f":"SUBTOTAL(9,AD107:AD107)","v":0},{"$f":"SUBTOTAL(9,AE107:AE107)","v":0},{"$f":"SUBTOTAL(9,AF107:AF107)","v":0},{"$f":"SUBTOTAL(9,AG107:AG107)","v":0},{"$nulls":9},{"$f":"SUBTOTAL(9,AQ107:AQ107)","v":0},{"$f":"SUBTOTAL(9,AR107:AR107)","v":0},{"$f":"SUBTOTAL(9,AS107:AS107)","v":0},{"$f":"SUBTOTAL(9,AT107:AT107)","v":0},{"$f":"SUBTOTAL(9,AU107:AU107)","v":0},null,null,{"$f":"SUBTOTAL(9,AX107:AX107)","v":0},0,0,0,0,0,0,0,0,0,0,0,1,{"v":278370,"d":"278,370.00"},{"$nulls":3},{"v":278370,"d":"278,370.00"},{"$nulls":4},{"$f":"SUBTOTAL(9,BT107:BT107)","v":1},{"$f":"SUBTOTAL(9,BU107:BU107)","v":{"v":278370,"d":"278,370.00"}}]
[1,"นางสาว","บรรจง","งามเฉลียว",{"$nulls":4},"2568-10-01",{"$nulls":7},"อบต.แม่น้ำคู้","ปลวกแดง","ระยอง",{"$nulls":9},1,{"v":9760.8,"d":"9,760.80"},{"$f":"AD110*12","v":{"v":117129.59999999999,"d":"117,129.60"}},{"$f":"AD110*3","v":{"v":29282.399999999998,"d":"29,282.40"}},{"$f":"AD110*2","v":{"v":19521.6,"d":"19,521.60"}},{"$f":"AD110*3","v":{"v":29282.399999999998,"d":"29,282.40"}},{"$f":"AD110*3","v":{"v":29282.399999999998,"d":"29,282.40"}},null,{"$f":"AD110+AJ110","v":{"v":9760.8,"d":"9,760.80"}},{"$nulls":4},{"$f":"11000-AO110-AD110","v":{"v":1239.2000000000007,"d":"1,239.20"}},1,{"$f":"AJ110+AL110+AO110+AP110","v":{"v":1239.2000000000007,"d":"1,239.20"}},{"$f":"AR110*12","v":{"v":14870.400000000009,"d":"14,870.40"}},{"$f":"AR110*3","v":{"v":3717.600000000002,"d":"3,717.60"}},{"$f":"AR110*2","v":{"v":2478.4000000000015,"d":"2,478.40"}},{"$f":"AR110*3","v":{"v":3717.600000000002,"d":"3,717.60"}},{"$f":"AR110*3","v":{"v":3717.600000000002,"d":"3,717.60"}},1,{"v":146412,"d":"146,412.00"},{"$nulls":14},{"v":1,"d":"1.00"},{"v":201412,"d":"201,412.00"},{"$nulls":4},{"$f":"BN110","v":1},{"$f":"ROUND(BO110,2)","v":{"v":201412,"d":"201,412.00"}}]
[{"$nulls":16},"อบต.แม่น้ำคู้ ผลรวม","ปลวกแดง","ระยอง",{"$nulls":9},{"$f":"SUBTOTAL(9,AC110:AC110)","v":1},{"$f":"SUBTOTAL(9,AD110:AD110)","v":{"v":9760.8,"d":"9,760.80"}},{"$f":"SUBTOTAL(9,AE110:AE110)","v":{"v":117129.59999999999,"d":"117,129.60"}},{"$f":"SUBTOTAL(9,AF110:AF110)","v":{"v":29282.399999999998,"d":"29,282.40"}},{"$f":"SUBTOTAL(9,AG110:AG110)","v":{"v":19521.6,"d":"19,521.60"}},{"$nulls":9},{"$f":"SUBTOTAL(9,AQ110:AQ110)","v":1},{"$f":"SUBTOTAL(9,AR110:AR110)","v":{"v":1239.2000000000007,"d":"1,239.20"}},{"$f":"SUBTOTAL(9,AS110:AS110)","v":{"v":14870.400000000009,"d":"14,870.40"}},{"$f":"SUBTOTAL(9,AT110:AT110)","v":{"v":3717.600000000002,"d":"3,717.60"}},{"$f":"SUBTOTAL(9,AU110:AU110)","v":{"v":2478.4000000000015,"d":"2,478.40"}},null,null,{"$f":"SUBTOTAL(9,AX110:AX110)","v":1},{"v":146412,"d":"146,412.00"},0,0,0,0,0,0,0,0,0,0,0,0,{"$nulls":3},{"v":201412,"d":"201,412.00"},{"$nulls":4},{"$f":"SUBTOTAL(9,BT110:BT110)","v":1},{"$f":"SUBTOTAL(9,BU110:BU110)","v":{"v":201412,"d":"201,412.00"}}]
[{"$nulls":18},"ระยอง ผลรวม",{"$nulls":9},{"$f":"SUBTOTAL(9,AC110:AC110)","v":1},{"$f":"SUBTOTAL(9,AD110:AD110)","v":{"v":9760.8,"d":"9,760.80"}},{"$f":"SUBTOTAL(9,AE110:AE110)","v":{"v":117129.59999999999,"d":"117,129.60"}},{"$f":"SUBTOTAL(9,AF110:AF110)","v":{"v":29282.399999999998,"d":"29,282.40"}},{"$f":"SUBTOTAL(9,AG110:AG110)","v":{"v":19521.6,"d":"19,521.60"}},{"$nulls":9},{"$f":"SUBTOTAL(9,AQ110:AQ110)","v":1},{"$f":"SUBTOTAL(9,AR110:AR110)","v":{"v":1239.2000000000007,"d":"1,239.20"}},{"$f":"SUBTOTAL(9,AS110:AS110)","v":{"v":14870.400000000009,"d":"14,870.40"}},{"$f":"SUBTOTAL(9,AT110:AT110)","v":{"v":3717.600000000002,"d":"3,717.60"}},{"$f":"SUBTOTAL(9,AU110:AU110)","v":{"v":2478.4000000000015,"d":"2,478.40"}},null,null,{"$f":"SUBTOTAL(9,AX110:AX110)","v":1},{"v":146412,"d":"146,412.00"},0,0,0,0,0,0,0,0,0,0,0,0,{"$nulls":3},{"v":201412,"d":"201,412.00"},{"$nulls":4},{"$f":"SUBTOTAL(9,BT110:BT110)","v":1},{"$f":"SUBTOTAL(9,BU110:BU110)","v":{"v":201412,"d":"201,412.00"}}]
[1,"นาง","ไพรวรรณ","อินทวงศ์",{"$nulls":4},"2568-10-01",{"$nulls":7},"อบต.สบป้าด","แม่เมาะ","ลำปาง",null,"ครู",{"$nulls":7},1,{"v":9942.8,"d":"9,942.80"},{"$f":"AD113*12","v":{"v":119313.59999999999,"d":"119,313.60"}},{"$f":"AD113*3","v":{"v":29828.399999999998,"d":"29,828.40"}},{"$f":"AD113*2","v":{"v":19885.6,"d":"19,885.60"}},{"$f":"AD113*3","v":{"v":29828.399999999998,"d":"29,828.40"}},{"$f":"AD113*3","v":{"v":29828.399999999998,"d":"29,828.40"}},null,{"$f":"AD113+AJ113","v":{"v":9942.8,"d":"9,942.80"}},{"$nulls":4},{"$f":"11000-AO113-AD113","v":{"v":1057.2000000000007,"d":"1,057.20"}},1,{"$f":"AJ113+AL113+AN113+AO113+AP113","v":{"v":1057.2000000000007,"d":"1,057.20"}},{"$f":"AR113*12","v":{"v":12686.400000000009,"d":"12,686.40"}},{"$f":"AR113*3","v":{"v":3171.600000000002,"d":"3,171.60"}},{"$f":"AR113*2","v":{"v":2114.4000000000015,"d":"2,114.40"}},{"$f":"AR113*3","v":{"v":3171.600000000002,"d":"3,171.60"}},{"$f":"AR113*3","v":{"v":3171.600000000002,"d":"3,171.60"}},1,{"$f":"SUM(AD113*15)","v":{"v":149142,"d":"149,142.00"}},{"$nulls":14},{"v":1,"d":"1.00"},{"v":204142,"d":"204,142.00"},{"$nulls":4},{"$f":"BN113","v":1},{"$f":"ROUND(BO113,2)","v":{"v":204142,"d":"204,142.00"}}]
[{"$nulls":16},"อบต.สบป้าด ผลรวม","แม่เมาะ","ลำปาง",{"$nulls":9},{"$f":"SUBTOTAL(9,AC113:AC113)","v":1},{"$f":"SUBTOTAL(9,AD113:AD113)","v":{"v":9942.8,"d":"9,942.80"}},{"$f":"SUBTOTAL(9,AE113:AE113)","v":{"v":119313.59999999999,"d":"119,313.60"}},{"$f":"SUBTOTAL(9,AF113:AF113)","v":{"v":29828.399999999998,"d":"29,828.40"}},{"$f":"SUBTOTAL(9,AG113:AG113)","v":{"v":19885.6,"d":"19,885.60"}},{"$nulls":9},{"$f":"SUBTOTAL(9,AQ113:AQ113)","v":1},{"$f":"SUBTOTAL(9,AR113:AR113)","v":{"v":1057.2000000000007,"d":"1,057.20"}},{"$f":"SUBTOTAL(9,AS113:AS113)","v":{"v":12686.400000000009,"d":"12,686.40"}},{"$f":"SUBTOTAL(9,AT113:AT113)","v":{"v":3171.600000000002,"d":"3,171.60"}},{"$f":"SUBTOTAL(9,AU113:AU113)","v":{"v":2114.4000000000015,"d":"2,114.40"}},null,null,{"$f":"SUBTOTAL(9,AX113:AX113)","v":1},{"v":149142,"d":"149,142.00"},0,0,0,0,0,0,0,0,0,0,0,0,{"$nulls":3},{"v":204142,"d":"204,142.00"},{"$nulls":4},{"$f":"SUBTOTAL(9,BT113:BT113)","v":1},{"$f":"SUBTOTAL(9,BU113:BU113)","v":{"v":204142,"d":"204,142.00"}}]
[{"$f":"A113+1","v":2},"นาง","แสงจันทร์","ประสมนาม",{"$nulls":4},"2569-01-01",{"$nulls":7},"อบต.นายาง","สบปราบ","ลำปาง",null,"ครู",{"$nulls":7},1,{"v":8660.6,"d":"8,660.60"},{"$f":"AD115*10","v":{"v":86606,"d":"86,606.00"}},null,{"$f":"AD115*2","v":{"v":17321.2,"d":"17,321.20"}},{"$f":"AD115*3","v":{"v":25981.800000000003,"d":"25,981.80"}},{"$f":"AD115*3","v":{"v":25981.800000000003,"d":"25,981.80"}},null,{"$f":"AD115+AJ115","v":{"v":8660.6,"d":"8,660.60"}},{"$nulls":4},{"$f":"11000-AO115-AD115","v":{"v":2339.3999999999996,"d":"2,339.40"}},1,{"$f":"AJ115+AL115+AN115+AO115+AP115","v":{"v":2339.3999999999996,"d":"2,339.40"}},{"$f":"AR115*10","v":{"v":23393.999999999996,"d":"23,394.00"}},null,{"$f":"AR115*2","v":{"v":4678.799999999999,"d":"4,678.80"}},{"$f":"AR115*3","v":{"v":7018.199999999999,"d":"7,018.20"}},{"$f":"AR115*3","v":{"v":7018.199999999999,"d":"7,018.20"}},1,{"$f":"SUM(AD115*15)","v":{"v":129909,"d":"129,909.00"}},{"$nulls":14},{"v":1,"d":"1.00"},{"v":151909,"d":"151,909.00"},{"$nulls":4},{"$f":"BN115","v":1},{"$f":"ROUND(BO115,2)","v":{"v":151909,"d":"151,909.00"}}]
[{"$nulls":16},"อบต.นายาง ผลรวม","สบปราบ","ลำปาง",{"$nulls":9},{"$f":"SUBTOTAL(9,AC115:AC115)","v":1},{"$f":"SUBTOTAL(9,AD115:AD115)","v":{"v":8660.6,"d":"8,660.60"}},{"$f":"SUBTOTAL(9,AE115:AE115)","v":{"v":86606,"d":"86,606.00"}},{"$f":"SUBTOTAL(9,AF115:AF115)","v":0},{"$f":"SUBTOTAL(9,AG115:AG115)","v":{"v":17321.2,"d":"17,321.20"}},{"$nulls":9},{"$f":"SUBTOTAL(9,AQ115:AQ115)","v":1},{"$f":"SUBTOTAL(9,AR115:AR115)","v":{"v":2339.3999999999996,"d":"2,339.40"}},{"$f":"SUBTOTAL(9,AS115:AS115)","v":{"v":23393.999999999996,"d":"23,394.00"}},{"$f":"SUBTOTAL(9,AT115:AT115)","v":0},{"$f":"SUBTOTAL(9,AU115:AU115)","v":{"v":4678.799999999999,"d":"4,678.80"}},null,null,{"$f":"SUBTOTAL(9,AX115:AX115)","v":1},{"v":129909,"d":"129,909.00"},0,0,0,0,0,0,0,0,0,0,0,0,{"$nulls":3},{"v":151909,"d":"151,909.00"},{"$nulls":4},{"$f":"SUBTOTAL(9,BT115:BT115)","v":1},{"$f":"SUBTOTAL(9,BU115:BU115)","v":{"v":151909,"d":"151,909.00"}}]
[{"$nulls":18},"ลำปาง ผลรวม",{"$nulls":9},{"$f":"SUBTOTAL(9,AC113:AC115)","v":2},{"$f":"SUBTOTAL(9,AD113:AD115)","v":{"v":18603.4,"d":"18,603.40"}},{"$f":"SUBTOTAL(9,AE113:AE115)","v":{"v":205919.59999999998,"d":"205,919.60"}},{"$f":"SUBTOTAL(9,AF113:AF115)","v":{"v":29828.399999999998,"d":"29,828.40"}},{"$f":"SUBTOTAL(9,AG113:AG115)","v":{"v":37206.8,"d":"37,206.80"}},{"$nulls":9},{"$f":"SUBTOTAL(9,AQ113:AQ115)","v":2},{"$f":"SUBTOTAL(9,AR113:AR115)","v":{"v":3396.6000000000004,"d":"3,396.60"}},{"$f":"SUBTOTAL(9,AS113:AS115)","v":{"v":36080.40000000001,"d":"36,080.40"}},{"$f":"SUBTOTAL(9,AT113:AT115)","v":{"v":3171.600000000002,"d":"3,171.60"}},{"$f":"SUBTOTAL(9,AU113:AU115)","v":{"v":6793.200000000001,"d":"6,793.20"}},null,null,{"$f":"SUBTOTAL(9,AX113:AX115)","v":2},{"v":279051,"d":"279,051.00"},0,0,0,0,0,0,0,0,0,0,0,0,{"$nulls":3},{"v":356051,"d":"356,051.00"},{"$nulls":4},{"$f":"SUBTOTAL(9,BT113:BT115)","v":2},{"$f":"SUBTOTAL(9,BU113:BU115)","v":{"v":356051,"d":"356,051.00"}}]
[1,"นาง","บัวคำ","จิตรสุข",{"$nulls":4},"2568-10-01",{"$nulls":7},"อบต.บ้านปวง","ทุ่งหัวช้าง","ลำพูน",null,"ครู",{"$nulls":9},{"$f":"AD118*12","v":0},{"$f":"AD118*3","v":0},{"$f":"AD118*2","v":0},{"$nulls":11},{"$f":"AR118*12","v":0},{"$f":"AR118*3","v":0},{"$f":"AR118*2","v":0},{"$f":"AR118*3","v":0},{"$f":"AR118*3","v":0},1,{"v":4134,"d":"4,134.00"},{"$nulls":14},{"v":1,"d":"1.00"},{"v":4134,"d":"4,134.00"},{"$nulls":4},{"$f":"BN118","v":1},{"$f":"ROUND(BO118,2)","v":{"v":4134,"d":"4,134.00"}}]
[{"$nulls":16},"อบต.บ้านปวง ผลรวม","ทุ่งหัวช้าง","ลำพูน",{"$nulls":9},{"$f":"SUBTOTAL(9,AC118:AC118)","v":0},{"$f":"SUBTOTAL(9,AD118:AD118)","v":0},{"$f":"SUBTOTAL(9,AE118:AE118)","v":0},{"$f":"SUBTOTAL(9,AF118:AF118)","v":0},{"$f":"SUBTOTAL(9,AG118:AG118)","v":0},{"$nulls":9},{"$f":"SUBTOTAL(9,AQ118:AQ118)","v":0},{"$f":"SUBTOTAL(9,AR118:AR118)","v":0},{"$f":"SUBTOTAL(9,AS118:AS118)","v":0},{"$f":"SUBTOTAL(9,AT118:AT118)","v":0},{"$f":"SUBTOTAL(9,AU118:AU118)","v":0},null,null,{"$f":"SUBTOTAL(9,AX118:AX118)","v":1},{"v":4134,"d":"4,134.00"},0,0,0,0,0,0,0,0,0,0,0,0,{"$nulls":3},{"v":4134,"d":"4,134.00"},{"$nulls":4},{"$f":"SUBTOTAL(9,BT118:BT118)","v":1},{"$f":"SUBTOTAL(9,BU118:BU118)","v":{"v":4134,"d":"4,134.00"}}]
[{"$f":"A118+1","v":2},"นาง","เทียมใจ","วงศ์ฝั้น",{"$nulls":4},"2568-01-01",{"$nulls":7},"อบต.เวียงกานต์","บ้านโฮ่ง","ลำพูน",null,"ครู",{"$nulls":9},{"$f":"AD120*12","v":0},{"$f":"AD120*3","v":0},{"$f":"AD120*2","v":0},{"$nulls":11},{"$f":"AR120*12","v":0},{"$f":"AR120*3","v":0},{"$f":"AR120*2","v":0},{"$f":"AR120*3","v":0},{"$f":"AR120*3","v":0},1,{"v":4017,"d":"4,017.00"},{"$nulls":14},{"v":1,"d":"1.00"},{"v":4017,"d":"4,017.00"},{"$nulls":4},{"$f":"BN120","v":1},{"$f":"ROUND(BO120,2)","v":{"v":4017,"d":"4,017.00"}}]
[{"$nulls":16},"อบต.เวียงกานต์ ผลรวม","บ้านโฮ่ง","ลำพูน",{"$nulls":9},{"$f":"SUBTOTAL(9,AC120:AC120)","v":0},{"$f":"SUBTOTAL(9,AD120:AD120)","v":0},{"$f":"SUBTOTAL(9,AE120:AE120)","v":0},{"$f":"SUBTOTAL(9,AF120:AF120)","v":0},{"$f":"SUBTOTAL(9,AG120:AG120)","v":0},{"$nulls":9},{"$f":"SUBTOTAL(9,AQ120:AQ120)","v":0},{"$f":"SUBTOTAL(9,AR120:AR120)","v":0},{"$f":"SUBTOTAL(9,AS120:AS120)","v":0},{"$f":"SUBTOTAL(9,AT120:AT120)","v":0},{"$f":"SUBTOTAL(9,AU120:AU120)","v":0},null,null,{"$f":"SUBTOTAL(9,AX120:AX120)","v":1},{"v":4017,"d":"4,017.00"},0,0,0,0,0,0,0,0,0,0,0,0,{"$nulls":3},{"v":4017,"d":"4,017.00"},{"$nulls":4},{"$f":"SUBTOTAL(9,BT120:BT120)","v":1},{"$f":"SUBTOTAL(9,BU120:BU120)","v":{"v":4017,"d":"4,017.00"}}]
[{"$f":"A49+1","v":4},"นาง","ทัศนีย์","ชัยชาติตระกูล",{"$nulls":4},"2568-10-01",{"$nulls":7},"อบต.นาทราย","ลี้","ลำพูน",null,"ครู",{"$nulls":7},1,{"v":6910.2,"d":"6,910.20"},{"$f":"AD122*12","v":{"v":82922.4,"d":"82,922.40"}},{"$f":"AD122*3","v":{"v":20730.6,"d":"20,730.60"}},{"$f":"AD122*2","v":{"v":13820.4,"d":"13,820.40"}},{"$f":"AD122*3","v":{"v":20730.6,"d":"20,730.60"}},{"$f":"AD122*3","v":{"v":20730.6,"d":"20,730.60"}},null,{"$f":"AD122+AJ122","v":{"v":6910.2,"d":"6,910.20"}},{"$nulls":4},{"$f":"11000-AO122-AD122","v":{"v":4089.8,"d":"4,089.80"}},1,{"$f":"AJ122+AL122+AN122+AO122+AP122","v":{"v":4089.8,"d":"4,089.80"}},{"$f":"AR122*12","v":{"v":49077.600000000006,"d":"49,077.60"}},{"$f":"AR122*3","v":{"v":12269.400000000001,"d":"12,269.40"}},{"$f":"AR122*2","v":{"v":8179.6,"d":"8,179.60"}},{"$f":"AR122*3","v":{"v":12269.400000000001,"d":"12,269.40"}},{"$f":"AR122*3","v":{"v":12269.400000000001,"d":"12,269.40"}},1,{"$f":"SUM(AD122*15)","v":{"v":103653,"d":"103,653.00"}},{"$nulls":14},{"v":1,"d":"1.00"},{"v":158653,"d":"158,653.00"},{"$nulls":4},{"$f":"BN122","v":1},{"$f":"ROUND(BO122,2)","v":{"v":158653,"d":"158,653.00"}}]
[{"$nulls":16},"อบต.นาทราย ผลรวม","ลี้","ลำพูน",{"$nulls":9},{"$f":"SUBTOTAL(9,AC122:AC122)","v":1},{"$f":"SUBTOTAL(9,AD122:AD122)","v":{"v":6910.2,"d":"6,910.20"}},{"$f":"SUBTOTAL(9,AE122:AE122)","v":{"v":82922.4,"d":"82,922.40"}},{"$f":"SUBTOTAL(9,AF122:AF122)","v":{"v":20730.6,"d":"20,730.60"}},{"$f":"SUBTOTAL(9,AG122:AG122)","v":{"v":13820.4,"d":"13,820.40"}},{"$nulls":9},{"$f":"SUBTOTAL(9,AQ122:AQ122)","v":1},{"$f":"SUBTOTAL(9,AR122:AR122)","v":{"v":4089.8,"d":"4,089.80"}},{"$f":"SUBTOTAL(9,AS122:AS122)","v":{"v":49077.600000000006,"d":"49,077.60"}},{"$f":"SUBTOTAL(9,AT122:AT122)","v":{"v":12269.400000000001,"d":"12,269.40"}},{"$f":"SUBTOTAL(9,AU122:AU122)","v":{"v":8179.6,"d":"8,179.60"}},null,null,{"$f":"SUBTOTAL(9,AX122:AX122)","v":1},{"v":103653,"d":"103,653.00"},0,0,0,0,0,0,0,0,0,0,0,0,{"$nulls":3},{"v":158653,"d":"158,653.00"},{"$nulls":4},{"$f":"SUBTOTAL(9,BT122:BT122)","v":1},{"$f":"SUBTOTAL(9,BU122:BU122)","v":{"v":158653,"d":"158,653.00"}}]
[{"$nulls":18},"ลำพูน ผลรวม",{"$nulls":9},{"$f":"SUBTOTAL(9,AC118:AC122)","v":1},{"$f":"SUBTOTAL(9,AD118:AD122)","v":{"v":6910.2,"d":"6,910.20"}},{"$f":"SUBTOTAL(9,AE118:AE122)","v":{"v":82922.4,"d":"82,922.40"}},{"$f":"SUBTOTAL(9,AF118:AF122)","v":{"v":20730.6,"d":"20,730.60"}},{"$f":"SUBTOTAL(9,AG118:AG122)","v":{"v":13820.4,"d":"13,820.40"}},{"$nulls":9},{"$f":"SUBTOTAL(9,AQ118:AQ122)","v":1},{"$f":"SUBTOTAL(9,AR118:AR122)","v":{"v":4089.8,"d":"4,089.80"}},{"$f":"SUBTOTAL(9,AS118:AS122)","v":{"v":49077.600000000006,"d":"49,077.60"}},{"$f":"SUBTOTAL(9,AT118:AT122)","v":{"v":12269.400000000001,"d":"12,269.40"}},{"$f":"SUBTOTAL(9,AU118:AU122)","v":{"v":8179.6,"d":"8,179.60"}},null,null,{"$f":"SUBTOTAL(9,AX118:AX122)","v":3},{"v":111804,"d":"111,804.00"},0,0,0,0,0,0,0,0,0,0,0,0,{"$nulls":3},{"v":166804,"d":"166,804.00"},{"$nulls":4},{"$f":"SUBTOTAL(9,BT118:BT122)","v":3},{"$f":"SUBTOTAL(9,BU118:BU122)","v":{"v":166804,"d":"166,804.00"}}]
[1,"นาง","หนูพิศ","แย้มฎีกา",{"$nulls":4},"2568-10-01",{"$nulls":7},"อบต.ศรีฐาน","ภูกระดึง","เลย",null,"ครู",{"$nulls":7},1,{"v":9489.2,"d":"9,489.20"},{"$f":"AD125*12","v":{"v":113870.40000000001,"d":"113,870.40"}},{"$f":"AD125*3","v":{"v":28467.600000000002,"d":"28,467.60"}},{"$f":"AD125*2","v":{"v":18978.4,"d":"18,978.40"}},{"$f":"AD125*3","v":{"v":28467.600000000002,"d":"28,467.60"}},{"$f":"AD125*3","v":{"v":28467.600000000002,"d":"28,467.60"}},null,{"$f":"AD125+AJ125","v":{"v":9489.2,"d":"9,489.20"}},{"$nulls":4},{"$f":"11000-AO125-AD125","v":{"v":1510.7999999999993,"d":"1,510.80"}},1,{"$f":"AJ125+AL125+AN125+AO125+AP125","v":{"v":1510.7999999999993,"d":"1,510.80"}},{"$f":"AR125*12","v":{"v":18129.59999999999,"d":"18,129.60"}},{"$f":"AR125*3","v":{"v":4532.399999999998,"d":"4,532.40"}},{"$f":"AR125*2","v":{"v":3021.5999999999985,"d":"3,021.60"}},{"$f":"AR125*3","v":{"v":4532.399999999998,"d":"4,532.40"}},{"$f":"AR125*3","v":{"v":4532.399999999998,"d":"4,532.40"}},1,{"$f":"SUM(AD125*15)","v":{"v":142338,"d":"142,338.00"}},{"$nulls":14},{"v":1,"d":"1.00"},{"v":197338,"d":"197,338.00"},{"$nulls":4},{"$f":"BN125","v":1},{"$f":"ROUND(BO125,2)","v":{"v":197338,"d":"197,338.00"}}]
[{"$nulls":16},"อบต.ศรีฐาน ผลรวม","ภูกระดึง","เลย",{"$nulls":9},{"$f":"SUBTOTAL(9,AC125:AC125)","v":1},{"$f":"SUBTOTAL(9,AD125:AD125)","v":{"v":9489.2,"d":"9,489.20"}},{"$f":"SUBTOTAL(9,AE125:AE125)","v":{"v":113870.40000000001,"d":"113,870.40"}},{"$f":"SUBTOTAL(9,AF125:AF125)","v":{"v":28467.600000000002,"d":"28,467.60"}},{"$f":"SUBTOTAL(9,AG125:AG125)","v":{"v":18978.4,"d":"18,978.40"}},{"$nulls":9},{"$f":"SUBTOTAL(9,AQ125:AQ125)","v":1},{"$f":"SUBTOTAL(9,AR125:AR125)","v":{"v":1510.7999999999993,"d":"1,510.80"}},{"$f":"SUBTOTAL(9,AS125:AS125)","v":{"v":18129.59999999999,"d":"18,129.60"}},{"$f":"SUBTOTAL(9,AT125:AT125)","v":{"v":4532.399999999998,"d":"4,532.40"}},{"$f":"SUBTOTAL(9,AU125:AU125)","v":{"v":3021.5999999999985,"d":"3,021.60"}},null,null,{"$f":"SUBTOTAL(9,AX125:AX125)","v":1},{"v":142338,"d":"142,338.00"},0,0,0,0,0,0,0,0,0,0,0,0,{"$nulls":3},{"v":197338,"d":"197,338.00"},{"$nulls":4},{"$f":"SUBTOTAL(9,BT125:BT125)","v":1},{"$f":"SUBTOTAL(9,BU125:BU125)","v":{"v":197338,"d":"197,338.00"}}]
[{"$nulls":18},"เลย ผลรวม",{"$nulls":9},{"$f":"SUBTOTAL(9,AC125:AC125)","v":1},{"$f":"SUBTOTAL(9,AD125:AD125)","v":{"v":9489.2,"d":"9,489.20"}},{"$f":"SUBTOTAL(9,AE125:AE125)","v":{"v":113870.40000000001,"d":"113,870.40"}},{"$f":"SUBTOTAL(9,AF125:AF125)","v":{"v":28467.600000000002,"d":"28,467.60"}},{"$f":"SUBTOTAL(9,AG125:AG125)","v":{"v":18978.4,"d":"18,978.40"}},{"$nulls":9},{"$f":"SUBTOTAL(9,AQ125:AQ125)","v":1},{"$f":"SUBTOTAL(9,AR125:AR125)","v":{"v":1510.7999999999993,"d":"1,510.80"}},{"$f":"SUBTOTAL(9,AS125:AS125)","v":{"v":18129.59999999999,"d":"18,129.60"}},{"$f":"SUBTOTAL(9,AT125:AT125)","v":{"v":4532.399999999998,"d":"4,532.40"}},{"$f":"SUBTOTAL(9,AU125:AU125)","v":{"v":3021.5999999999985,"d":"3,021.60"}},null,null,{"$f":"SUBTOTAL(9,AX125:AX125)","v":1},{"v":142338,"d":"142,338.00"},0,0,0,0,0,0,0,0,0,0,0,0,{"$nulls":3},{"v":197338,"d":"197,338.00"},{"$nulls":4},{"$f":"SUBTOTAL(9,BT125:BT125)","v":1},{"$f":"SUBTOTAL(9,BU125:BU125)","v":{"v":197338,"d":"197,338.00"}}]
[1,"นาง","ทองวรรณ","มะณีวัน",{"$nulls":4},"2568-10-01",{"$nulls":7},"อบต.สังเม็ก","กันทรลักษ์","ศรีสะเกษ",{"$nulls":9},1,{"v":8200.8,"d":"8,200.80"},{"$f":"AD128*12","v":{"v":98409.59999999999,"d":"98,409.60"}},{"$f":"AD128*3","v":{"v":24602.399999999998,"d":"24,602.40"}},{"$f":"AD128*2","v":{"v":16401.6,"d":"16,401.60"}},{"$f":"AD128*3","v":{"v":24602.399999999998,"d":"24,602.40"}},{"$f":"AD128*3","v":{"v":24602.399999999998,"d":"24,602.40"}},null,{"$f":"AD128+AJ128","v":{"v":8200.8,"d":"8,200.80"}},{"$nulls":3},0,{"$f":"11000-AO128-AD128","v":{"v":2799.2000000000007,"d":"2,799.20"}},{"$f":"+AC128","v":1},{"$f":"AJ128+AL128+AO128+AP128","v":{"v":2799.2000000000007,"d":"2,799.20"}},{"$f":"AR128*12","v":{"v":33590.40000000001,"d":"33,590.40"}},{"$f":"AR128*3","v":{"v":8397.600000000002,"d":"8,397.60"}},{"$f":"AR128*2","v":{"v":5598.4000000000015,"d":"5,598.40"}},{"$f":"AR128*3","v":{"v":8397.600000000002,"d":"8,397.60"}},{"$f":"AR128*3","v":{"v":8397.600000000002,"d":"8,397.60"}},1,{"v":123012,"d":"123,012.00"},{"$nulls":14},{"v":1,"d":"1.00"},{"v":178012,"d":"178,012.00"},{"$nulls":4},{"$f":"BN128","v":1},{"$f":"ROUND(BO128,2)","v":{"v":178012,"d":"178,012.00"}}]
[{"$nulls":16},"อบต.สังเม็ก ผลรวม","กันทรลักษ์","ศรีสะเกษ",{"$nulls":9},{"$f":"SUBTOTAL(9,AC128:AC128)","v":1},{"$f":"SUBTOTAL(9,AD128:AD128)","v":{"v":8200.8,"d":"8,200.80"}},{"$f":"SUBTOTAL(9,AE128:AE128)","v":{"v":98409.59999999999,"d":"98,409.60"}},{"$f":"SUBTOTAL(9,AF128:AF128)","v":{"v":24602.399999999998,"d":"24,602.40"}},{"$f":"SUBTOTAL(9,AG128:AG128)","v":{"v":16401.6,"d":"16,401.60"}},{"$nulls":9},{"$f":"SUBTOTAL(9,AQ128:AQ128)","v":1},{"$f":"SUBTOTAL(9,AR128:AR128)","v":{"v":2799.2000000000007,"d":"2,799.20"}},{"$f":"SUBTOTAL(9,AS128:AS128)","v":{"v":33590.40000000001,"d":"33,590.40"}},{"$f":"SUBTOTAL(9,AT128:AT128)","v":{"v":8397.600000000002,"d":"8,397.60"}},{"$f":"SUBTOTAL(9,AU128:AU128)","v":{"v":5598.4000000000015,"d":"5,598.40"}},null,null,{"$f":"SUBTOTAL(9,AX128:AX128)","v":1},{"v":123012,"d":"123,012.00"},0,0,0,0,0,0,0,0,0,0,0,0,{"$nulls":3},{"v":178012,"d":"178,012.00"},{"$nulls":4},{"$f":"SUBTOTAL(9,BT128:BT128)","v":1},{"$f":"SUBTOTAL(9,BU128:BU128)","v":{"v":178012,"d":"178,012.00"}}]
[{"$f":"A128+1","v":2},"นาง","นิพัทธา","บุญจันทร์",{"$nulls":4},"2568-10-01",{"$nulls":7},"อบต.จาน","กันทรารมย์","ศรีสะเกษ",{"$nulls":9},1,{"v":8777.6,"d":"8,777.60"},{"$f":"AD130*12","v":{"v":105331.20000000001,"d":"105,331.20"}},{"$f":"AD130*3","v":{"v":26332.800000000003,"d":"26,332.80"}},{"$f":"AD130*2","v":{"v":17555.2,"d":"17,555.20"}},{"$f":"AD130*3","v":{"v":26332.800000000003,"d":"26,332.80"}},{"$f":"AD130*3","v":{"v":26332.800000000003,"d":"26,332.80"}},null,{"$f":"AD130+AJ130","v":{"v":8777.6,"d":"8,777.60"}},{"$nulls":3},0,{"$f":"11000-AO130-AD130","v":{"v":2222.3999999999996,"d":"2,222.40"}},{"$f":"+AC130","v":1},{"$f":"AJ130+AL130+AO130+AP130","v":{"v":2222.3999999999996,"d":"2,222.40"}},{"$f":"AR130*12","v":{"v":26668.799999999996,"d":"26,668.80"}},{"$f":"AR130*3","v":{"v":6667.199999999999,"d":"6,667.20"}},{"$f":"AR130*2","v":{"v":4444.799999999999,"d":"4,444.80"}},{"$f":"AR130*3","v":{"v":6667.199999999999,"d":"6,667.20"}},{"$f":"AR130*3","v":{"v":6667.199999999999,"d":"6,667.20"}},1,{"v":131664,"d":"131,664.00"},{"$nulls":14},{"v":1,"d":"1.00"},{"v":186664,"d":"186,664.00"},{"$nulls":4},{"$f":"BN130","v":1},{"$f":"ROUND(BO130,2)","v":{"v":186664,"d":"186,664.00"}}]
[{"$nulls":16},"อบต.จาน ผลรวม","กันทรารมย์","ศรีสะเกษ",{"$nulls":9},{"$f":"SUBTOTAL(9,AC130:AC130)","v":1},{"$f":"SUBTOTAL(9,AD130:AD130)","v":{"v":8777.6,"d":"8,777.60"}},{"$f":"SUBTOTAL(9,AE130:AE130)","v":{"v":105331.20000000001,"d":"105,331.20"}},{"$f":"SUBTOTAL(9,AF130:AF130)","v":{"v":26332.800000000003,"d":"26,332.80"}},{"$f":"SUBTOTAL(9,AG130:AG130)","v":{"v":17555.2,"d":"17,555.20"}},{"$nulls":9},{"$f":"SUBTOTAL(9,AQ130:AQ130)","v":1},{"$f":"SUBTOTAL(9,AR130:AR130)","v":{"v":2222.3999999999996,"d":"2,222.40"}},{"$f":"SUBTOTAL(9,AS130:AS130)","v":{"v":26668.799999999996,"d":"26,668.80"}},{"$f":"SUBTOTAL(9,AT130:AT130)","v":{"v":6667.199999999999,"d":"6,667.20"}},{"$f":"SUBTOTAL(9,AU130:AU130)","v":{"v":4444.799999999999,"d":"4,444.80"}},null,null,{"$f":"SUBTOTAL(9,AX130:AX130)","v":1},{"v":131664,"d":"131,664.00"},0,0,0,0,0,0,0,0,0,0,0,0,{"$nulls":3},{"v":186664,"d":"186,664.00"},{"$nulls":4},{"$f":"SUBTOTAL(9,BT130:BT130)","v":1},{"$f":"SUBTOTAL(9,BU130:BU130)","v":{"v":186664,"d":"186,664.00"}}]
[{"$f":"A130+1","v":3},"นาง","วิไลรัตน์","บุญสว่าง",{"$nulls":4},"2568-01-30",{"$nulls":7},"อบต.ดู่","กันทรารมย์","ศรีสะเกษ",{"$nulls":3},{"$f":"+I132","v":"2568-01-30"},{"$nulls":7},{"$f":"AD132*12","v":0},{"$f":"AD132*3","v":0},{"$f":"AD132*2","v":0},{"$f":"AD132*3","v":0},{"$f":"AD132*3","v":0},null,{"$f":"AD132+AJ132","v":0},{"$nulls":3},0,null,{"$f":"+AC132","v":0},{"$f":"AJ132+AL132+AO132+AP132","v":0},{"$f":"AR132*12","v":0},{"$f":"AR132*3","v":0},{"$f":"AR132*2","v":0},{"$f":"AR132*3","v":0},{"$f":"AR132*3","v":0},{"$nulls":8},1,{"v":454610,"d":"454,610.00"},{"$nulls":6},{"v":1,"d":"1.00"},{"v":454610,"d":"454,610.00"},{"$nulls":4},{"$f":"BN132","v":1},{"$f":"ROUND(BO132,2)","v":{"v":454610,"d":"454,610.00"}}]
[{"$nulls":16},"อบต.ดู่ ผลรวม","กันทรารมย์","ศรีสะเกษ",{"$nulls":9},{"$f":"SUBTOTAL(9,AC132:AC132)","v":0},{"$f":"SUBTOTAL(9,AD132:AD132)","v":0},{"$f":"SUBTOTAL(9,AE132:AE132)","v":0},{"$f":"SUBTOTAL(9,AF132:AF132)","v":0},{"$f":"SUBTOTAL(9,AG132:AG132)","v":0},{"$nulls":9},{"$f":"SUBTOTAL(9,AQ132:AQ132)","v":0},{"$f":"SUBTOTAL(9,AR132:AR132)","v":0},{"$f":"SUBTOTAL(9,AS132:AS132)","v":0},{"$f":"SUBTOTAL(9,AT132:AT132)","v":0},{"$f":"SUBTOTAL(9,AU132:AU132)","v":0},null,null,{"$f":"SUBTOTAL(9,AX132:AX132)","v":0},0,0,0,0,0,0,0,1,{"v":454610,"d":"454,610.00"},0,0,0,0,{"$nulls":3},{"v":454610,"d":"454,610.00"},{"$nulls":4},{"$f":"SUBTOTAL(9,BT132:BT132)","v":1},{"$f":"SUBTOTAL(9,BU132:BU132)","v":{"v":454610,"d":"454,610.00"}}]
[{"$f":"A132+1","v":4},"นาง","จันทร์ฉาย","สะเดา",{"$nulls":4},"2568-10-01",{"$nulls":7},"อบต.โคกเพชร","ขุขันธ์","ศรีสะเกษ",{"$nulls":9},1,{"v":9482.2,"d":"9,482.20"},{"v":113786.40000000001,"d":"113,786.40"},{"v":28446.600000000002,"d":"28,446.60"},{"v":18964.4,"d":"18,964.40"},{"$nulls":9},1,{"v":1517.7999999999993,"d":"1,517.80"},{"v":18213.59999999999,"d":"18,213.60"},{"v":4553.399999999998,"d":"4,553.40"},{"v":3035.5999999999985,"d":"3,035.60"},null,null,1,{"v":142233,"d":"142,233.00"},0,0,0,0,0,0,0,0,0,0,0,0,{"$nulls":3},{"v":197233,"d":"197,233.00"},{"$nulls":4},1,{"v":197233,"d":"197,233.00"}]
[{"$nulls":16},"อบต.โคกเพชร ผลรวม","ขุขันธ์","ศรีสะเกษ",{"$nulls":9},{"$f":"SUBTOTAL(9,AC134:AC134)","v":1},{"$f":"SUBTOTAL(9,AD134:AD134)","v":{"v":9482.2,"d":"9,482.20"}},{"$f":"SUBTOTAL(9,AE134:AE134)","v":{"v":113786.40000000001,"d":"113,786.40"}},{"$f":"SUBTOTAL(9,AF134:AF134)","v":{"v":28446.600000000002,"d":"28,446.60"}},{"$f":"SUBTOTAL(9,AG134:AG134)","v":{"v":18964.4,"d":"18,964.40"}},{"$nulls":9},{"$f":"SUBTOTAL(9,AQ134:AQ134)","v":1},{"$f":"SUBTOTAL(9,AR134:AR134)","v":{"v":1517.7999999999993,"d":"1,517.80"}},{"$f":"SUBTOTAL(9,AS134:AS134)","v":{"v":18213.59999999999,"d":"18,213.60"}},{"$f":"SUBTOTAL(9,AT134:AT134)","v":{"v":4553.399999999998,"d":"4,553.40"}},{"$f":"SUBTOTAL(9,AU134:AU134)","v":{"v":3035.5999999999985,"d":"3,035.60"}},null,null,{"$f":"SUBTOTAL(9,AX134:AX134)","v":1},{"v":142233,"d":"142,233.00"},0,0,0,0,0,0,0,0,0,0,0,0,{"$nulls":3},{"v":197233,"d":"197,233.00"},{"$nulls":4},{"$f":"SUBTOTAL(9,BT134:BT134)","v":1},{"$f":"SUBTOTAL(9,BU134:BU134)","v":{"v":197233,"d":"197,233.00"}}]
[{"$nulls":18},"ศรีสะเกษ ผลรวม",{"$nulls":9},{"$f":"SUBTOTAL(9,AC128:AC134)","v":3},{"$f":"SUBTOTAL(9,AD128:AD134)","v":{"v":26460.600000000002,"d":"26,460.60"}},{"$f":"SUBTOTAL(9,AE128:AE134)","v":{"v":317527.2,"d":"317,527.20"}},{"$f":"SUBTOTAL(9,AF128:AF134)","v":{"v":79381.8,"d":"79,381.80"}},{"$f":"SUBTOTAL(9,AG128:AG134)","v":{"v":52921.200000000004,"d":"52,921.20"}},{"$nulls":9},{"$f":"SUBTOTAL(9,AQ128:AQ134)","v":3},{"$f":"SUBTOTAL(9,AR128:AR134)","v":{"v":6539.4,"d":"6,539.40"}},{"$f":"SUBTOTAL(9,AS128:AS134)","v":{"v":78472.79999999999,"d":"78,472.80"}},{"$f":"SUBTOTAL(9,AT128:AT134)","v":{"v":19618.199999999997,"d":"19,618.20"}},{"$f":"SUBTOTAL(9,AU128:AU134)","v":{"v":13078.8,"d":"13,078.80"}},null,null,{"$f":"SUBTOTAL(9,AX128:AX134)","v":3},{"v":396909,"d":"396,909.00"},0,0,0,0,0,0,1,{"v":454610,"d":"454,610.00"},0,0,0,0,{"$nulls":3},{"v":1016519,"d":"1,016,519.00"},{"$nulls":4},{"$f":"SUBTOTAL(9,BT128:BT134)","v":4},{"$f":"SUBTOTAL(9,BU128:BU134)","v":{"v":1016519,"d":"1,016,519.00"}}]
[1,"นาย","เสถียร","ศรีนา",{"$nulls":4},"2568-10-02",{"$nulls":7},"อบต.ห้วยยาง","เมืองสกลนคร","สกลนคร",{"$nulls":9},1,{"v":8585.2,"d":"8,585.20"},{"$f":"AD137*12","v":{"v":103022.40000000001,"d":"103,022.40"}},{"v":25478.66,"d":"25,478.66"},{"$f":"AD137*2","v":{"v":17170.4,"d":"17,170.40"}},{"$f":"AD137*3","v":{"v":25755.600000000002,"d":"25,755.60"}},{"$f":"AD137*3","v":{"v":25755.600000000002,"d":"25,755.60"}},null,{"$f":"AD137+AJ137","v":{"v":8585.2,"d":"8,585.20"}},{"$nulls":4},{"$f":"11000-AO137-AD137","v":{"v":2414.7999999999993,"d":"2,414.80"}},1,{"$f":"AJ137+AL137+AO137+AP137","v":{"v":2414.7999999999993,"d":"2,414.80"}},{"$f":"AR137*12","v":{"v":28977.59999999999,"d":"28,977.60"}},{"v":7166.5,"d":"7,166.50"},{"$f":"AR137*2","v":{"v":4829.5999999999985,"d":"4,829.60"}},{"$f":"AR137*3","v":{"v":7244.399999999998,"d":"7,244.40"}},{"$f":"AR137*3","v":{"v":7244.399999999998,"d":"7,244.40"}},1,{"v":128778,"d":"128,778.00"},{"$nulls":14},{"v":1,"d":"1.00"},{"$f":"AF137+AG137+AT137+AU137+AY137+BA137+BC137+BE137+BG137+BI137+BK137","v":{"v":183423.16,"d":"183,423.16"}},{"$nulls":4},{"$f":"BN137","v":1},{"$f":"ROUND(BO137,2)","v":{"v":183423.16,"d":"183,423.16"}}]
[{"$nulls":16},"อบต.ห้วยยาง ผลรวม","เมืองสกลนคร","สกลนคร",{"$nulls":9},{"$f":"SUBTOTAL(9,AC137:AC137)","v":1},{"$f":"SUBTOTAL(9,AD137:AD137)","v":{"v":8585.2,"d":"8,585.20"}},{"$f":"SUBTOTAL(9,AE137:AE137)","v":{"v":103022.40000000001,"d":"103,022.40"}},{"$f":"SUBTOTAL(9,AF137:AF137)","v":{"v":25478.66,"d":"25,478.66"}},{"$f":"SUBTOTAL(9,AG137:AG137)","v":{"v":17170.4,"d":"17,170.40"}},{"$nulls":9},{"$f":"SUBTOTAL(9,AQ137:AQ137)","v":1},{"$f":"SUBTOTAL(9,AR137:AR137)","v":{"v":2414.7999999999993,"d":"2,414.80"}},{"$f":"SUBTOTAL(9,AS137:AS137)","v":{"v":28977.59999999999,"d":"28,977.60"}},{"$f":"SUBTOTAL(9,AT137:AT137)","v":{"v":7166.5,"d":"7,166.50"}},{"$f":"SUBTOTAL(9,AU137:AU137)","v":{"v":4829.5999999999985,"d":"4,829.60"}},null,null,{"$f":"SUBTOTAL(9,AX137:AX137)","v":1},{"v":128778,"d":"128,778.00"},0,0,0,0,0,0,0,0,0,0,0,0,{"$nulls":3},{"v":183423.16,"d":"183,423.16"},{"$nulls":4},{"$f":"SUBTOTAL(9,BT137:BT137)","v":1},{"$f":"SUBTOTAL(9,BU137:BU137)","v":{"v":183423.16,"d":"183,423.16"}}]
[{"$nulls":18},"สกลนคร ผลรวม",{"$nulls":9},{"$f":"SUBTOTAL(9,AC137:AC137)","v":1},{"$f":"SUBTOTAL(9,AD137:AD137)","v":{"v":8585.2,"d":"8,585.20"}},{"$f":"SUBTOTAL(9,AE137:AE137)","v":{"v":103022.40000000001,"d":"103,022.40"}},{"$f":"SUBTOTAL(9,AF137:AF137)","v":{"v":25478.66,"d":"25,478.66"}},{"$f":"SUBTOTAL(9,AG137:AG137)","v":{"v":17170.4,"d":"17,170.40"}},{"$nulls":9},{"$f":"SUBTOTAL(9,AQ137:AQ137)","v":1},{"$f":"SUBTOTAL(9,AR137:AR137)","v":{"v":2414.7999999999993,"d":"2,414.80"}},{"$f":"SUBTOTAL(9,AS137:AS137)","v":{"v":28977.59999999999,"d":"28,977.60"}},{"$f":"SUBTOTAL(9,AT137:AT137)","v":{"v":7166.5,"d":"7,166.50"}},{"$f":"SUBTOTAL(9,AU137:AU137)","v":{"v":4829.5999999999985,"d":"4,829.60"}},null,null,{"$f":"SUBTOTAL(9,AX137:AX137)","v":1},{"v":128778,"d":"128,778.00"},0,0,0,0,0,0,0,0,0,0,0,0,{"$nulls":3},{"v":183423.16,"d":"183,423.16"},{"$nulls":4},{"$f":"SUBTOTAL(9,BT137:BT137)","v":1},{"$f":"SUBTOTAL(9,BU137:BU137)","v":{"v":183423.16,"d":"183,423.16"}}]
[1,"นาง","ฮาลีเมาะ","วาหะรักษ์",{"$nulls":4},"2568-10-01",{"$nulls":7},"อบต.ท่าม่วง","เทพา","สงขลา",null,"ครู",{"$nulls":7},1,{"v":8629.4,"d":"8,629.40"},{"$f":"AD140*12","v":{"v":103552.79999999999,"d":"103,552.80"}},{"$f":"AD140*3","v":{"v":25888.199999999997,"d":"25,888.20"}},{"$f":"AD140*2","v":{"v":17258.8,"d":"17,258.80"}},{"$f":"AD140*3","v":{"v":25888.199999999997,"d":"25,888.20"}},{"$f":"AD140*3","v":{"v":25888.199999999997,"d":"25,888.20"}},null,{"$f":"AD140+AJ140","v":{"v":8629.4,"d":"8,629.40"}},{"$nulls":4},{"$f":"11000-AO140-AD140","v":{"v":2370.6000000000004,"d":"2,370.60"}},1,{"$f":"AJ140+AL140+AO140+AP140","v":{"v":2370.6000000000004,"d":"2,370.60"}},{"$f":"AR140*12","v":{"v":28447.200000000004,"d":"28,447.20"}},{"$f":"AR140*3","v":{"v":7111.800000000001,"d":"7,111.80"}},{"$f":"AR140*2","v":{"v":4741.200000000001,"d":"4,741.20"}},{"$f":"AR140*3","v":{"v":7111.800000000001,"d":"7,111.80"}},{"$f":"AR140*3","v":{"v":7111.800000000001,"d":"7,111.80"}},1,{"v":129441,"d":"129,441.00"},{"$nulls":14},{"v":1,"d":"1.00"},{"v":184441,"d":"184,441.00"},{"$nulls":4},{"$f":"BN140","v":1},{"$f":"ROUND(BO140,2)","v":{"v":184441,"d":"184,441.00"}}]
[{"$nulls":16},"อบต.ท่าม่วง ผลรวม","เทพา","สงขลา",{"$nulls":9},{"$f":"SUBTOTAL(9,AC140:AC140)","v":1},{"$f":"SUBTOTAL(9,AD140:AD140)","v":{"v":8629.4,"d":"8,629.40"}},{"$f":"SUBTOTAL(9,AE140:AE140)","v":{"v":103552.79999999999,"d":"103,552.80"}},{"$f":"SUBTOTAL(9,AF140:AF140)","v":{"v":25888.199999999997,"d":"25,888.20"}},{"$f":"SUBTOTAL(9,AG140:AG140)","v":{"v":17258.8,"d":"17,258.80"}},{"$nulls":9},{"$f":"SUBTOTAL(9,AQ140:AQ140)","v":1},{"$f":"SUBTOTAL(9,AR140:AR140)","v":{"v":2370.6000000000004,"d":"2,370.60"}},{"$f":"SUBTOTAL(9,AS140:AS140)","v":{"v":28447.200000000004,"d":"28,447.20"}},{"$f":"SUBTOTAL(9,AT140:AT140)","v":{"v":7111.800000000001,"d":"7,111.80"}},{"$f":"SUBTOTAL(9,AU140:AU140)","v":{"v":4741.200000000001,"d":"4,741.20"}},null,null,{"$f":"SUBTOTAL(9,AX140:AX140)","v":1},{"v":129441,"d":"129,441.00"},0,0,0,0,0,0,0,0,0,0,0,0,{"$nulls":3},{"v":184441,"d":"184,441.00"},{"$nulls":4},{"$f":"SUBTOTAL(9,BT140:BT140)","v":1},{"$f":"SUBTOTAL(9,BU140:BU140)","v":{"v":184441,"d":"184,441.00"}}]
[{"$f":"A140+1","v":2},"นาง","กัณฐภรณ์","ชูช่วย",{"$nulls":4},"2568-10-01",{"$nulls":7},"อบต.ปากบาง","เทพา","สงขลา",null,"ครู",{"$nulls":7},1,{"v":9100,"d":"9,100.00"},{"$f":"AD142*12","v":{"v":109200,"d":"109,200.00"}},{"$f":"AD142*3","v":{"v":27300,"d":"27,300.00"}},{"$f":"AD142*2","v":{"v":18200,"d":"18,200.00"}},{"$f":"AD142*3","v":{"v":27300,"d":"27,300.00"}},{"$f":"AD142*3","v":{"v":27300,"d":"27,300.00"}},null,{"$f":"AD142+AJ142","v":{"v":9100,"d":"9,100.00"}},{"$nulls":4},{"$f":"11000-AO142-AD142","v":{"v":1900,"d":"1,900.00"}},1,{"$f":"AJ142+AL142+AO142+AP142","v":{"v":1900,"d":"1,900.00"}},{"$f":"AR142*12","v":{"v":22800,"d":"22,800.00"}},{"$f":"AR142*3","v":{"v":5700,"d":"5,700.00"}},{"$f":"AR142*2","v":{"v":3800,"d":"3,800.00"}},{"$f":"AR142*3","v":{"v":5700,"d":"5,700.00"}},{"$f":"AR142*3","v":{"v":5700,"d":"5,700.00"}},1,{"v":136500,"d":"136,500.00"},{"$nulls":14},{"v":1,"d":"1.00"},{"v":191500,"d":"191,500.00"},{"$nulls":4},{"$f":"BN142","v":1},{"$f":"ROUND(BO142,2)","v":{"v":191500,"d":"191,500.00"}}]
[{"$nulls":16},"อบต.ปากบาง ผลรวม","เทพา","สงขลา",{"$nulls":9},{"$f":"SUBTOTAL(9,AC142:AC142)","v":1},{"$f":"SUBTOTAL(9,AD142:AD142)","v":{"v":9100,"d":"9,100.00"}},{"$f":"SUBTOTAL(9,AE142:AE142)","v":{"v":109200,"d":"109,200.00"}},{"$f":"SUBTOTAL(9,AF142:AF142)","v":{"v":27300,"d":"27,300.00"}},{"$f":"SUBTOTAL(9,AG142:AG142)","v":{"v":18200,"d":"18,200.00"}},{"$nulls":9},{"$f":"SUBTOTAL(9,AQ142:AQ142)","v":1},{"$f":"SUBTOTAL(9,AR142:AR142)","v":{"v":1900,"d":"1,900.00"}},{"$f":"SUBTOTAL(9,AS142:AS142)","v":{"v":22800,"d":"22,800.00"}},{"$f":"SUBTOTAL(9,AT142:AT142)","v":{"v":5700,"d":"5,700.00"}},{"$f":"SUBTOTAL(9,AU142:AU142)","v":{"v":3800,"d":"3,800.00"}},null,null,{"$f":"SUBTOTAL(9,AX142:AX142)","v":1},{"v":136500,"d":"136,500.00"},0,0,0,0,0,0,0,0,0,0,0,0,{"$nulls":3},{"v":191500,"d":"191,500.00"},{"$nulls":4},{"$f":"SUBTOTAL(9,BT142:BT142)","v":1},{"$f":"SUBTOTAL(9,BU142:BU142)","v":{"v":191500,"d":"191,500.00"}}]
[{"$f":"A142+1","v":3},"นาง","อารี","แสงสีดำ",{"$nulls":4},"2568-10-01",{"$nulls":7},"อบต.คลองแดน","ระโนด","สงขลา",null,"ครู",{"$nulls":7},1,{"v":9365.2,"d":"9,365.20"},{"$f":"AD144*12","v":{"v":112382.40000000001,"d":"112,382.40"}},{"$f":"AD144*3","v":{"v":28095.600000000002,"d":"28,095.60"}},{"$f":"AD144*2","v":{"v":18730.4,"d":"18,730.40"}},{"$f":"AD144*3","v":{"v":28095.600000000002,"d":"28,095.60"}},{"$f":"AD144*3","v":{"v":28095.600000000002,"d":"28,095.60"}},null,{"$f":"AD144+AJ144","v":{"v":9365.2,"d":"9,365.20"}},{"$nulls":4},{"$f":"11000-AO144-AD144","v":{"v":1634.7999999999993,"d":"1,634.80"}},1,{"$f":"AJ144+AL144+AO144+AP144","v":{"v":1634.7999999999993,"d":"1,634.80"}},{"$f":"AR144*12","v":{"v":19617.59999999999,"d":"19,617.60"}},{"$f":"AR144*3","v":{"v":4904.399999999998,"d":"4,904.40"}},{"$f":"AR144*2","v":{"v":3269.5999999999985,"d":"3,269.60"}},{"$f":"AR144*3","v":{"v":4904.399999999998,"d":"4,904.40"}},{"$f":"AR144*3","v":{"v":4904.399999999998,"d":"4,904.40"}},1,{"v":140478,"d":"140,478.00"},{"$nulls":14},{"v":1,"d":"1.00"},{"v":195478,"d":"195,478.00"},{"$nulls":4},{"$f":"BN144","v":1},{"$f":"ROUND(BO144,2)","v":{"v":195478,"d":"195,478.00"}}]
[{"$nulls":16},"อบต.คลองแดน ผลรวม","ระโนด","สงขลา",{"$nulls":9},{"$f":"SUBTOTAL(9,AC144:AC144)","v":1},{"$f":"SUBTOTAL(9,AD144:AD144)","v":{"v":9365.2,"d":"9,365.20"}},{"$f":"SUBTOTAL(9,AE144:AE144)","v":{"v":112382.40000000001,"d":"112,382.40"}},{"$f":"SUBTOTAL(9,AF144:AF144)","v":{"v":28095.600000000002,"d":"28,095.60"}},{"$f":"SUBTOTAL(9,AG144:AG144)","v":{"v":18730.4,"d":"18,730.40"}},{"$nulls":9},{"$f":"SUBTOTAL(9,AQ144:AQ144)","v":1},{"$f":"SUBTOTAL(9,AR144:AR144)","v":{"v":1634.7999999999993,"d":"1,634.80"}},{"$f":"SUBTOTAL(9,AS144:AS144)","v":{"v":19617.59999999999,"d":"19,617.60"}},{"$f":"SUBTOTAL(9,AT144:AT144)","v":{"v":4904.399999999998,"d":"4,904.40"}},{"$f":"SUBTOTAL(9,AU144:AU144)","v":{"v":3269.5999999999985,"d":"3,269.60"}},null,null,{"$f":"SUBTOTAL(9,AX144:AX144)","v":1},{"v":140478,"d":"140,478.00"},0,0,0,0,0,0,0,0,0,0,0,0,{"$nulls":3},{"v":195478,"d":"195,478.00"},{"$nulls":4},{"$f":"SUBTOTAL(9,BT144:BT144)","v":1},{"$f":"SUBTOTAL(9,BU144:BU144)","v":{"v":195478,"d":"195,478.00"}}]
[{"$f":"A144+1","v":4},"นาง","เพลิน","พุทธาศรี",{"$nulls":4},"2568-10-01",{"$nulls":7},"อบต.ท่าข้าม","หาดใหญ่","สงขลา",null,"ครู",{"$nulls":7},1,{"v":9875.6,"d":"9,875.60"},{"$f":"AD146*12","v":{"v":118507.20000000001,"d":"118,507.20"}},{"$f":"AD146*3","v":{"v":29626.800000000003,"d":"29,626.80"}},{"$f":"AD146*2","v":{"v":19751.2,"d":"19,751.20"}},{"$f":"AD146*3","v":{"v":29626.800000000003,"d":"29,626.80"}},{"$f":"AD146*3","v":{"v":29626.800000000003,"d":"29,626.80"}},null,{"$f":"AD146+AJ146","v":{"v":9875.6,"d":"9,875.60"}},{"$nulls":4},{"$f":"11000-AO146-AD146","v":{"v":1124.3999999999996,"d":"1,124.40"}},1,{"$f":"AJ146+AL146+AO146+AP146","v":{"v":1124.3999999999996,"d":"1,124.40"}},{"$f":"AR146*12","v":{"v":13492.799999999996,"d":"13,492.80"}},{"$f":"AR146*3","v":{"v":3373.199999999999,"d":"3,373.20"}},{"$f":"AR146*2","v":{"v":2248.7999999999993,"d":"2,248.80"}},{"$f":"AR146*3","v":{"v":3373.199999999999,"d":"3,373.20"}},{"$f":"AR146*3","v":{"v":3373.199999999999,"d":"3,373.20"}},1,{"v":148134,"d":"148,134.00"},{"$nulls":14},{"v":1,"d":"1.00"},{"v":203134,"d":"203,134.00"},{"$nulls":4},{"$f":"BN146","v":1},{"$f":"ROUND(BO146,2)","v":{"v":203134,"d":"203,134.00"}}]
[{"$nulls":16},"อบต.ท่าข้าม ผลรวม","หาดใหญ่","สงขลา",{"$nulls":9},{"$f":"SUBTOTAL(9,AC146:AC146)","v":1},{"$f":"SUBTOTAL(9,AD146:AD146)","v":{"v":9875.6,"d":"9,875.60"}},{"$f":"SUBTOTAL(9,AE146:AE146)","v":{"v":118507.20000000001,"d":"118,507.20"}},{"$f":"SUBTOTAL(9,AF146:AF146)","v":{"v":29626.800000000003,"d":"29,626.80"}},{"$f":"SUBTOTAL(9,AG146:AG146)","v":{"v":19751.2,"d":"19,751.20"}},{"$nulls":9},{"$f":"SUBTOTAL(9,AQ146:AQ146)","v":1},{"$f":"SUBTOTAL(9,AR146:AR146)","v":{"v":1124.3999999999996,"d":"1,124.40"}},{"$f":"SUBTOTAL(9,AS146:AS146)","v":{"v":13492.799999999996,"d":"13,492.80"}},{"$f":"SUBTOTAL(9,AT146:AT146)","v":{"v":3373.199999999999,"d":"3,373.20"}},{"$f":"SUBTOTAL(9,AU146:AU146)","v":{"v":2248.7999999999993,"d":"2,248.80"}},null,null,{"$f":"SUBTOTAL(9,AX146:AX146)","v":1},{"v":148134,"d":"148,134.00"},0,0,0,0,0,0,0,0,0,0,0,0,{"$nulls":3},{"v":203134,"d":"203,134.00"},{"$nulls":4},{"$f":"SUBTOTAL(9,BT146:BT146)","v":1},{"$f":"SUBTOTAL(9,BU146:BU146)","v":{"v":203134,"d":"203,134.00"}}]
[{"$nulls":18},"สงขลา ผลรวม",{"$nulls":9},{"$f":"SUBTOTAL(9,AC140:AC146)","v":4},{"$f":"SUBTOTAL(9,AD140:AD146)","v":{"v":36970.200000000004,"d":"36,970.20"}},{"$f":"SUBTOTAL(9,AE140:AE146)","v":{"v":443642.4,"d":"443,642.40"}},{"$f":"SUBTOTAL(9,AF140:AF146)","v":{"v":110910.6,"d":"110,910.60"}},{"$f":"SUBTOTAL(9,AG140:AG146)","v":{"v":73940.40000000001,"d":"73,940.40"}},{"$nulls":9},{"$f":"SUBTOTAL(9,AQ140:AQ146)","v":4},{"$f":"SUBTOTAL(9,AR140:AR146)","v":{"v":7029.799999999999,"d":"7,029.80"}},{"$f":"SUBTOTAL(9,AS140:AS146)","v":{"v":84357.59999999998,"d":"84,357.60"}},{"$f":"SUBTOTAL(9,AT140:AT146)","v":{"v":21089.399999999994,"d":"21,089.40"}},{"$f":"SUBTOTAL(9,AU140:AU146)","v":{"v":14059.599999999999,"d":"14,059.60"}},null,null,{"$f":"SUBTOTAL(9,AX140:AX146)","v":4},{"v":554553,"d":"554,553.00"},0,0,0,0,0,0,0,0,0,0,0,0,{"$nulls":3},{"v":774553,"d":"774,553.00"},{"$nulls":4},{"$f":"SUBTOTAL(9,BT140:BT146)","v":4},{"$f":"SUBTOTAL(9,BU140:BU146)","v":{"v":774553,"d":"774,553.00"}}]
[1,"นาง","ฮะลิมะ","เจะดะ",3260300162092,{"$nulls":3},"2568-10-01",{"$nulls":7},"อบต.วังประจัน","ควนโดน","สตูล",null,"ครู",{"$nulls":7},1,{"v":9443.2,"d":"9,443.20"},{"$f":"AD149*12","v":{"v":113318.40000000001,"d":"113,318.40"}},{"$f":"AD149*3","v":{"v":28329.600000000002,"d":"28,329.60"}},{"$f":"AD149*2","v":{"v":18886.4,"d":"18,886.40"}},{"$f":"AD149*3","v":{"v":28329.600000000002,"d":"28,329.60"}},{"$f":"AD149*3","v":{"v":28329.600000000002,"d":"28,329.60"}},null,{"$f":"AD149+AJ149","v":{"v":9443.2,"d":"9,443.20"}},{"$nulls":4},{"$f":"11000-AO149-AD149","v":{"v":1556.7999999999993,"d":"1,556.80"}},1,{"v":1556.8,"d":"1,556.80"},{"$f":"AR149*12","v":{"v":18681.6,"d":"18,681.60"}},{"$f":"AR149*3","v":{"v":4670.4,"d":"4,670.40"}},{"$f":"AR149*2","v":{"v":3113.6,"d":"3,113.60"}},{"$f":"AR149*3","v":{"v":4670.4,"d":"4,670.40"}},{"$f":"AR149*3","v":{"v":4670.4,"d":"4,670.40"}},1,{"v":141648,"d":"141,648.00"},{"$nulls":14},{"v":1,"d":"1.00"},{"v":196648,"d":"196,648.00"},{"$nulls":4},{"$f":"BN149","v":1},{"$f":"ROUND(BO149,2)","v":{"v":196648,"d":"196,648.00"}}]
[{"$nulls":16},"อบต.วังประจัน ผลรวม","ควนโดน","สตูล",{"$nulls":9},{"$f":"SUBTOTAL(9,AC149:AC149)","v":1},{"$f":"SUBTOTAL(9,AD149:AD149)","v":{"v":9443.2,"d":"9,443.20"}},{"$f":"SUBTOTAL(9,AE149:AE149)","v":{"v":113318.40000000001,"d":"113,318.40"}},{"$f":"SUBTOTAL(9,AF149:AF149)","v":{"v":28329.600000000002,"d":"28,329.60"}},{"$f":"SUBTOTAL(9,AG149:AG149)","v":{"v":18886.4,"d":"18,886.40"}},{"$nulls":9},{"$f":"SUBTOTAL(9,AQ149:AQ149)","v":1},{"$f":"SUBTOTAL(9,AR149:AR149)","v":{"v":1556.8,"d":"1,556.80"}},{"$f":"SUBTOTAL(9,AS149:AS149)","v":{"v":18681.6,"d":"18,681.60"}},{"$f":"SUBTOTAL(9,AT149:AT149)","v":{"v":4670.4,"d":"4,670.40"}},{"$f":"SUBTOTAL(9,AU149:AU149)","v":{"v":3113.6,"d":"3,113.60"}},null,null,{"$f":"SUBTOTAL(9,AX149:AX149)","v":1},{"v":141648,"d":"141,648.00"},0,0,0,0,0,0,0,0,0,0,0,0,{"$nulls":3},{"v":196648,"d":"196,648.00"},{"$nulls":4},{"$f":"SUBTOTAL(9,BT149:BT149)","v":1},{"$f":"SUBTOTAL(9,BU149:BU149)","v":{"v":196648,"d":"196,648.00"}}]
[{"$f":"A149+1","v":2},"นาง","เสาด๊ะ","นาคสง่า",3260300521769,{"$nulls":3},"2568-10-01",{"$nulls":7},"อบต.ละงู","ละงู","สตูล",null,"ครู",{"$nulls":9},{"$f":"AD151*12","v":0},{"$f":"AD151*3","v":0},{"$f":"AD151*2","v":0},{"$f":"AD151*3","v":0},{"$f":"AD151*3","v":0},null,{"$f":"AD151+AJ151","v":0},{"$nulls":4},{"$f":"11000-AO151-AD151","v":{"v":11000,"d":"11,000.00"}},null,null,{"$f":"AR151*12","v":0},{"$f":"AR151*3","v":0},{"$f":"AR151*2","v":0},{"$f":"AR151*3","v":0},{"$f":"AR151*3","v":0},{"$nulls":6},1,{"v":224640,"d":"224,640.00"},{"$nulls":8},{"v":1,"d":"1.00"},{"v":224640,"d":"224,640.00"},{"$nulls":4},{"$f":"BN151","v":1},{"$f":"ROUND(BO151,2)","v":{"v":224640,"d":"224,640.00"}}]
[{"$nulls":16},"อบต.ละงู ผลรวม","ละงู","สตูล",{"$nulls":9},{"$f":"SUBTOTAL(9,AC151:AC151)","v":0},{"$f":"SUBTOTAL(9,AD151:AD151)","v":0},{"$f":"SUBTOTAL(9,AE151:AE151)","v":0},{"$f":"SUBTOTAL(9,AF151:AF151)","v":0},{"$f":"SUBTOTAL(9,AG151:AG151)","v":0},{"$nulls":9},{"$f":"SUBTOTAL(9,AQ151:AQ151)","v":0},{"$f":"SUBTOTAL(9,AR151:AR151)","v":0},{"$f":"SUBTOTAL(9,AS151:AS151)","v":0},{"$f":"SUBTOTAL(9,AT151:AT151)","v":0},{"$f":"SUBTOTAL(9,AU151:AU151)","v":0},null,null,{"$f":"SUBTOTAL(9,AX151:AX151)","v":0},0,0,0,0,0,1,{"v":224640,"d":"224,640.00"},0,0,0,0,0,0,{"$nulls":3},{"v":224640,"d":"224,640.00"},{"$nulls":4},{"$f":"SUBTOTAL(9,BT151:BT151)","v":1},{"$f":"SUBTOTAL(9,BU151:BU151)","v":{"v":224640,"d":"224,640.00"}}]
[{"$nulls":18},"สตูล ผลรวม",{"$nulls":9},{"$f":"SUBTOTAL(9,AC149:AC151)","v":1},{"$f":"SUBTOTAL(9,AD149:AD151)","v":{"v":9443.2,"d":"9,443.20"}},{"$f":"SUBTOTAL(9,AE149:AE151)","v":{"v":113318.40000000001,"d":"113,318.40"}},{"$f":"SUBTOTAL(9,AF149:AF151)","v":{"v":28329.600000000002,"d":"28,329.60"}},{"$f":"SUBTOTAL(9,AG149:AG151)","v":{"v":18886.4,"d":"18,886.40"}},{"$nulls":9},{"$f":"SUBTOTAL(9,AQ149:AQ151)","v":1},{"$f":"SUBTOTAL(9,AR149:AR151)","v":{"v":1556.8,"d":"1,556.80"}},{"$f":"SUBTOTAL(9,AS149:AS151)","v":{"v":18681.6,"d":"18,681.60"}},{"$f":"SUBTOTAL(9,AT149:AT151)","v":{"v":4670.4,"d":"4,670.40"}},{"$f":"SUBTOTAL(9,AU149:AU151)","v":{"v":3113.6,"d":"3,113.60"}},null,null,{"$f":"SUBTOTAL(9,AX149:AX151)","v":1},{"v":141648,"d":"141,648.00"},0,0,0,0,1,{"v":224640,"d":"224,640.00"},0,0,0,0,0,0,{"$nulls":3},{"v":421288,"d":"421,288.00"},{"$nulls":4},{"$f":"SUBTOTAL(9,BT149:BT151)","v":2},{"$f":"SUBTOTAL(9,BU149:BU151)","v":{"v":421288,"d":"421,288.00"}}]
[1,"นาง","ตะเพียนทอง","เคนลัง",3940200301388,{"$nulls":3},"2568-11-01",{"$nulls":7},"อบต.คลองทับจันทร์","อรัญประเทศ","สระแก้ว",null,"ครู",{"$nulls":7},1,{"v":9688,"d":"9,688.00"},{"$f":"AD154*11","v":{"v":106568,"d":"106,568.00"}},{"$f":"AD154*2","v":{"v":19376,"d":"19,376.00"}},{"$f":"AD154*2","v":{"v":19376,"d":"19,376.00"}},{"$f":"AD154*3","v":{"v":29064,"d":"29,064.00"}},{"$f":"AD154*3","v":{"v":29064,"d":"29,064.00"}},null,{"$f":"AD154+AJ154","v":{"v":9688,"d":"9,688.00"}},{"$nulls":4},{"$f":"11000-AO154-AD154","v":{"v":1312,"d":"1,312.00"}},1,{"v":1312,"d":"1,312.00"},{"$f":"AR154*11","v":{"v":14432,"d":"14,432.00"}},{"$f":"AR154*2","v":{"v":2624,"d":"2,624.00"}},{"$f":"AR154*2","v":{"v":2624,"d":"2,624.00"}},{"$f":"AR154*3","v":{"v":3936,"d":"3,936.00"}},{"$f":"AR154*3","v":{"v":3936,"d":"3,936.00"}},1,{"v":145320,"d":"145,320.00"},{"$nulls":14},{"v":1,"d":"1.00"},{"v":189320,"d":"189,320.00"},{"$nulls":4},{"$f":"BN154","v":1},{"$f":"ROUND(BO154,2)","v":{"v":189320,"d":"189,320.00"}}]
[{"$nulls":16},"อบต.คลองทับจันทร์ ผลรวม","อรัญประเทศ","สระแก้ว",{"$nulls":9},{"$f":"SUBTOTAL(9,AC154:AC154)","v":1},{"$f":"SUBTOTAL(9,AD154:AD154)","v":{"v":9688,"d":"9,688.00"}},{"$f":"SUBTOTAL(9,AE154:AE154)","v":{"v":106568,"d":"106,568.00"}},{"$f":"SUBTOTAL(9,AF154:AF154)","v":{"v":19376,"d":"19,376.00"}},{"$f":"SUBTOTAL(9,AG154:AG154)","v":{"v":19376,"d":"19,376.00"}},{"$nulls":9},{"$f":"SUBTOTAL(9,AQ154:AQ154)","v":1},{"$f":"SUBTOTAL(9,AR154:AR154)","v":{"v":1312,"d":"1,312.00"}},{"$f":"SUBTOTAL(9,AS154:AS154)","v":{"v":14432,"d":"14,432.00"}},{"$f":"SUBTOTAL(9,AT154:AT154)","v":{"v":2624,"d":"2,624.00"}},{"$f":"SUBTOTAL(9,AU154:AU154)","v":{"v":2624,"d":"2,624.00"}},null,null,{"$f":"SUBTOTAL(9,AX154:AX154)","v":1},{"v":145320,"d":"145,320.00"},0,0,0,0,0,0,0,0,0,0,0,0,{"$nulls":3},{"v":189320,"d":"189,320.00"},{"$nulls":4},{"$f":"SUBTOTAL(9,BT154:BT154)","v":1},{"$f":"SUBTOTAL(9,BU154:BU154)","v":{"v":189320,"d":"189,320.00"}}]
[{"$nulls":18},"สระแก้ว ผลรวม",{"$nulls":9},{"$f":"SUBTOTAL(9,AC154:AC154)","v":1},{"$f":"SUBTOTAL(9,AD154:AD154)","v":{"v":9688,"d":"9,688.00"}},{"$f":"SUBTOTAL(9,AE154:AE154)","v":{"v":106568,"d":"106,568.00"}},{"$f":"SUBTOTAL(9,AF154:AF154)","v":{"v":19376,"d":"19,376.00"}},{"$f":"SUBTOTAL(9,AG154:AG154)","v":{"v":19376,"d":"19,376.00"}},{"$nulls":9},{"$f":"SUBTOTAL(9,AQ154:AQ154)","v":1},{"$f":"SUBTOTAL(9,AR154:AR154)","v":{"v":1312,"d":"1,312.00"}},{"$f":"SUBTOTAL(9,AS154:AS154)","v":{"v":14432,"d":"14,432.00"}},{"$f":"SUBTOTAL(9,AT154:AT154)","v":{"v":2624,"d":"2,624.00"}},{"$f":"SUBTOTAL(9,AU154:AU154)","v":{"v":2624,"d":"2,624.00"}},null,null,{"$f":"SUBTOTAL(9,AX154:AX154)","v":1},{"v":145320,"d":"145,320.00"},0,0,0,0,0,0,0,0,0,0,0,0,{"$nulls":3},{"v":189320,"d":"189,320.00"},{"$nulls":4},{"$f":"SUBTOTAL(9,BT154:BT154)","v":1},{"$f":"SUBTOTAL(9,BU154:BU154)","v":{"v":189320,"d":"189,320.00"}}]
[1,"นาง","เฉลียว","คงกระพันธ์",{"$nulls":4},"2568-10-01",{"$nulls":7},"อบต.วังทอง","ศรีสำโรง","สุโขทัย",null,"ครู",{"$nulls":7},1,{"v":9696.4,"d":"9,696.40"},{"$f":"AD157*12","v":{"v":116356.79999999999,"d":"116,356.80"}},{"$f":"AD157*3","v":{"v":29089.199999999997,"d":"29,089.20"}},{"$f":"AD157*2","v":{"v":19392.8,"d":"19,392.80"}},{"$f":"AD157*3","v":{"v":29089.199999999997,"d":"29,089.20"}},{"$f":"AD157*3","v":{"v":29089.199999999997,"d":"29,089.20"}},null,{"$f":"AD157+AJ157","v":{"v":9696.4,"d":"9,696.40"}},{"$nulls":4},{"$f":"11000-AO157-AD157","v":{"v":1303.6000000000004,"d":"1,303.60"}},1,{"$f":"AJ157+AL157+AN157+AO157+AP157","v":{"v":1303.6000000000004,"d":"1,303.60"}},{"$f":"AR157*12","v":{"v":15643.200000000004,"d":"15,643.20"}},{"$f":"AR157*3","v":{"v":3910.800000000001,"d":"3,910.80"}},{"$f":"AR157*2","v":{"v":2607.2000000000007,"d":"2,607.20"}},{"$f":"AR157*3","v":{"v":3910.800000000001,"d":"3,910.80"}},{"$f":"AR157*3","v":{"v":3910.800000000001,"d":"3,910.80"}},1,{"$f":"SUM(AD157*15)","v":{"v":145446,"d":"145,446.00"}},{"$nulls":14},{"v":1,"d":"1.00"},{"v":200446,"d":"200,446.00"},{"$nulls":4},{"$f":"BN157","v":1},{"$f":"ROUND(BO157,2)","v":{"v":200446,"d":"200,446.00"}}]
[{"$nulls":16},"อบต.วังทอง ผลรวม","ศรีสำโรง","สุโขทัย",{"$nulls":9},{"$f":"SUBTOTAL(9,AC157:AC157)","v":1},{"$f":"SUBTOTAL(9,AD157:AD157)","v":{"v":9696.4,"d":"9,696.40"}},{"$f":"SUBTOTAL(9,AE157:AE157)","v":{"v":116356.79999999999,"d":"116,356.80"}},{"$f":"SUBTOTAL(9,AF157:AF157)","v":{"v":29089.199999999997,"d":"29,089.20"}},{"$f":"SUBTOTAL(9,AG157:AG157)","v":{"v":19392.8,"d":"19,392.80"}},{"$nulls":9},{"$f":"SUBTOTAL(9,AQ157:AQ157)","v":1},{"$f":"SUBTOTAL(9,AR157:AR157)","v":{"v":1303.6000000000004,"d":"1,303.60"}},{"$f":"SUBTOTAL(9,AS157:AS157)","v":{"v":15643.200000000004,"d":"15,643.20"}},{"$f":"SUBTOTAL(9,AT157:AT157)","v":{"v":3910.800000000001,"d":"3,910.80"}},{"$f":"SUBTOTAL(9,AU157:AU157)","v":{"v":2607.2000000000007,"d":"2,607.20"}},null,null,{"$f":"SUBTOTAL(9,AX157:AX157)","v":1},{"v":145446,"d":"145,446.00"},0,0,0,0,0,0,0,0,0,0,0,0,{"$nulls":3},{"v":200446,"d":"200,446.00"},{"$nulls":4},{"$f":"SUBTOTAL(9,BT157:BT157)","v":1},{"$f":"SUBTOTAL(9,BU157:BU157)","v":{"v":200446,"d":"200,446.00"}}]
[{"$nulls":18},"สุโขทัย ผลรวม",{"$nulls":9},{"$f":"SUBTOTAL(9,AC157:AC157)","v":1},{"$f":"SUBTOTAL(9,AD157:AD157)","v":{"v":9696.4,"d":"9,696.40"}},{"$f":"SUBTOTAL(9,AE157:AE157)","v":{"v":116356.79999999999,"d":"116,356.80"}},{"$f":"SUBTOTAL(9,AF157:AF157)","v":{"v":29089.199999999997,"d":"29,089.20"}},{"$f":"SUBTOTAL(9,AG157:AG157)","v":{"v":19392.8,"d":"19,392.80"}},{"$nulls":9},{"$f":"SUBTOTAL(9,AQ157:AQ157)","v":1},{"$f":"SUBTOTAL(9,AR157:AR157)","v":{"v":1303.6000000000004,"d":"1,303.60"}},{"$f":"SUBTOTAL(9,AS157:AS157)","v":{"v":15643.200000000004,"d":"15,643.20"}},{"$f":"SUBTOTAL(9,AT157:AT157)","v":{"v":3910.800000000001,"d":"3,910.80"}},{"$f":"SUBTOTAL(9,AU157:AU157)","v":{"v":2607.2000000000007,"d":"2,607.20"}},null,null,{"$f":"SUBTOTAL(9,AX157:AX157)","v":1},{"v":145446,"d":"145,446.00"},0,0,0,0,0,0,0,0,0,0,0,0,{"$nulls":3},{"v":200446,"d":"200,446.00"},{"$nulls":4},{"$f":"SUBTOTAL(9,BT157:BT157)","v":1},{"$f":"SUBTOTAL(9,BU157:BU157)","v":{"v":200446,"d":"200,446.00"}}]
[1,"นาง","ลักขณา","เพชโรภาส",{"$nulls":4},"2568-10-01",{"$nulls":7},"อบต.ท่าอุแท","กาญจนดิษฐ์","สุราษฎร์ธานี",null,"ครู",{"$nulls":7},1,{"v":10234,"d":"10,234.00"},{"$f":"AD160*12","v":{"v":122808,"d":"122,808.00"}},{"$f":"AD160*3","v":{"v":30702,"d":"30,702.00"}},{"$f":"AD160*2","v":{"v":20468,"d":"20,468.00"}},{"$f":"AD160*3","v":{"v":30702,"d":"30,702.00"}},{"$f":"AD160*3","v":{"v":30702,"d":"30,702.00"}},null,{"$f":"AD160+AJ160","v":{"v":10234,"d":"10,234.00"}},{"$nulls":4},{"$f":"11000-AO160-AD160","v":{"v":766,"d":"766.00"}},1,{"$f":"AJ160+AL160+AO160+AP160","v":{"v":766,"d":"766.00"}},{"$f":"AR160*12","v":{"v":9192,"d":"9,192.00"}},{"$f":"AR160*3","v":{"v":2298,"d":"2,298.00"}},{"$f":"AR160*2","v":{"v":1532,"d":"1,532.00"}},{"$f":"AR160*3","v":{"v":2298,"d":"2,298.00"}},{"$f":"AR160*3","v":{"v":2298,"d":"2,298.00"}},1,{"v":153510,"d":"153,510.00"},{"$nulls":14},{"v":1,"d":"1.00"},{"v":208510,"d":"208,510.00"},{"$nulls":4},{"$f":"BN160","v":1},{"$f":"ROUND(BO160,2)","v":{"v":208510,"d":"208,510.00"}}]
[{"$nulls":16},"อบต.ท่าอุแท ผลรวม","กาญจนดิษฐ์","สุราษฎร์ธานี",{"$nulls":9},{"$f":"SUBTOTAL(9,AC160:AC160)","v":1},{"$f":"SUBTOTAL(9,AD160:AD160)","v":{"v":10234,"d":"10,234.00"}},{"$f":"SUBTOTAL(9,AE160:AE160)","v":{"v":122808,"d":"122,808.00"}},{"$f":"SUBTOTAL(9,AF160:AF160)","v":{"v":30702,"d":"30,702.00"}},{"$f":"SUBTOTAL(9,AG160:AG160)","v":{"v":20468,"d":"20,468.00"}},{"$nulls":9},{"$f":"SUBTOTAL(9,AQ160:AQ160)","v":1},{"$f":"SUBTOTAL(9,AR160:AR160)","v":{"v":766,"d":"766.00"}},{"$f":"SUBTOTAL(9,AS160:AS160)","v":{"v":9192,"d":"9,192.00"}},{"$f":"SUBTOTAL(9,AT160:AT160)","v":{"v":2298,"d":"2,298.00"}},{"$f":"SUBTOTAL(9,AU160:AU160)","v":{"v":1532,"d":"1,532.00"}},null,null,{"$f":"SUBTOTAL(9,AX160:AX160)","v":1},{"v":153510,"d":"153,510.00"},0,0,0,0,0,0,0,0,0,0,0,0,{"$nulls":3},{"v":208510,"d":"208,510.00"},{"$nulls":4},{"$f":"SUBTOTAL(9,BT160:BT160)","v":1},{"$f":"SUBTOTAL(9,BU160:BU160)","v":{"v":208510,"d":"208,510.00"}}]
[{"$f":"A160+1","v":2},"นาง","กรรณิกา","ยืนยั่ง",{"$nulls":4},"2568-10-01",{"$nulls":7},"อบต.ท่าขนอน","คีรีรัฐนิคม","สุราษฎร์ธานี",null,"ครู",{"$nulls":7},1,{"v":6347,"d":"6,347.00"},{"$f":"AD162*12","v":{"v":76164,"d":"76,164.00"}},{"$f":"AD162*3","v":{"v":19041,"d":"19,041.00"}},{"$f":"AD162*2","v":{"v":12694,"d":"12,694.00"}},{"$f":"AD162*3","v":{"v":19041,"d":"19,041.00"}},{"$f":"AD162*3","v":{"v":19041,"d":"19,041.00"}},null,{"$f":"AD162+AJ162","v":{"v":6347,"d":"6,347.00"}},{"$nulls":4},{"$f":"11000-AO162-AD162","v":{"v":4653,"d":"4,653.00"}},1,{"$f":"AJ162+AL162+AO162+AP162","v":{"v":4653,"d":"4,653.00"}},{"$f":"AR162*12","v":{"v":55836,"d":"55,836.00"}},{"$f":"AR162*3","v":{"v":13959,"d":"13,959.00"}},{"$f":"AR162*2","v":{"v":9306,"d":"9,306.00"}},{"$f":"AR162*3","v":{"v":13959,"d":"13,959.00"}},{"$f":"AR162*3","v":{"v":13959,"d":"13,959.00"}},1,{"v":95205,"d":"95,205.00"},{"$nulls":14},{"v":1,"d":"1.00"},{"v":150205,"d":"150,205.00"},{"$nulls":4},{"$f":"BN162","v":1},{"$f":"ROUND(BO162,2)","v":{"v":150205,"d":"150,205.00"}}]
[{"$nulls":16},"อบต.ท่าขนอน ผลรวม","คีรีรัฐนิคม","สุราษฎร์ธานี",{"$nulls":9},{"$f":"SUBTOTAL(9,AC162:AC162)","v":1},{"$f":"SUBTOTAL(9,AD162:AD162)","v":{"v":6347,"d":"6,347.00"}},{"$f":"SUBTOTAL(9,AE162:AE162)","v":{"v":76164,"d":"76,164.00"}},{"$f":"SUBTOTAL(9,AF162:AF162)","v":{"v":19041,"d":"19,041.00"}},{"$f":"SUBTOTAL(9,AG162:AG162)","v":{"v":12694,"d":"12,694.00"}},{"$nulls":9},{"$f":"SUBTOTAL(9,AQ162:AQ162)","v":1},{"$f":"SUBTOTAL(9,AR162:AR162)","v":{"v":4653,"d":"4,653.00"}},{"$f":"SUBTOTAL(9,AS162:AS162)","v":{"v":55836,"d":"55,836.00"}},{"$f":"SUBTOTAL(9,AT162:AT162)","v":{"v":13959,"d":"13,959.00"}},{"$f":"SUBTOTAL(9,AU162:AU162)","v":{"v":9306,"d":"9,306.00"}},null,null,{"$f":"SUBTOTAL(9,AX162:AX162)","v":1},{"v":95205,"d":"95,205.00"},0,0,0,0,0,0,0,0,0,0,0,0,{"$nulls":3},{"v":150205,"d":"150,205.00"},{"$nulls":4},{"$f":"SUBTOTAL(9,BT162:BT162)","v":1},{"$f":"SUBTOTAL(9,BU162:BU162)","v":{"v":150205,"d":"150,205.00"}}]
[{"$nulls":18},"สุราษฎร์ธานี ผลรวม",{"$nulls":9},{"$f":"SUBTOTAL(9,AC160:AC162)","v":2},{"$f":"SUBTOTAL(9,AD160:AD162)","v":{"v":16581,"d":"16,581.00"}},{"$f":"SUBTOTAL(9,AE160:AE162)","v":{"v":198972,"d":"198,972.00"}},{"$f":"SUBTOTAL(9,AF160:AF162)","v":{"v":49743,"d":"49,743.00"}},{"$f":"SUBTOTAL(9,AG160:AG162)","v":{"v":33162,"d":"33,162.00"}},{"$nulls":9},{"$f":"SUBTOTAL(9,AQ160:AQ162)","v":2},{"$f":"SUBTOTAL(9,AR160:AR162)","v":{"v":5419,"d":"5,419.00"}},{"$f":"SUBTOTAL(9,AS160:AS162)","v":{"v":65028,"d":"65,028.00"}},{"$f":"SUBTOTAL(9,AT160:AT162)","v":{"v":16257,"d":"16,257.00"}},{"$f":"SUBTOTAL(9,AU160:AU162)","v":{"v":10838,"d":"10,838.00"}},null,null,{"$f":"SUBTOTAL(9,AX160:AX162)","v":2},{"v":248715,"d":"248,715.00"},0,0,0,0,0,0,0,0,0,0,0,0,{"$nulls":3},{"v":358715,"d":"358,715.00"},{"$nulls":4},{"$f":"SUBTOTAL(9,BT160:BT162)","v":2},{"$f":"SUBTOTAL(9,BU160:BU162)","v":{"v":358715,"d":"358,715.00"}}]
[1,"นาง","มยุรี","อยู่กรุง",{"$nulls":4},"2568-10-01",{"$nulls":7},"อบต.ลำดวน","ลำดวน","สุรินทร์",{"$nulls":11},{"$f":"AD165*12","v":0},{"$f":"AD165*3","v":0},{"$f":"AD165*2","v":0},{"$f":"AD165*3","v":0},{"$f":"AD165*3","v":0},null,{"$f":"AD165+AJ165","v":0},{"$nulls":4},{"$f":"11000-AO165-AD165","v":{"v":11000,"d":"11,000.00"}},null,null,{"$f":"AR165*12","v":0},{"$f":"AR165*3","v":0},{"$f":"AR165*2","v":0},{"$f":"AR165*3","v":0},{"$f":"AR165*3","v":0},1,{"$f":"151116-146958","v":{"v":4158,"d":"4,158.00"}},{"$nulls":14},{"v":1,"d":"1.00"},{"v":4158,"d":"4,158.00"},{"$nulls":4},{"$f":"BN165","v":1},{"$f":"ROUND(BO165,2)","v":{"v":4158,"d":"4,158.00"}}]
[{"$nulls":16},"อบต.ลำดวน ผลรวม","ลำดวน","สุรินทร์",{"$nulls":9},{"$f":"SUBTOTAL(9,AC165:AC165)","v":0},{"$f":"SUBTOTAL(9,AD165:AD165)","v":0},{"$f":"SUBTOTAL(9,AE165:AE165)","v":0},{"$f":"SUBTOTAL(9,AF165:AF165)","v":0},{"$f":"SUBTOTAL(9,AG165:AG165)","v":0},{"$nulls":9},{"$f":"SUBTOTAL(9,AQ165:AQ165)","v":0},{"$f":"SUBTOTAL(9,AR165:AR165)","v":0},{"$f":"SUBTOTAL(9,AS165:AS165)","v":0},{"$f":"SUBTOTAL(9,AT165:AT165)","v":0},{"$f":"SUBTOTAL(9,AU165:AU165)","v":0},null,null,{"$f":"SUBTOTAL(9,AX165:AX165)","v":1},{"v":4158,"d":"4,158.00"},0,0,0,0,0,0,0,0,0,0,0,0,{"$nulls":3},{"v":4158,"d":"4,158.00"},{"$nulls":4},{"$f":"SUBTOTAL(9,BT165:BT165)","v":1},{"$f":"SUBTOTAL(9,BU165:BU165)","v":{"v":4158,"d":"4,158.00"}}]
[{"$f":"A165+1","v":2},"นาง","กาญจนาพร","วรรณสิน",{"$nulls":4},"2568-10-01",{"$nulls":7},"อบต.กระออม","สำโรงทาบ","สุรินทร์",{"$nulls":9},1,{"v":10374,"d":"10,374.00"},{"$f":"AD167*12","v":{"v":124488,"d":"124,488.00"}},{"$f":"AD167*3","v":{"v":31122,"d":"31,122.00"}},{"$f":"AD167*2","v":{"v":20748,"d":"20,748.00"}},{"$f":"AD167*3","v":{"v":31122,"d":"31,122.00"}},{"$f":"AD167*3","v":{"v":31122,"d":"31,122.00"}},null,{"$f":"AD167+AJ167","v":{"v":10374,"d":"10,374.00"}},{"$nulls":4},{"$f":"11000-AO167-AD167","v":{"v":626,"d":"626.00"}},1,{"$f":"AJ167+AL167+AO167+AP167","v":{"v":626,"d":"626.00"}},{"$f":"AR167*12","v":{"v":7512,"d":"7,512.00"}},{"$f":"AR167*3","v":{"v":1878,"d":"1,878.00"}},{"$f":"AR167*2","v":{"v":1252,"d":"1,252.00"}},{"$f":"AR167*3","v":{"v":1878,"d":"1,878.00"}},{"$f":"AR167*3","v":{"v":1878,"d":"1,878.00"}},1,{"v":155610,"d":"155,610.00"},{"$nulls":14},{"v":1,"d":"1.00"},{"v":210610,"d":"210,610.00"},{"$nulls":4},{"$f":"BN167","v":1},{"$f":"ROUND(BO167,2)","v":{"v":210610,"d":"210,610.00"}}]
[{"$nulls":16},"อบต.กระออม ผลรวม","สำโรงทาบ","สุรินทร์",{"$nulls":9},{"$f":"SUBTOTAL(9,AC167:AC167)","v":1},{"$f":"SUBTOTAL(9,AD167:AD167)","v":{"v":10374,"d":"10,374.00"}},{"$f":"SUBTOTAL(9,AE167:AE167)","v":{"v":124488,"d":"124,488.00"}},{"$f":"SUBTOTAL(9,AF167:AF167)","v":{"v":31122,"d":"31,122.00"}},{"$f":"SUBTOTAL(9,AG167:AG167)","v":{"v":20748,"d":"20,748.00"}},{"$nulls":9},{"$f":"SUBTOTAL(9,AQ167:AQ167)","v":1},{"$f":"SUBTOTAL(9,AR167:AR167)","v":{"v":626,"d":"626.00"}},{"$f":"SUBTOTAL(9,AS167:AS167)","v":{"v":7512,"d":"7,512.00"}},{"$f":"SUBTOTAL(9,AT167:AT167)","v":{"v":1878,"d":"1,878.00"}},{"$f":"SUBTOTAL(9,AU167:AU167)","v":{"v":1252,"d":"1,252.00"}},null,null,{"$f":"SUBTOTAL(9,AX167:AX167)","v":1},{"v":155610,"d":"155,610.00"},0,0,0,0,0,0,0,0,0,0,0,0,{"$nulls":3},{"v":210610,"d":"210,610.00"},{"$nulls":4},{"$f":"SUBTOTAL(9,BT167:BT167)","v":1},{"$f":"SUBTOTAL(9,BU167:BU167)","v":{"v":210610,"d":"210,610.00"}}]
[{"$nulls":18},"สุรินทร์ ผลรวม",{"$nulls":9},{"$f":"SUBTOTAL(9,AC165:AC167)","v":1},{"$f":"SUBTOTAL(9,AD165:AD167)","v":{"v":10374,"d":"10,374.00"}},{"$f":"SUBTOTAL(9,AE165:AE167)","v":{"v":124488,"d":"124,488.00"}},{"$f":"SUBTOTAL(9,AF165:AF167)","v":{"v":31122,"d":"31,122.00"}},{"$f":"SUBTOTAL(9,AG165:AG167)","v":{"v":20748,"d":"20,748.00"}},{"$nulls":9},{"$f":"SUBTOTAL(9,AQ165:AQ167)","v":1},{"$f":"SUBTOTAL(9,AR165:AR167)","v":{"v":626,"d":"626.00"}},{"$f":"SUBTOTAL(9,AS165:AS167)","v":{"v":7512,"d":"7,512.00"}},{"$f":"SUBTOTAL(9,AT165:AT167)","v":{"v":1878,"d":"1,878.00"}},{"$f":"SUBTOTAL(9,AU165:AU167)","v":{"v":1252,"d":"1,252.00"}},null,null,{"$f":"SUBTOTAL(9,AX165:AX167)","v":2},{"v":159768,"d":"159,768.00"},0,0,0,0,0,0,0,0,0,0,0,0,{"$nulls":3},{"v":214768,"d":"214,768.00"},{"$nulls":4},{"$f":"SUBTOTAL(9,BT165:BT167)","v":2},{"$f":"SUBTOTAL(9,BU165:BU167)","v":{"v":214768,"d":"214,768.00"}}]
[1,"นาง","เกษร","ราชกิจ",{"$nulls":4},"2568-10-01",{"$nulls":7},"อบต.บ้านฝาง","สระใคร","หนองคาย",null,"ครู",{"$nulls":7},1,{"v":6749.6,"d":"6,749.60"},{"$f":"AD170*12","v":{"v":80995.20000000001,"d":"80,995.20"}},{"$f":"AD170*3","v":{"v":20248.800000000003,"d":"20,248.80"}},{"$f":"AD170*2","v":{"v":13499.2,"d":"13,499.20"}},{"$f":"AD170*3","v":{"v":20248.800000000003,"d":"20,248.80"}},{"$f":"AD170*3","v":{"v":20248.800000000003,"d":"20,248.80"}},null,{"$f":"AD170+AJ170","v":{"v":6749.6,"d":"6,749.60"}},{"$nulls":4},{"$f":"11000-AO170-AD170","v":{"v":4250.4,"d":"4,250.40"}},1,{"$f":"AJ170+AL170+AO170+AP170","v":{"v":4250.4,"d":"4,250.40"}},{"$f":"AR170*12","v":{"v":51004.799999999996,"d":"51,004.80"}},{"$f":"AR170*3","v":{"v":12751.199999999999,"d":"12,751.20"}},{"$f":"AR170*2","v":{"v":8500.8,"d":"8,500.80"}},{"$f":"AR170*3","v":{"v":12751.199999999999,"d":"12,751.20"}},{"$f":"AR170*3","v":{"v":12751.199999999999,"d":"12,751.20"}},1,{"v":101244,"d":"101,244.00"},{"$nulls":14},{"v":1,"d":"1.00"},{"v":156244,"d":"156,244.00"},{"$nulls":4},{"$f":"BN170","v":1},{"$f":"ROUND(BO170,2)","v":{"v":156244,"d":"156,244.00"}}]
[{"$nulls":16},"อบต.บ้านฝาง ผลรวม","สระใคร","หนองคาย",{"$nulls":9},{"$f":"SUBTOTAL(9,AC170:AC170)","v":1},{"$f":"SUBTOTAL(9,AD170:AD170)","v":{"v":6749.6,"d":"6,749.60"}},{"$f":"SUBTOTAL(9,AE170:AE170)","v":{"v":80995.20000000001,"d":"80,995.20"}},{"$f":"SUBTOTAL(9,AF170:AF170)","v":{"v":20248.800000000003,"d":"20,248.80"}},{"$f":"SUBTOTAL(9,AG170:AG170)","v":{"v":13499.2,"d":"13,499.20"}},{"$nulls":9},{"$f":"SUBTOTAL(9,AQ170:AQ170)","v":1},{"$f":"SUBTOTAL(9,AR170:AR170)","v":{"v":4250.4,"d":"4,250.40"}},{"$f":"SUBTOTAL(9,AS170:AS170)","v":{"v":51004.799999999996,"d":"51,004.80"}},{"$f":"SUBTOTAL(9,AT170:AT170)","v":{"v":12751.199999999999,"d":"12,751.20"}},{"$f":"SUBTOTAL(9,AU170:AU170)","v":{"v":8500.8,"d":"8,500.80"}},null,null,{"$f":"SUBTOTAL(9,AX170:AX170)","v":1},{"v":101244,"d":"101,244.00"},0,0,0,0,0,0,0,0,0,0,0,0,{"$nulls":3},{"v":156244,"d":"156,244.00"},{"$nulls":4},{"$f":"SUBTOTAL(9,BT170:BT170)","v":1},{"$f":"SUBTOTAL(9,BU170:BU170)","v":{"v":156244,"d":"156,244.00"}}]
[{"$nulls":18},"หนองคาย ผลรวม",{"$nulls":9},{"$f":"SUBTOTAL(9,AC170:AC170)","v":1},{"$f":"SUBTOTAL(9,AD170:AD170)","v":{"v":6749.6,"d":"6,749.60"}},{"$f":"SUBTOTAL(9,AE170:AE170)","v":{"v":80995.20000000001,"d":"80,995.20"}},{"$f":"SUBTOTAL(9,AF170:AF170)","v":{"v":20248.800000000003,"d":"20,248.80"}},{"$f":"SUBTOTAL(9,AG170:AG170)","v":{"v":13499.2,"d":"13,499.20"}},{"$nulls":9},{"$f":"SUBTOTAL(9,AQ170:AQ170)","v":1},{"$f":"SUBTOTAL(9,AR170:AR170)","v":{"v":4250.4,"d":"4,250.40"}},{"$f":"SUBTOTAL(9,AS170:AS170)","v":{"v":51004.799999999996,"d":"51,004.80"}},{"$f":"SUBTOTAL(9,AT170:AT170)","v":{"v":12751.199999999999,"d":"12,751.20"}},{"$f":"SUBTOTAL(9,AU170:AU170)","v":{"v":8500.8,"d":"8,500.80"}},null,null,{"$f":"SUBTOTAL(9,AX170:AX170)","v":1},{"v":101244,"d":"101,244.00"},0,0,0,0,0,0,0,0,0,0,0,0,{"$nulls":3},{"v":156244,"d":"156,244.00"},{"$nulls":4},{"$f":"SUBTOTAL(9,BT170:BT170)","v":1},{"$f":"SUBTOTAL(9,BU170:BU170)","v":{"v":156244,"d":"156,244.00"}}]
[1,"นาง","ศรีอำนาจ","สุดสูง",{"$nulls":4},"2568-11-06",{"$nulls":7},"อบต.ป่าก่อ","ชานุมาน","อำนาจเจริญ",{"$nulls":11},{"$f":"AD173*12","v":0},{"$f":"AD173*3","v":0},{"$f":"AD173*2","v":0},{"$f":"AD173*3","v":0},{"$f":"AD173*3","v":0},null,{"$f":"AD173+AJ173","v":0},{"$nulls":3},0,null,{"$f":"+AC173","v":0},{"$f":"AJ173+AL173+AO173+AP173","v":0},{"$f":"AR173*12","v":0},{"$f":"AR173*3","v":0},{"$f":"AR173*2","v":0},{"$f":"AR173*3","v":0},{"$f":"AR173*3","v":0},{"$nulls":8},1,{"v":535920,"d":"535,920.00"},{"$nulls":6},{"v":1,"d":"1.00"},{"v":535920,"d":"535,920.00"},{"$nulls":4},{"$f":"BN173","v":1},{"$f":"ROUND(BO173,2)","v":{"v":535920,"d":"535,920.00"}}]
[{"$nulls":16},"อบต.ป่าก่อ ผลรวม","ชานุมาน","อำนาจเจริญ",{"$nulls":9},{"$f":"SUBTOTAL(9,AC173:AC173)","v":0},{"$f":"SUBTOTAL(9,AD173:AD173)","v":0},{"$f":"SUBTOTAL(9,AE173:AE173)","v":0},{"$f":"SUBTOTAL(9,AF173:AF173)","v":0},{"$f":"SUBTOTAL(9,AG173:AG173)","v":0},{"$nulls":9},{"$f":"SUBTOTAL(9,AQ173:AQ173)","v":0},{"$f":"SUBTOTAL(9,AR173:AR173)","v":0},{"$f":"SUBTOTAL(9,AS173:AS173)","v":0},{"$f":"SUBTOTAL(9,AT173:AT173)","v":0},{"$f":"SUBTOTAL(9,AU173:AU173)","v":0},null,null,{"$f":"SUBTOTAL(9,AX173:AX173)","v":0},0,0,0,0,0,0,0,1,{"v":535920,"d":"535,920.00"},0,0,0,0,{"$nulls":3},{"v":535920,"d":"535,920.00"},{"$nulls":4},{"$f":"SUBTOTAL(9,BT173:BT173)","v":1},{"$f":"SUBTOTAL(9,BU173:BU173)","v":{"v":535920,"d":"535,920.00"}}]
[{"$f":"A173+1","v":2},"นาง","สมจิต","ทองวิเศษ",{"$nulls":4},"2568-10-01",{"$nulls":7},"อบต.ไร่ขี","ลืออำนาจ","อำนาจเจริญ",{"$nulls":11},{"$f":"AD175*12","v":0},{"$f":"AD175*3","v":0},{"$f":"AD175*2","v":0},{"$f":"AD175*3","v":0},{"$f":"AD175*3","v":0},null,{"$f":"AD175+AJ175","v":0},{"$nulls":3},0,null,{"$f":"+AC175","v":0},{"$f":"AJ175+AL175+AO175+AP175","v":0},{"$f":"AR175*12","v":0},{"$f":"AR175*3","v":0},{"$f":"AR175*2","v":0},{"$f":"AR175*3","v":0},{"$f":"AR175*3","v":0},1,{"$f":"145698-141246","v":{"v":4452,"d":"4,452.00"}},{"$nulls":14},{"v":1,"d":"1.00"},{"v":4452,"d":"4,452.00"},{"$nulls":4},{"$f":"BN175","v":1},{"$f":"ROUND(BO175,2)","v":{"v":4452,"d":"4,452.00"}}]
[{"$nulls":16},"อบต.ไร่ขี ผลรวม","ลืออำนาจ","อำนาจเจริญ",{"$nulls":9},{"$f":"SUBTOTAL(9,AC175:AC175)","v":0},{"$f":"SUBTOTAL(9,AD175:AD175)","v":0},{"$f":"SUBTOTAL(9,AE175:AE175)","v":0},{"$f":"SUBTOTAL(9,AF175:AF175)","v":0},{"$f":"SUBTOTAL(9,AG175:AG175)","v":0},{"$nulls":9},{"$f":"SUBTOTAL(9,AQ175:AQ175)","v":0},{"$f":"SUBTOTAL(9,AR175:AR175)","v":0},{"$f":"SUBTOTAL(9,AS175:AS175)","v":0},{"$f":"SUBTOTAL(9,AT175:AT175)","v":0},{"$f":"SUBTOTAL(9,AU175:AU175)","v":0},null,null,{"$f":"SUBTOTAL(9,AX175:AX175)","v":1},{"v":4452,"d":"4,452.00"},0,0,0,0,0,0,0,0,0,0,0,0,{"$nulls":3},{"v":4452,"d":"4,452.00"},{"$nulls":4},{"$f":"SUBTOTAL(9,BT175:BT175)","v":1},{"$f":"SUBTOTAL(9,BU175:BU175)","v":{"v":4452,"d":"4,452.00"}}]
[{"$nulls":18},"อำนาจเจริญ ผลรวม",{"$nulls":9},{"$f":"SUBTOTAL(9,AC173:AC175)","v":0},{"$f":"SUBTOTAL(9,AD173:AD175)","v":0},{"$f":"SUBTOTAL(9,AE173:AE175)","v":0},{"$f":"SUBTOTAL(9,AF173:AF175)","v":0},{"$f":"SUBTOTAL(9,AG173:AG175)","v":0},{"$nulls":9},{"$f":"SUBTOTAL(9,AQ173:AQ175)","v":0},{"$f":"SUBTOTAL(9,AR173:AR175)","v":0},{"$f":"SUBTOTAL(9,AS173:AS175)","v":0},{"$f":"SUBTOTAL(9,AT173:AT175)","v":0},{"$f":"SUBTOTAL(9,AU173:AU175)","v":0},null,null,{"$f":"SUBTOTAL(9,AX173:AX175)","v":1},{"v":4452,"d":"4,452.00"},0,0,0,0,0,0,1,{"v":535920,"d":"535,920.00"},0,0,0,0,{"$nulls":3},{"v":540372,"d":"540,372.00"},{"$nulls":4},{"$f":"SUBTOTAL(9,BT173:BT175)","v":2},{"$f":"SUBTOTAL(9,BU173:BU175)","v":{"v":540372,"d":"540,372.00"}}]
[1,"นาง","จรัญญา","หงษ์มาลา",{"$nulls":4},"2568-10-04",{"$nulls":7},"อบต.หนองหลัก","ไชยวาน","อุดรธานี",null,"ครู",null,"2568-10-04",{"$nulls":6},0,{"$f":"AD178*12","v":0},{"$f":"AD178*3","v":0},{"$f":"AD178*2","v":0},{"$f":"AD178*3","v":0},{"$f":"AD178*3","v":0},null,{"$f":"AD178+AJ178","v":0},{"$nulls":4},0,null,{"$f":"AJ178+AL178+AO178+AP178","v":0},{"$f":"AR178*12","v":0},{"$f":"AR178*3","v":0},{"$f":"AR178*2","v":0},{"$f":"AR178*3","v":0},{"$f":"AR178*3","v":0},{"$nulls":8},1,{"v":326810,"d":"326,810.00"},{"$nulls":6},{"v":1,"d":"1.00"},{"v":326810,"d":"326,810.00"},{"$nulls":4},{"$f":"BN178","v":1},{"$f":"ROUND(BO178,2)","v":{"v":326810,"d":"326,810.00"}}]
[{"$nulls":16},"อบต.หนองหลัก ผลรวม","ไชยวาน","อุดรธานี",{"$nulls":9},{"$f":"SUBTOTAL(9,AC178:AC178)","v":0},{"$f":"SUBTOTAL(9,AD178:AD178)","v":0},{"$f":"SUBTOTAL(9,AE178:AE178)","v":0},{"$f":"SUBTOTAL(9,AF178:AF178)","v":0},{"$f":"SUBTOTAL(9,AG178:AG178)","v":0},{"$nulls":9},{"$f":"SUBTOTAL(9,AQ178:AQ178)","v":0},{"$f":"SUBTOTAL(9,AR178:AR178)","v":0},{"$f":"SUBTOTAL(9,AS178:AS178)","v":0},{"$f":"SUBTOTAL(9,AT178:AT178)","v":0},{"$f":"SUBTOTAL(9,AU178:AU178)","v":0},null,null,{"$f":"SUBTOTAL(9,AX178:AX178)","v":0},0,0,0,0,0,0,0,1,{"v":326810,"d":"326,810.00"},0,0,0,0,{"$nulls":3},{"v":326810,"d":"326,810.00"},{"$nulls":4},{"$f":"SUBTOTAL(9,BT178:BT178)","v":1},{"$f":"SUBTOTAL(9,BU178:BU178)","v":{"v":326810,"d":"326,810.00"}}]
[{"$f":"A178+1","v":2},"นาง","กัลยาณี","กลิ่นจันทร์",{"$nulls":4},"2568-10-01",{"$nulls":7},"อบต.ข้าวสาร","บ้านผือ","อุดรธานี",null,"ครู",{"$nulls":7},1,{"v":9954,"d":"9,954.00"},{"$f":"AD180*12","v":{"v":119448,"d":"119,448.00"}},{"$f":"AD180*3","v":{"v":29862,"d":"29,862.00"}},{"$f":"AD180*2","v":{"v":19908,"d":"19,908.00"}},{"$f":"AD180*3","v":{"v":29862,"d":"29,862.00"}},{"$f":"AD180*3","v":{"v":29862,"d":"29,862.00"}},null,{"$f":"AD180+AJ180","v":{"v":9954,"d":"9,954.00"}},{"$nulls":4},{"$f":"11000-AO180-AD180","v":{"v":1046,"d":"1,046.00"}},1,{"$f":"AJ180+AL180+AO180+AP180","v":{"v":1046,"d":"1,046.00"}},{"$f":"AR180*12","v":{"v":12552,"d":"12,552.00"}},{"$f":"AR180*3","v":{"v":3138,"d":"3,138.00"}},{"$f":"AR180*2","v":{"v":2092,"d":"2,092.00"}},{"$f":"AR180*3","v":{"v":3138,"d":"3,138.00"}},{"$f":"AR180*3","v":{"v":3138,"d":"3,138.00"}},1,{"v":149310,"d":"149,310.00"},{"$nulls":14},{"v":1,"d":"1.00"},{"v":204310,"d":"204,310.00"},{"$nulls":4},{"$f":"BN180","v":1},{"$f":"ROUND(BO180,2)","v":{"v":204310,"d":"204,310.00"}}]
[{"$nulls":16},"อบต.ข้าวสาร ผลรวม","บ้านผือ","อุดรธานี",{"$nulls":9},{"$f":"SUBTOTAL(9,AC180:AC180)","v":1},{"$f":"SUBTOTAL(9,AD180:AD180)","v":{"v":9954,"d":"9,954.00"}},{"$f":"SUBTOTAL(9,AE180:AE180)","v":{"v":119448,"d":"119,448.00"}},{"$f":"SUBTOTAL(9,AF180:AF180)","v":{"v":29862,"d":"29,862.00"}},{"$f":"SUBTOTAL(9,AG180:AG180)","v":{"v":19908,"d":"19,908.00"}},{"$nulls":9},{"$f":"SUBTOTAL(9,AQ180:AQ180)","v":1},{"$f":"SUBTOTAL(9,AR180:AR180)","v":{"v":1046,"d":"1,046.00"}},{"$f":"SUBTOTAL(9,AS180:AS180)","v":{"v":12552,"d":"12,552.00"}},{"$f":"SUBTOTAL(9,AT180:AT180)","v":{"v":3138,"d":"3,138.00"}},{"$f":"SUBTOTAL(9,AU180:AU180)","v":{"v":2092,"d":"2,092.00"}},null,null,{"$f":"SUBTOTAL(9,AX180:AX180)","v":1},{"v":149310,"d":"149,310.00"},0,0,0,0,0,0,0,0,0,0,0,0,{"$nulls":3},{"v":204310,"d":"204,310.00"},{"$nulls":4},{"$f":"SUBTOTAL(9,BT180:BT180)","v":1},{"$f":"SUBTOTAL(9,BU180:BU180)","v":{"v":204310,"d":"204,310.00"}}]
[{"$f":"A180+1","v":3},"นาง","ละเอียด","กุตัน",{"$nulls":4},"2568-10-01",{"$nulls":7},"อบต.เขือน้ำ","บ้านผือ","อุดรธานี",null,"ครู",{"$nulls":7},1,{"v":10234,"d":"10,234.00"},{"$f":"AD182*12","v":{"v":122808,"d":"122,808.00"}},{"$f":"AD182*3","v":{"v":30702,"d":"30,702.00"}},{"$f":"AD182*2","v":{"v":20468,"d":"20,468.00"}},{"$f":"AD182*3","v":{"v":30702,"d":"30,702.00"}},{"$f":"AD182*3","v":{"v":30702,"d":"30,702.00"}},null,{"$f":"AD182+AJ182","v":{"v":10234,"d":"10,234.00"}},{"$nulls":4},{"$f":"11000-AO182-AD182","v":{"v":766,"d":"766.00"}},1,{"$f":"AJ182+AL182+AO182+AP182","v":{"v":766,"d":"766.00"}},{"$f":"AR182*12","v":{"v":9192,"d":"9,192.00"}},{"$f":"AR182*3","v":{"v":2298,"d":"2,298.00"}},{"$f":"AR182*2","v":{"v":1532,"d":"1,532.00"}},{"$f":"AR182*3","v":{"v":2298,"d":"2,298.00"}},{"$f":"AR182*3","v":{"v":2298,"d":"2,298.00"}},1,{"v":153510,"d":"153,510.00"},{"$nulls":14},{"v":1,"d":"1.00"},{"v":208510,"d":"208,510.00"},{"$nulls":4},{"$f":"BN182","v":1},{"$f":"ROUND(BO182,2)","v":{"v":208510,"d":"208,510.00"}}]
[{"$nulls":16},"อบต.เขือน้ำ ผลรวม","บ้านผือ","อุดรธานี",{"$nulls":9},{"$f":"SUBTOTAL(9,AC182:AC182)","v":1},{"$f":"SUBTOTAL(9,AD182:AD182)","v":{"v":10234,"d":"10,234.00"}},{"$f":"SUBTOTAL(9,AE182:AE182)","v":{"v":122808,"d":"122,808.00"}},{"$f":"SUBTOTAL(9,AF182:AF182)","v":{"v":30702,"d":"30,702.00"}},{"$f":"SUBTOTAL(9,AG182:AG182)","v":{"v":20468,"d":"20,468.00"}},{"$nulls":9},{"$f":"SUBTOTAL(9,AQ182:AQ182)","v":1},{"$f":"SUBTOTAL(9,AR182:AR182)","v":{"v":766,"d":"766.00"}},{"$f":"SUBTOTAL(9,AS182:AS182)","v":{"v":9192,"d":"9,192.00"}},{"$f":"SUBTOTAL(9,AT182:AT182)","v":{"v":2298,"d":"2,298.00"}},{"$f":"SUBTOTAL(9,AU182:AU182)","v":{"v":1532,"d":"1,532.00"}},null,null,{"$f":"SUBTOTAL(9,AX182:AX182)","v":1},{"v":153510,"d":"153,510.00"},0,0,0,0,0,0,0,0,0,0,0,0,{"$nulls":3},{"v":208510,"d":"208,510.00"},{"$nulls":4},{"$f":"SUBTOTAL(9,BT182:BT182)","v":1},{"$f":"SUBTOTAL(9,BU182:BU182)","v":{"v":208510,"d":"208,510.00"}}]
[{"$f":"A182+1","v":4},"นาง","ประสงค์","สารถิน",{"$nulls":4},"2568-10-01",{"$nulls":7},"อบต.จำปาโมง","บ้านผือ","อุดรธานี",null,"ครู",{"$nulls":7},1,{"v":9903.6,"d":"9,903.60"},{"$f":"AD184*12","v":{"v":118843.20000000001,"d":"118,843.20"}},{"$f":"AD184*3","v":{"v":29710.800000000003,"d":"29,710.80"}},{"$f":"AD184*2","v":{"v":19807.2,"d":"19,807.20"}},{"$f":"AD184*3","v":{"v":29710.800000000003,"d":"29,710.80"}},{"$f":"AD184*3","v":{"v":29710.800000000003,"d":"29,710.80"}},null,{"$f":"AD184+AJ184","v":{"v":9903.6,"d":"9,903.60"}},{"$nulls":4},{"$f":"11000-AO184-AD184","v":{"v":1096.3999999999996,"d":"1,096.40"}},1,{"$f":"AJ184+AL184+AO184+AP184","v":{"v":1096.3999999999996,"d":"1,096.40"}},{"$f":"AR184*12","v":{"v":13156.799999999996,"d":"13,156.80"}},{"$f":"AR184*3","v":{"v":3289.199999999999,"d":"3,289.20"}},{"$f":"AR184*2","v":{"v":2192.7999999999993,"d":"2,192.80"}},{"$f":"AR184*3","v":{"v":3289.199999999999,"d":"3,289.20"}},{"$f":"AR184*3","v":{"v":3289.199999999999,"d":"3,289.20"}},1,{"v":148554,"d":"148,554.00"},{"$nulls":14},{"v":1,"d":"1.00"},{"v":203554,"d":"203,554.00"},{"$nulls":4},{"$f":"BN184","v":1},{"$f":"ROUND(BO184,2)","v":{"v":203554,"d":"203,554.00"}}]
[{"$nulls":16},"อบต.จำปาโมง ผลรวม","บ้านผือ","อุดรธานี",{"$nulls":9},{"$f":"SUBTOTAL(9,AC184:AC184)","v":1},{"$f":"SUBTOTAL(9,AD184:AD184)","v":{"v":9903.6,"d":"9,903.60"}},{"$f":"SUBTOTAL(9,AE184:AE184)","v":{"v":118843.20000000001,"d":"118,843.20"}},{"$f":"SUBTOTAL(9,AF184:AF184)","v":{"v":29710.800000000003,"d":"29,710.80"}},{"$f":"SUBTOTAL(9,AG184:AG184)","v":{"v":19807.2,"d":"19,807.20"}},{"$nulls":9},{"$f":"SUBTOTAL(9,AQ184:AQ184)","v":1},{"$f":"SUBTOTAL(9,AR184:AR184)","v":{"v":1096.3999999999996,"d":"1,096.40"}},{"$f":"SUBTOTAL(9,AS184:AS184)","v":{"v":13156.799999999996,"d":"13,156.80"}},{"$f":"SUBTOTAL(9,AT184:AT184)","v":{"v":3289.199999999999,"d":"3,289.20"}},{"$f":"SUBTOTAL(9,AU184:AU184)","v":{"v":2192.7999999999993,"d":"2,192.80"}},null,null,{"$f":"SUBTOTAL(9,AX184:AX184)","v":1},{"v":148554,"d":"148,554.00"},0,0,0,0,0,0,0,0,0,0,0,0,{"$nulls":3},{"v":203554,"d":"203,554.00"},{"$nulls":4},{"$f":"SUBTOTAL(9,BT184:BT184)","v":1},{"$f":"SUBTOTAL(9,BU184:BU184)","v":{"v":203554,"d":"203,554.00"}}]
[{"$f":"A184+1","v":5},"นาง","สมเภา","เสริญไธสง",{"$nulls":4},"2568-10-01",{"$nulls":7},"อบต.นาม่วง","ประจักษ์ศิลปาคม","อุดรธานี",null,"ครู",{"$nulls":7},1,{"v":6800.2,"d":"6,800.20"},{"$f":"AD186*12","v":{"v":81602.4,"d":"81,602.40"}},{"$f":"AD186*3","v":{"v":20400.6,"d":"20,400.60"}},{"$f":"AD186*2","v":{"v":13600.4,"d":"13,600.40"}},{"$f":"AD186*3","v":{"v":20400.6,"d":"20,400.60"}},{"$f":"AD186*3","v":{"v":20400.6,"d":"20,400.60"}},null,{"$f":"AD186+AJ186","v":{"v":6800.2,"d":"6,800.20"}},{"$nulls":4},{"$f":"11000-AO186-AD186","v":{"v":4199.8,"d":"4,199.80"}},1,{"$f":"AJ186+AL186+AO186+AP186","v":{"v":4199.8,"d":"4,199.80"}},{"$f":"AR186*12","v":{"v":50397.600000000006,"d":"50,397.60"}},{"$f":"AR186*3","v":{"v":12599.400000000001,"d":"12,599.40"}},{"$f":"AR186*2","v":{"v":8399.6,"d":"8,399.60"}},{"$f":"AR186*3","v":{"v":12599.400000000001,"d":"12,599.40"}},{"$f":"AR186*3","v":{"v":12599.400000000001,"d":"12,599.40"}},1,{"v":102003,"d":"102,003.00"},{"$nulls":14},{"v":1,"d":"1.00"},{"v":157003,"d":"157,003.00"},{"$nulls":4},{"$f":"BN186","v":1},{"$f":"ROUND(BO186,2)","v":{"v":157003,"d":"157,003.00"}}]
[{"$nulls":16},"อบต.นาม่วง ผลรวม","ประจักษ์ศิลปาคม","อุดรธานี",{"$nulls":9},{"$f":"SUBTOTAL(9,AC186:AC186)","v":1},{"$f":"SUBTOTAL(9,AD186:AD186)","v":{"v":6800.2,"d":"6,800.20"}},{"$f":"SUBTOTAL(9,AE186:AE186)","v":{"v":81602.4,"d":"81,602.40"}},{"$f":"SUBTOTAL(9,AF186:AF186)","v":{"v":20400.6,"d":"20,400.60"}},{"$f":"SUBTOTAL(9,AG186:AG186)","v":{"v":13600.4,"d":"13,600.40"}},{"$nulls":9},{"$f":"SUBTOTAL(9,AQ186:AQ186)","v":1},{"$f":"SUBTOTAL(9,AR186:AR186)","v":{"v":4199.8,"d":"4,199.80"}},{"$f":"SUBTOTAL(9,AS186:AS186)","v":{"v":50397.600000000006,"d":"50,397.60"}},{"$f":"SUBTOTAL(9,AT186:AT186)","v":{"v":12599.400000000001,"d":"12,599.40"}},{"$f":"SUBTOTAL(9,AU186:AU186)","v":{"v":8399.6,"d":"8,399.60"}},null,null,{"$f":"SUBTOTAL(9,AX186:AX186)","v":1},{"v":102003,"d":"102,003.00"},0,0,0,0,0,0,0,0,0,0,0,0,{"$nulls":3},{"v":157003,"d":"157,003.00"},{"$nulls":4},{"$f":"SUBTOTAL(9,BT186:BT186)","v":1},{"$f":"SUBTOTAL(9,BU186:BU186)","v":{"v":157003,"d":"157,003.00"}}]
[{"$f":"A186+1","v":6},"นาง","สุวรรณี","สุระมณี",{"$nulls":4},"2568-10-01",{"$nulls":7},"อบต.ห้วยสามพาด","ประจักษ์ศิลปาคม","อุดรธานี",null,"ครู",{"$nulls":7},1,{"v":9352.2,"d":"9,352.20"},{"$f":"AD188*12","v":{"v":112226.40000000001,"d":"112,226.40"}},{"$f":"AD188*3","v":{"v":28056.600000000002,"d":"28,056.60"}},{"$f":"AD188*2","v":{"v":18704.4,"d":"18,704.40"}},{"$f":"AD188*3","v":{"v":28056.600000000002,"d":"28,056.60"}},{"$f":"AD188*3","v":{"v":28056.600000000002,"d":"28,056.60"}},null,{"$f":"AD188+AJ188","v":{"v":9352.2,"d":"9,352.20"}},{"$nulls":4},{"$f":"11000-AO188-AD188","v":{"v":1647.7999999999993,"d":"1,647.80"}},1,{"$f":"AJ188+AL188+AO188+AP188","v":{"v":1647.7999999999993,"d":"1,647.80"}},{"$f":"AR188*12","v":{"v":19773.59999999999,"d":"19,773.60"}},{"$f":"AR188*3","v":{"v":4943.399999999998,"d":"4,943.40"}},{"$f":"AR188*2","v":{"v":3295.5999999999985,"d":"3,295.60"}},{"$f":"AR188*3","v":{"v":4943.399999999998,"d":"4,943.40"}},{"$f":"AR188*3","v":{"v":4943.399999999998,"d":"4,943.40"}},1,{"v":140283,"d":"140,283.00"},{"$nulls":14},{"v":1,"d":"1.00"},{"v":195283,"d":"195,283.00"},{"$nulls":4},{"$f":"BN188","v":1},{"$f":"ROUND(BO188,2)","v":{"v":195283,"d":"195,283.00"}}]
[{"$nulls":16},"อบต.ห้วยสามพาด ผลรวม","ประจักษ์ศิลปาคม","อุดรธานี",{"$nulls":9},{"$f":"SUBTOTAL(9,AC188:AC188)","v":1},{"$f":"SUBTOTAL(9,AD188:AD188)","v":{"v":9352.2,"d":"9,352.20"}},{"$f":"SUBTOTAL(9,AE188:AE188)","v":{"v":112226.40000000001,"d":"112,226.40"}},{"$f":"SUBTOTAL(9,AF188:AF188)","v":{"v":28056.600000000002,"d":"28,056.60"}},{"$f":"SUBTOTAL(9,AG188:AG188)","v":{"v":18704.4,"d":"18,704.40"}},{"$nulls":9},{"$f":"SUBTOTAL(9,AQ188:AQ188)","v":1},{"$f":"SUBTOTAL(9,AR188:AR188)","v":{"v":1647.7999999999993,"d":"1,647.80"}},{"$f":"SUBTOTAL(9,AS188:AS188)","v":{"v":19773.59999999999,"d":"19,773.60"}},{"$f":"SUBTOTAL(9,AT188:AT188)","v":{"v":4943.399999999998,"d":"4,943.40"}},{"$f":"SUBTOTAL(9,AU188:AU188)","v":{"v":3295.5999999999985,"d":"3,295.60"}},null,null,{"$f":"SUBTOTAL(9,AX188:AX188)","v":1},{"v":140283,"d":"140,283.00"},0,0,0,0,0,0,0,0,0,0,0,0,{"$nulls":3},{"v":195283,"d":"195,283.00"},{"$nulls":4},{"$f":"SUBTOTAL(9,BT188:BT188)","v":1},{"$f":"SUBTOTAL(9,BU188:BU188)","v":{"v":195283,"d":"195,283.00"}}]
[{"$f":"A188+1","v":7},"นาง","สิริกัญญา","สาลีจันทร์",{"$nulls":4},"2568-10-01",{"$nulls":7},"อบต.บ้านจั่น","เมืองอุดรธานี","อุดรธานี",null,"ครู",{"$nulls":7},1,{"v":9651.6,"d":"9,651.60"},{"$f":"AD190*12","v":{"v":115819.20000000001,"d":"115,819.20"}},{"$f":"AD190*3","v":{"v":28954.800000000003,"d":"28,954.80"}},{"$f":"AD190*2","v":{"v":19303.2,"d":"19,303.20"}},{"$f":"AD190*3","v":{"v":28954.800000000003,"d":"28,954.80"}},{"$f":"AD190*3","v":{"v":28954.800000000003,"d":"28,954.80"}},null,{"$f":"AD190+AJ190","v":{"v":9651.6,"d":"9,651.60"}},{"$nulls":4},{"$f":"11000-AO190-AD190","v":{"v":1348.3999999999996,"d":"1,348.40"}},1,{"$f":"AJ190+AL190+AO190+AP190","v":{"v":1348.3999999999996,"d":"1,348.40"}},{"$f":"AR190*12","v":{"v":16180.799999999996,"d":"16,180.80"}},{"$f":"AR190*3","v":{"v":4045.199999999999,"d":"4,045.20"}},{"$f":"AR190*2","v":{"v":2696.7999999999993,"d":"2,696.80"}},{"$f":"AR190*3","v":{"v":4045.199999999999,"d":"4,045.20"}},{"$f":"AR190*3","v":{"v":4045.199999999999,"d":"4,045.20"}},1,{"v":144774,"d":"144,774.00"},{"$nulls":14},{"v":1,"d":"1.00"},{"v":199774,"d":"199,774.00"},{"$nulls":4},{"$f":"BN190","v":1},{"$f":"ROUND(BO190,2)","v":{"v":199774,"d":"199,774.00"}}]
[{"$nulls":16},"อบต.บ้านจั่น ผลรวม","เมืองอุดรธานี","อุดรธานี",{"$nulls":9},{"$f":"SUBTOTAL(9,AC190:AC190)","v":1},{"$f":"SUBTOTAL(9,AD190:AD190)","v":{"v":9651.6,"d":"9,651.60"}},{"$f":"SUBTOTAL(9,AE190:AE190)","v":{"v":115819.20000000001,"d":"115,819.20"}},{"$f":"SUBTOTAL(9,AF190:AF190)","v":{"v":28954.800000000003,"d":"28,954.80"}},{"$f":"SUBTOTAL(9,AG190:AG190)","v":{"v":19303.2,"d":"19,303.20"}},{"$nulls":9},{"$f":"SUBTOTAL(9,AQ190:AQ190)","v":1},{"$f":"SUBTOTAL(9,AR190:AR190)","v":{"v":1348.3999999999996,"d":"1,348.40"}},{"$f":"SUBTOTAL(9,AS190:AS190)","v":{"v":16180.799999999996,"d":"16,180.80"}},{"$f":"SUBTOTAL(9,AT190:AT190)","v":{"v":4045.199999999999,"d":"4,045.20"}},{"$f":"SUBTOTAL(9,AU190:AU190)","v":{"v":2696.7999999999993,"d":"2,696.80"}},null,null,{"$f":"SUBTOTAL(9,AX190:AX190)","v":1},{"v":144774,"d":"144,774.00"},0,0,0,0,0,0,0,0,0,0,0,0,{"$nulls":3},{"v":199774,"d":"199,774.00"},{"$nulls":4},{"$f":"SUBTOTAL(9,BT190:BT190)","v":1},{"$f":"SUBTOTAL(9,BU190:BU190)","v":{"v":199774,"d":"199,774.00"}}]
[{"$f":"A190+1","v":8},"นาง","อภิญญา","แก้วเชียงกุล",{"$nulls":4},"2568-10-01",{"$nulls":7},"อบต.บ้านเชียง","หนองหาน","อุดรธานี",null,"ครู",{"$nulls":7},1,{"v":6716.6,"d":"6,716.60"},{"$f":"AD192*12","v":{"v":80599.20000000001,"d":"80,599.20"}},{"$f":"AD192*3","v":{"v":20149.800000000003,"d":"20,149.80"}},{"$f":"AD192*2","v":{"v":13433.2,"d":"13,433.20"}},{"$f":"AD192*3","v":{"v":20149.800000000003,"d":"20,149.80"}},{"$f":"AD192*3","v":{"v":20149.800000000003,"d":"20,149.80"}},null,{"$f":"AD192+AJ192","v":{"v":6716.6,"d":"6,716.60"}},{"$nulls":4},{"$f":"11000-AO192-AD192","v":{"v":4283.4,"d":"4,283.40"}},1,{"$f":"AJ192+AL192+AO192+AP192","v":{"v":4283.4,"d":"4,283.40"}},{"$f":"AR192*12","v":{"v":51400.799999999996,"d":"51,400.80"}},{"$f":"AR192*3","v":{"v":12850.199999999999,"d":"12,850.20"}},{"$f":"AR192*2","v":{"v":8566.8,"d":"8,566.80"}},{"$f":"AR192*3","v":{"v":12850.199999999999,"d":"12,850.20"}},{"$f":"AR192*3","v":{"v":12850.199999999999,"d":"12,850.20"}},1,{"v":100749,"d":"100,749.00"},{"$nulls":14},{"v":1,"d":"1.00"},{"v":155749,"d":"155,749.00"},{"$nulls":4},{"$f":"BN192","v":1},{"$f":"ROUND(BO192,2)","v":{"v":155749,"d":"155,749.00"}}]
[{"$nulls":16},"อบต.บ้านเชียง ผลรวม","หนองหาน","อุดรธานี",{"$nulls":9},{"$f":"SUBTOTAL(9,AC192:AC192)","v":1},{"$f":"SUBTOTAL(9,AD192:AD192)","v":{"v":6716.6,"d":"6,716.60"}},{"$f":"SUBTOTAL(9,AE192:AE192)","v":{"v":80599.20000000001,"d":"80,599.20"}},{"$f":"SUBTOTAL(9,AF192:AF192)","v":{"v":20149.800000000003,"d":"20,149.80"}},{"$f":"SUBTOTAL(9,AG192:AG192)","v":{"v":13433.2,"d":"13,433.20"}},{"$nulls":9},{"$f":"SUBTOTAL(9,AQ192:AQ192)","v":1},{"$f":"SUBTOTAL(9,AR192:AR192)","v":{"v":4283.4,"d":"4,283.40"}},{"$f":"SUBTOTAL(9,AS192:AS192)","v":{"v":51400.799999999996,"d":"51,400.80"}},{"$f":"SUBTOTAL(9,AT192:AT192)","v":{"v":12850.199999999999,"d":"12,850.20"}},{"$f":"SUBTOTAL(9,AU192:AU192)","v":{"v":8566.8,"d":"8,566.80"}},null,null,{"$f":"SUBTOTAL(9,AX192:AX192)","v":1},{"v":100749,"d":"100,749.00"},0,0,0,0,0,0,0,0,0,0,0,0,{"$nulls":8},{"$f":"SUBTOTAL(9,BT192:BT192)","v":1},{"$f":"SUBTOTAL(9,BU192:BU192)","v":{"v":155749,"d":"155,749.00"}}]
[{"$nulls":18},"อุดรธานี ผลรวม",{"$nulls":9},{"$f":"SUBTOTAL(9,AC178:AC192)","v":7},{"$f":"SUBTOTAL(9,AD178:AD192)","v":{"v":62612.2,"d":"62,612.20"}},{"$f":"SUBTOTAL(9,AE178:AE192)","v":{"v":751346.3999999999,"d":"751,346.40"}},{"$f":"SUBTOTAL(9,AF178:AF192)","v":{"v":187836.59999999998,"d":"187,836.60"}},{"$f":"SUBTOTAL(9,AG178:AG192)","v":{"v":125224.4,"d":"125,224.40"}},{"$nulls":9},{"$f":"SUBTOTAL(9,AQ178:AQ192)","v":7},{"$f":"SUBTOTAL(9,AR178:AR192)","v":{"v":14387.8,"d":"14,387.80"}},{"$f":"SUBTOTAL(9,AS178:AS192)","v":{"v":172653.59999999998,"d":"172,653.60"}},{"$f":"SUBTOTAL(9,AT178:AT192)","v":{"v":43163.399999999994,"d":"43,163.40"}},{"$f":"SUBTOTAL(9,AU178:AU192)","v":{"v":28775.6,"d":"28,775.60"}},null,null,{"$f":"SUBTOTAL(9,AX178:AX192)","v":7},{"v":939183,"d":"939,183.00"},0,0,0,0,0,0,1,{"v":326810,"d":"326,810.00"},0,0,0,0,{"$nulls":8},{"$f":"SUBTOTAL(9,BT178:BT192)","v":8},{"$f":"SUBTOTAL(9,BU178:BU192)","v":{"v":1650993,"d":"1,650,993.00"}}]
{"$rows_empty":1597}
[{"$nulls":21},"2502-04-04"]

{"sheet":"บัญชีสรุป อปท.","index":3,"n_rows":1715,"n_cols":75,"rows_kept":1715,"merged":[[0,0,0,74],[1,0,1,74],[3,0,6,0],[3,28,3,29],[3,35,3,41],[3,42,3,43],[3,49,3,50],[3,51,3,52],[3,53,3,54],[3,55,3,56],[3,57,3,58],[3,59,3,60],[3,61,3,62],[3,63,3,64],[3,65,3,66],[3,67,3,68],[3,69,3,70],[3,71,3,72],[3,73,3,74],[4,1,6,1],[4,2,6,2],[4,3,6,3],[4,16,6,16],[4,28,4,29],[4,42,4,43],[4,49,4,50],[4,51,4,52],[4,53,4,54],[4,55,4,56],[4,57,4,58],[4,59,4,60],[4,61,4,62],[4,63,4,64],[4,65,4,66],[4,67,4,68],[4,69,4,70],[4,71,4,72],[4,73,4,74]]}
["บัญชีรายละเอียดแจ้งการจัดสรรงบประมาณรายจ่ายประจำปีงบประมาณ พ.ศ. 2569"]
["เงินอุดหนุนทั่วไป เงินอุดหนุนสำหรับการจัดการศึกษาภาคบังคับ (บำเหน็จ บำนาญ) ไตรมาสที่ 2 (เดือนมกราคม - กุมภาพันธ์ 2569) เพิ่มเติม "]
[]
["ที่","คำนำ","ชื่อตัว","ชื่อสกุล","เลขบัตร","ว/ด/ป เกิด","ว/ด/ป ","ว/ด/ป ","ว/ด/ป ","เวลาราชการ","เวลาราชการ","เวลาก่อน","รับบำนาญเหตุ","รหัสท้องถิ่นA","ท้องถิ่นที่เข้า","รหัสท้องถิ่นB","ท้องถิ่นที่รับ","อำเภอ","จังหวัด","ประเภท","ตำแหน่งที่","ประเภทการรับ","ว/ด/ป ",{"$nulls":5},"เงินบำนาญ",null,"เงินบำนาญ","เงินบำนาญ","เงินบำนาญ","คำนวนเงินบำนาญ","คำนวนเงินบำนาญ","กรณีไม่มีสิทธิได้รับ ให้ลบข้อมูลออก ",{"$nulls":6},"ช.ค.บ.ฉบับที่ 1-18",null,"เงิน ช.ค.บ.","เงิน ช.ค.บ.","เงิน ช.ค.บ.","คำนวณเงิน ช.ค.บ.","คำนวณเงิน ช.ค.บ.","บำเหน็จดำรงชีพ",null,"   บำเหน็จดำรงชีพ",null,"   บำเหน็จดำรงชีพ",null,"เงินบำเหน็จปกติ",null,"เงินบำเหน็จตกทอด",null,"ตกเบิกเงิน",null,"เงินบำเหน็จตกทอดและ",null,"เงินเหลือจ่าย",null,"แจ้งยอดเงินจัดสรร  ",null,"แจ้งยอดเงินจัดสรร   ",null,"แจ้งยอดเงินจัดสรร   ",null,"แจ้งยอดเงินจัดสรร   ",null,"จัดสรรเงิน "]
[null,"หน้าชื่อ",null,null,"ประจำตัว",null,"ที่รับราชการ","โอนมา อปท.","ที่ออก","สำหรับคำนวณ","สำหรับคำนวณ","ถ่ายโอน",null,null,"รับราชการ",null,"บำนาญ",null,null,"ข้าราชการ","รับบำนาญ",null,"ที่ถึงแก่กรรม","เฉลี่ย","เงินเดือน","เงินเดือน","พสร.","ปี","ต่อเดือน",null,"ไตรมาส 1-4","จัดสรรไตรมาส 1","จัดสรรไตรมาส 2","จัดสรรไตรมาส 3","จัดสรรไตรมาส 4","ช.ค.บ.","รวมบำนาญ","ฉบับที่ 15","คำนวณ","ช.ค.บ.","ช.ค.บ.","ช.ค.บ.","ต่อเดือน",null,"ไตรมาส 1-4","จัดสรรไตรมาส 1","จัดสรรไตรมาส 2","จัดสรรไตรมาส 3","จัดสรรไตรมาส 4"," 200,000 แรก",null,"    อายุ 65 ปี",null,"    อายุ 70 ปี",{"$nulls":3}," (ตายในตำแหน่ง)",{"$nulls":3},"เงินช่วยพิเศษ (บำนาญตาย) ",{"$nulls":3},"ไตรมาสที่ 1  (ต.ค. - ธ.ค. 68)",null," ไตรมาสที่ 2 (ม.ค - มี.ค.69)",null,"ไตรมาสที่ 3 (เม.ย. - มิ.ย. 69)",null," ไตรมาสที่ 4 (ก.ค. - ก.ย. 69)",null," ไตรมาสที่ 2 (ม.ค - ก.พ.69) เพิ่มเติม"]
[{"$nulls":4},"ประชาชน",{"$nulls":3},"จากราชการ","เต็ม (ปี)","ทศนิยม (ปี)","(ปี)",{"$nulls":11},"60 เดือน","(เดิม)","(ปรับใหม่)",null,"งบประมาณ","จำนวน","จำนวนเงิน","(ต.ค.68 - ก.ย.69)","(ต.ค. - ธ.ค.68)","(ม.ค. - ก.พ.69)","(เม.ย. - มิ.ย.69)","(ก.ค. - ก.ย.69)","ฉบับที่ 1-14","และ ช.ค.บ.","ต่ำกว่า 9,000","ฉบับที่ 16","ฉบับที่ 16","ฉบับที่ 17","ฉบับที่ 18","จำนวน","จำนวนเงิน","(ต.ค.68 - ก.ย.69)","(ต.ค. - ธ.ค.68)","(ม.ค. - ก.พ.69)","(เม.ย. - มิ.ย.69)","(ก.ค. - ก.ย.69)","จำนวน","จำนวนเงิน","จำนวน","จำนวนเงิน","จำนวน","จำนวนเงิน","จำนวน","จำนวนเงิน","จำนวน","จำนวนเงิน","จำนวน","จำนวนเงิน","จำนวน","จำนวนเงิน","จำนวน","จำนวนเงิน","จำนวน","จำนวนเงิน","จำนวน","จำนวนเงิน","จำนวน","จำนวนเงิน","จำนวน","จำนวนเงิน","จำนวน","จำนวนเงิน"]
[{"$nulls":4},"ประชาชน",{"$nulls":4},"เต็ม (ปี)","ทศนิยม (ปี)","(ปี)",{"$nulls":16},"(ราย)","(บาท)","12 เดือน","3 เดือน","2 เดือน","3 เดือน","3 เดือน",{"$nulls":4},"เพิ่ม 4 %","ต่ำกว่า 10,000","ต่ำกว่า 11,000","(ราย)","(บาท)","12 เดือน","3 เดือน","2 เดือน","3 เดือน","3 เดือน","(ราย)","(บาท)","(ราย)","(บาท)","(ราย)","(บาท)","(ราย)","(บาท)","(ราย)","(บาท)","(ราย)","(บาท)","(ราย)","(บาท)","(ราย)","(บาท)","(ราย)","(บาท)","(ราย)","(บาท)","(ราย)","(บาท)","(ราย)","(บาท)","(ราย)","(บาท)"]
[{"$f":"A7+1","v":1},{"$nulls":15},"อบต.เขาเขน ","ปลายพระยา","กระบี่",{"$nulls":9},1,{"v":10777.2,"d":"10,777.20"},{"v":129326.40000000001,"d":"129,326.40"},{"v":32331.600000000002,"d":"32,331.60"},{"v":21554.4,"d":"21,554.40"},{"$nulls":9},1,{"v":222.79999999999927,"d":"222.80"},{"v":2673.5999999999913,"d":"2,673.60"},{"v":668.3999999999978,"d":"668.40"},{"v":445.59999999999854,"d":"445.60"},null,null,1,{"v":161658,"d":"161,658.00"},0,0,0,0,0,0,0,0,0,0,0,0,0,0,{"$nulls":6},{"v":1,"d":"1.00"},{"v":282658,"d":"282,658.00"},1,{"v":216658,"d":"216,658.00"}]
[{"$nulls":18},"กระบี่ ผลรวม",{"$nulls":9},{"$f":"SUBTOTAL(9,AC8:AC8)","v":1},{"$f":"SUBTOTAL(9,AD8:AD8)","v":{"v":10777.2,"d":"10,777.20"}},{"$f":"SUBTOTAL(9,AE8:AE8)","v":{"v":129326.40000000001,"d":"129,326.40"}},{"$f":"SUBTOTAL(9,AF8:AF8)","v":{"v":32331.600000000002,"d":"32,331.60"}},{"$f":"SUBTOTAL(9,AG8:AG8)","v":{"v":21554.4,"d":"21,554.40"}},{"$nulls":9},{"$f":"SUBTOTAL(9,AQ8:AQ8)","v":1},{"$f":"SUBTOTAL(9,AR8:AR8)","v":{"v":222.79999999999927,"d":"222.80"}},{"$f":"SUBTOTAL(9,AS8:AS8)","v":{"v":2673.5999999999913,"d":"2,673.60"}},{"$f":"SUBTOTAL(9,AT8:AT8)","v":{"v":668.3999999999978,"d":"668.40"}},{"$f":"SUBTOTAL(9,AU8:AU8)","v":{"v":445.59999999999854,"d":"445.60"}},null,null,{"$f":"SUBTOTAL(9,AX8:AX8)","v":1},{"v":161658,"d":"161,658.00"},0,0,0,0,0,0,0,0,0,0,0,0,0,0,{"$nulls":8},{"$f":"SUBTOTAL(9,BV8:BV8)","v":1},{"$f":"SUBTOTAL(9,BW8:BW8)","v":{"v":216658,"d":"216,658.00"}}]
[1,{"$nulls":15},"อบต.แจนแลน ","กุฉินารายณ์","กาฬสินธุ์",{"$nulls":40},5,{"v":266119,"d":"266,119.00"},{"$nulls":12},{"$f":"BH10","v":5},{"v":266119,"d":"266,119.00"}]
[{"$f":"A10+1","v":2},{"$nulls":15},"อบต.หนองห้าง ","กุฉินารายณ์","กาฬสินธุ์",{"$nulls":40},1,{"v":18802,"d":"18,802.00"},{"$nulls":12},1,{"v":18802,"d":"18,802.00"}]
[{"$f":"A11+1","v":3},{"$nulls":15},"อบต.เหล่าไฮงาม ","กุฉินารายณ์","กาฬสินธุ์",{"$nulls":40},3,{"v":169010,"d":"169,010.00"},{"$nulls":12},3,{"v":169010,"d":"169,010.00"}]
[{"$f":"A12+1","v":4},{"$nulls":15},"อบต.สำราญใต้ ","สามชัย","กาฬสินธุ์",{"$nulls":9},0,0,0,0,0,{"$nulls":9},0,0,0,0,0,null,null,0,0,0,0,0,0,1,{"v":461500,"d":"461,500.00"},0,0,0,0,0,0,0,0,{"$nulls":6},{"v":1,"d":"1.00"},{"v":461500,"d":"461,500.00"},1,{"v":461500,"d":"461,500.00"}]
[{"$nulls":18},"กาฬสินธุ์ ผลรวม",{"$nulls":9},{"$f":"SUBTOTAL(9,AC10:AC13)","v":0},{"$f":"SUBTOTAL(9,AD10:AD13)","v":0},{"$f":"SUBTOTAL(9,AE10:AE13)","v":0},{"$f":"SUBTOTAL(9,AF10:AF13)","v":0},{"$f":"SUBTOTAL(9,AG10:AG13)","v":0},{"$nulls":9},{"$f":"SUBTOTAL(9,AQ10:AQ13)","v":0},{"$f":"SUBTOTAL(9,AR10:AR13)","v":0},{"$f":"SUBTOTAL(9,AS10:AS13)","v":0},{"$f":"SUBTOTAL(9,AT10:AT13)","v":0},{"$f":"SUBTOTAL(9,AU10:AU13)","v":0},null,null,{"$f":"SUBTOTAL(9,AX10:AX13)","v":0},0,0,0,0,0,1,{"v":461500,"d":"461,500.00"},0,0,9,{"v":453931,"d":"453,931.00"},0,0,0,0,{"$nulls":8},{"$f":"SUBTOTAL(9,BV10:BV13)","v":10},{"$f":"SUBTOTAL(9,BW10:BW13)","v":{"v":915431,"d":"915,431.00"}}]
[1,{"$nulls":15},"อบต.คณฑี ","เมืองกำแพงเพชร","กำแพงเพชร",{"$nulls":40},1,{"v":966,"d":"966.00"},{"$nulls":12},{"$f":"BH15","v":1},{"v":966,"d":"966.00"}]
[{"$f":"A15+1","v":2},{"$nulls":15},"อบต.นครชุม ","เมืองกำแพงเพชร","กำแพงเพชร",{"$nulls":40},1,{"v":140116,"d":"140,116.00"},{"$nulls":12},1,{"v":140116,"d":"140,116.00"}]
[{"$f":"A16+1","v":3},{"$nulls":15},"อบต.วังทอง ","เมืองกำแพงเพชร","กำแพงเพชร",{"$nulls":40},2,{"v":22000,"d":"22,000.00"},{"$nulls":12},2,{"v":22000,"d":"22,000.00"}]
[{"$nulls":18},"กำแพงเพชร ผลรวม",{"$nulls":9},{"$f":"SUBTOTAL(9,AC15:AC17)","v":0},{"$f":"SUBTOTAL(9,AD15:AD17)","v":0},{"$f":"SUBTOTAL(9,AE15:AE17)","v":0},{"$f":"SUBTOTAL(9,AF15:AF17)","v":0},{"$f":"SUBTOTAL(9,AG15:AG17)","v":0},{"$nulls":9},{"$f":"SUBTOTAL(9,AQ15:AQ17)","v":0},{"$f":"SUBTOTAL(9,AR15:AR17)","v":0},{"$f":"SUBTOTAL(9,AS15:AS17)","v":0},{"$f":"SUBTOTAL(9,AT15:AT17)","v":0},{"$f":"SUBTOTAL(9,AU15:AU17)","v":0},null,null,{"$f":"SUBTOTAL(9,AX15:AX17)","v":0},0,0,0,0,0,0,0,0,0,4,{"v":163082,"d":"163,082.00"},0,0,0,0,{"$nulls":8},{"$f":"SUBTOTAL(9,BV15:BV17)","v":4},{"$f":"SUBTOTAL(9,BW15:BW17)","v":{"v":163082,"d":"163,082.00"}}]
[1,{"$nulls":15},"อบต.ลอมคอม ","พล","ขอนแก่น",{"$nulls":9},1,{"v":9338,"d":"9,338.00"},{"v":112056,"d":"112,056.00"},{"v":28014,"d":"28,014.00"},{"v":18676,"d":"18,676.00"},{"$nulls":9},1,{"v":1662,"d":"1,662.00"},{"v":19944,"d":"19,944.00"},{"v":4986,"d":"4,986.00"},{"v":3324,"d":"3,324.00"},null,null,1,{"v":140070,"d":"140,070.00"},0,0,0,0,0,0,0,0,0,0,0,0,0,0,{"$nulls":6},{"v":1,"d":"1.00"},{"v":261070,"d":"261,070.00"},1,{"v":195070,"d":"195,070.00"}]
[{"$f":"A19+1","v":2},{"$nulls":15},"อบต.นางาม ","มัญจาคีรี","ขอนแก่น",{"$nulls":40},1,{"v":22000,"d":"22,000.00"},{"$nulls":12},{"$f":"BH20","v":1},{"$f":"BI20","v":{"v":22000,"d":"22,000.00"}}]
[{"$f":"A20+1","v":3},{"$nulls":15},"อบต.ท่านางแนว ","แวงน้อย","ขอนแก่น",{"$nulls":9},1,{"v":6591.2,"d":"6,591.20"},{"v":79094.4,"d":"79,094.40"},{"v":19773.6,"d":"19,773.60"},{"v":13182.4,"d":"13,182.40"},{"$nulls":9},1,{"v":4408.8,"d":"4,408.80"},{"v":52905.600000000006,"d":"52,905.60"},{"v":13226.400000000001,"d":"13,226.40"},{"v":8817.6,"d":"8,817.60"},null,null,1,{"v":98868,"d":"98,868.00"},0,0,0,0,0,0,0,0,0,0,0,0,0,0,{"$nulls":6},{"v":1,"d":"1.00"},{"v":219868,"d":"219,868.00"},1,{"v":153868,"d":"153,868.00"}]
[{"$f":"A21+1","v":4},{"$nulls":15},"อบต.ศรีสุข ","สีชมพู","ขอนแก่น",{"$nulls":9},1,{"v":9757.8,"d":"9,757.80"},{"v":117093.59999999999,"d":"117,093.60"},{"v":29273.399999999998,"d":"29,273.40"},{"v":19515.6,"d":"19,515.60"},{"$nulls":9},1,{"v":1242.2000000000007,"d":"1,242.20"},{"v":14906.400000000009,"d":"14,906.40"},{"v":3726.600000000002,"d":"3,726.60"},{"v":2484.4000000000015,"d":"2,484.40"},null,null,1,{"v":146367,"d":"146,367.00"},0,0,0,0,0,0,0,0,0,0,0,0,0,0,{"$nulls":6},{"v":1,"d":"1.00"},{"v":267367,"d":"267,367.00"},1,{"v":201367,"d":"201,367.00"}]
[{"$nulls":18},"ขอนแก่น ผลรวม",{"$nulls":9},{"$f":"SUBTOTAL(9,AC19:AC22)","v":3},{"$f":"SUBTOTAL(9,AD19:AD22)","v":{"v":25687,"d":"25,687.00"}},{"$f":"SUBTOTAL(9,AE19:AE22)","v":{"v":308244,"d":"308,244.00"}},{"$f":"SUBTOTAL(9,AF19:AF22)","v":{"v":77061,"d":"77,061.00"}},{"$f":"SUBTOTAL(9,AG19:AG22)","v":{"v":51374,"d":"51,374.00"}},{"$nulls":9},{"$f":"SUBTOTAL(9,AQ19:AQ22)","v":3},{"$f":"SUBTOTAL(9,AR19:AR22)","v":{"v":7313.000000000001,"d":"7,313.00"}},{"$f":"SUBTOTAL(9,AS19:AS22)","v":{"v":87756.00000000001,"d":"87,756.00"}},{"$f":"SUBTOTAL(9,AT19:AT22)","v":{"v":21939.000000000004,"d":"21,939.00"}},{"$f":"SUBTOTAL(9,AU19:AU22)","v":{"v":14626.000000000002,"d":"14,626.00"}},null,null,{"$f":"SUBTOTAL(9,AX19:AX22)","v":3},{"v":385305,"d":"385,305.00"},0,0,0,0,0,0,0,0,1,{"v":22000,"d":"22,000.00"},0,0,0,0,{"$nulls":8},{"$f":"SUBTOTAL(9,BV19:BV22)","v":4},{"$f":"SUBTOTAL(9,BW19:BW22)","v":{"v":572305,"d":"572,305.00"}}]
[1,{"$nulls":15},"อบต.นาเริก ","พนัสนิคม","ชลบุรี",{"$nulls":9},1,{"v":6941,"d":"6,941.00"},{"v":83292,"d":"83,292.00"},{"v":20823,"d":"20,823.00"},{"v":13882,"d":"13,882.00"},{"$nulls":9},1,{"v":4059,"d":"4,059.00"},{"v":48708,"d":"48,708.00"},{"v":12177,"d":"12,177.00"},{"v":8118,"d":"8,118.00"},null,null,1,{"v":104115,"d":"104,115.00"},0,0,0,0,0,0,0,0,0,0,0,0,0,0,{"$nulls":6},{"v":1,"d":"1.00"},{"v":225115,"d":"225,115.00"},1,{"v":159115,"d":"159,115.00"}]
[{"$f":"A24+1","v":2},{"$nulls":15},"อบต.หนองปรือ ","พนัสนิคม","ชลบุรี",{"$nulls":9},1,{"v":7920,"d":"7,920.00"},{"v":95040,"d":"95,040.00"},{"v":23760,"d":"23,760.00"},{"v":15840,"d":"15,840.00"},{"$nulls":9},1,{"v":3080,"d":"3,080.00"},{"v":36960,"d":"36,960.00"},{"v":9240,"d":"9,240.00"},{"v":6160,"d":"6,160.00"},null,null,1,{"v":118800,"d":"118,800.00"},0,0,0,0,0,0,0,0,0,0,0,0,0,0,{"$nulls":6},{"v":1,"d":"1.00"},{"v":239800,"d":"239,800.00"},1,{"v":173800,"d":"173,800.00"}]
[{"$nulls":18},"ชลบุรี ผลรวม",{"$nulls":9},{"$f":"SUBTOTAL(9,AC24:AC25)","v":2},{"$f":"SUBTOTAL(9,AD24:AD25)","v":{"v":14861,"d":"14,861.00"}},{"$f":"SUBTOTAL(9,AE24:AE25)","v":{"v":178332,"d":"178,332.00"}},{"$f":"SUBTOTAL(9,AF24:AF25)","v":{"v":44583,"d":"44,583.00"}},{"$f":"SUBTOTAL(9,AG24:AG25)","v":{"v":29722,"d":"29,722.00"}},{"$nulls":9},{"$f":"SUBTOTAL(9,AQ24:AQ25)","v":2},{"$f":"SUBTOTAL(9,AR24:AR25)","v":{"v":7139,"d":"7,139.00"}},{"$f":"SUBTOTAL(9,AS24:AS25)","v":{"v":85668,"d":"85,668.00"}},{"$f":"SUBTOTAL(9,AT24:AT25)","v":{"v":21417,"d":"21,417.00"}},{"$f":"SUBTOTAL(9,AU24:AU25)","v":{"v":14278,"d":"14,278.00"}},null,null,{"$f":"SUBTOTAL(9,AX24:AX25)","v":2},{"v":222915,"d":"222,915.00"},0,0,0,0,0,0,0,0,0,0,0,0,0,0,{"$nulls":8},{"$f":"SUBTOTAL(9,BV24:BV25)","v":2},{"$f":"SUBTOTAL(9,BW24:BW25)","v":{"v":332915,"d":"332,915.00"}}]
[1,{"$nulls":15},"อบต.ตับเต่า ","เทิง","เชียงราย",{"$nulls":9},1,{"v":10432.8,"d":"10,432.80"},{"v":125193.59999999999,"d":"125,193.60"},{"v":31298.399999999998,"d":"31,298.40"},{"v":20865.6,"d":"20,865.60"},{"$nulls":9},1,{"v":567.2000000000007,"d":"567.20"},{"v":6806.400000000009,"d":"6,806.40"},{"v":1701.6000000000022,"d":"1,701.60"},{"v":1134.4000000000015,"d":"1,134.40"},null,null,1,{"v":156492,"d":"156,492.00"},0,0,0,0,0,0,0,0,0,0,0,0,0,0,{"$nulls":6},0,{"v":277492,"d":"277,492.00"},1,{"v":211492,"d":"211,492.00"}]
[{"$nulls":18},"เชียงราย ผลรวม",{"$nulls":9},{"$f":"SUBTOTAL(9,AC27:AC27)","v":1},{"$f":"SUBTOTAL(9,AD27:AD27)","v":{"v":10432.8,"d":"10,432.80"}},{"$f":"SUBTOTAL(9,AE27:AE27)","v":{"v":125193.59999999999,"d":"125,193.60"}},{"$f":"SUBTOTAL(9,AF27:AF27)","v":{"v":31298.399999999998,"d":"31,298.40"}},{"$f":"SUBTOTAL(9,AG27:AG27)","v":{"v":20865.6,"d":"20,865.60"}},{"$nulls":9},{"$f":"SUBTOTAL(9,AQ27:AQ27)","v":1},{"$f":"SUBTOTAL(9,AR27:AR27)","v":{"v":567.2000000000007,"d":"567.20"}},{"$f":"SUBTOTAL(9,AS27:AS27)","v":{"v":6806.400000000009,"d":"6,806.40"}},{"$f":"SUBTOTAL(9,AT27:AT27)","v":{"v":1701.6000000000022,"d":"1,701.60"}},{"$f":"SUBTOTAL(9,AU27:AU27)","v":{"v":1134.4000000000015,"d":"1,134.40"}},null,null,{"$f":"SUBTOTAL(9,AX27:AX27)","v":1},{"v":156492,"d":"156,492.00"},0,0,0,0,0,0,0,0,0,0,0,0,0,0,{"$nulls":8},{"$f":"SUBTOTAL(9,BV27:BV27)","v":1},{"$f":"SUBTOTAL(9,BW27:BW27)","v":{"v":211492,"d":"211,492.00"}}]
[1,{"$nulls":15},"อบต.แม่คะ ","ฝาง","เชียงใหม่",{"$nulls":9},0,0,0,0,0,{"$nulls":9},0,0,0,0,0,null,null,1,{"v":3588,"d":"3,588.00"},0,0,0,0,0,0,0,0,0,0,0,0,0,0,{"$nulls":6},{"v":1,"d":"1.00"},{"v":3588,"d":"3,588.00"},1,{"v":3588,"d":"3,588.00"}]
[{"$f":"A29+1","v":2},{"$nulls":15},"อบต.แม่สูน ","ฝาง","เชียงใหม่",{"$nulls":40},3,{"v":257211,"d":"257,211.00"},{"$nulls":12},{"$f":"BH30","v":3},{"$f":"BI30","v":{"v":257211,"d":"257,211.00"}}]
[{"$f":"A30+1","v":3},{"$nulls":15},"อบต.เวียง ","ฝาง","เชียงใหม่",{"$nulls":9},0,0,0,0,0,{"$nulls":9},0,0,0,0,0,null,null,1,{"v":4410,"d":"4,410.00"},0,0,0,0,0,0,0,0,0,0,0,0,0,0,{"$nulls":6},{"v":1,"d":"1.00"},{"v":4410,"d":"4,410.00"},1,{"v":4410,"d":"4,410.00"}]
[{"$f":"A31+1","v":4},{"$nulls":15},"อบต.แม่นาจร ","แม่แจ่ม","เชียงใหม่",{"$nulls":9},0,0,0,0,0,{"$nulls":9},0,0,0,0,0,null,null,1,{"v":2343,"d":"2,343.00"},0,0,0,0,0,0,0,0,0,0,0,0,0,0,{"$nulls":6},{"v":1,"d":"1.00"},{"v":2343,"d":"2,343.00"},1,{"v":2343,"d":"2,343.00"}]
[{"$f":"A32+1","v":5},{"$nulls":15},"อบต.ทุ่งรวงทอง ","แม่วาง","เชียงใหม่",{"$nulls":9},0,0,0,0,0,{"$nulls":9},0,0,0,0,0,null,null,1,{"v":2904,"d":"2,904.00"},0,0,0,0,0,0,0,0,0,0,0,0,0,0,{"$nulls":6},{"v":1,"d":"1.00"},{"v":2904,"d":"2,904.00"},1,{"v":2904,"d":"2,904.00"}]
[{"$nulls":18},"เชียงใหม่ ผลรวม",{"$nulls":9},{"$f":"SUBTOTAL(9,AC29:AC33)","v":0},{"$f":"SUBTOTAL(9,AD29:AD33)","v":0},{"$f":"SUBTOTAL(9,AE29:AE33)","v":0},{"$f":"SUBTOTAL(9,AF29:AF33)","v":0},{"$f":"SUBTOTAL(9,AG29:AG33)","v":0},{"$nulls":9},{"$f":"SUBTOTAL(9,AQ29:AQ33)","v":0},{"$f":"SUBTOTAL(9,AR29:AR33)","v":0},{"$f":"SUBTOTAL(9,AS29:AS33)","v":0},{"$f":"SUBTOTAL(9,AT29:AT33)","v":0},{"$f":"SUBTOTAL(9,AU29:AU33)","v":0},null,null,{"$f":"SUBTOTAL(9,AX29:AX33)","v":4},{"v":13245,"d":"13,245.00"},0,0,0,0,0,0,0,0,3,{"v":257211,"d":"257,211.00"},0,0,0,0,{"$nulls":8},{"$f":"SUBTOTAL(9,BV29:BV33)","v":7},{"$f":"SUBTOTAL(9,BW29:BW33)","v":{"v":270456,"d":"270,456.00"}}]
[1,{"$nulls":15},"อบต.เขาวิเศษ ","วังวิเศษ","ตรัง",{"$nulls":9},0,0,0,0,0,{"$nulls":9},0,0,0,0,0,null,null,0,0,0,0,0,0,0,0,0,0,0,0,1,{"v":264693,"d":"264,693.00"},0,0,{"$nulls":6},{"v":1,"d":"1.00"},{"v":264693,"d":"264,693.00"},1,{"v":264693,"d":"264,693.00"}]
[{"$nulls":18},"ตรัง ผลรวม",{"$nulls":9},{"$f":"SUBTOTAL(9,AC35:AC35)","v":0},{"$f":"SUBTOTAL(9,AD35:AD35)","v":0},{"$f":"SUBTOTAL(9,AE35:AE35)","v":0},{"$f":"SUBTOTAL(9,AF35:AF35)","v":0},{"$f":"SUBTOTAL(9,AG35:AG35)","v":0},{"$nulls":9},{"$f":"SUBTOTAL(9,AQ35:AQ35)","v":0},{"$f":"SUBTOTAL(9,AR35:AR35)","v":0},{"$f":"SUBTOTAL(9,AS35:AS35)","v":0},{"$f":"SUBTOTAL(9,AT35:AT35)","v":0},{"$f":"SUBTOTAL(9,AU35:AU35)","v":0},null,null,{"$f":"SUBTOTAL(9,AX35:AX35)","v":0},0,0,0,0,0,0,0,0,0,0,0,1,{"v":264693,"d":"264,693.00"},0,0,{"$nulls":8},{"$f":"SUBTOTAL(9,BV35:BV35)","v":1},{"$f":"SUBTOTAL(9,BW35:BW35)","v":{"v":264693,"d":"264,693.00"}}]
[1,{"$nulls":15},"อบต.พุ่มแก ","นาแก","นครพนม",{"$nulls":9},1,{"v":6373.4,"d":"6,373.40"},{"v":76480.79999999999,"d":"76,480.80"},{"v":19120.199999999997,"d":"19,120.20"},{"v":12746.8,"d":"12,746.80"},{"$nulls":9},1,{"v":4626.6,"d":"4,626.60"},{"v":55519.200000000004,"d":"55,519.20"},{"v":13879.800000000001,"d":"13,879.80"},{"v":9253.2,"d":"9,253.20"},null,null,1,{"v":95601,"d":"95,601.00"},0,0,0,0,0,0,0,0,0,0,0,0,0,0,{"$nulls":6},{"v":1,"d":"1.00"},{"v":216601,"d":"216,601.00"},1,{"v":150601,"d":"150,601.00"}]
[{"$f":"A37+1","v":2},{"$nulls":15},"อบต.หนองบ่อ ","นาแก","นครพนม",{"$nulls":9},1,{"v":6435,"d":"6,435.00"},{"v":77220,"d":"77,220.00"},{"v":19305,"d":"19,305.00"},{"v":12870,"d":"12,870.00"},{"$nulls":9},1,{"v":4565,"d":"4,565.00"},{"v":54780,"d":"54,780.00"},{"v":13695,"d":"13,695.00"},{"v":9130,"d":"9,130.00"},null,null,1,{"v":96525,"d":"96,525.00"},0,0,0,0,0,0,0,0,0,0,0,0,0,0,{"$nulls":6},{"v":1,"d":"1.00"},{"v":217525,"d":"217,525.00"},1,{"v":151525,"d":"151,525.00"}]
[3,{"$nulls":15},"อบต.ดอนเตย ","นาทม","นครพนม",{"$nulls":9},1,{"v":10581.2,"d":"10,581.20"},{"v":126974.40000000001,"d":"126,974.40"},{"v":31743.600000000002,"d":"31,743.60"},{"v":21162.4,"d":"21,162.40"},{"$nulls":9},1,{"v":418.7999999999993,"d":"418.80"},{"v":5025.599999999991,"d":"5,025.60"},{"v":1256.3999999999978,"d":"1,256.40"},{"v":837.5999999999985,"d":"837.60"},null,null,1,{"v":158718,"d":"158,718.00"},0,0,0,0,0,0,0,0,0,0,0,0,0,0,{"$nulls":6},{"v":1,"d":"1.00"},{"v":279718,"d":"279,718.00"},1,{"v":213718,"d":"213,718.00"}]
[4,{"$nulls":15},"อบต.นาขมิ้น ","โพนสวรรค์","นครพนม",{"$nulls":9},1,{"v":6795.8,"d":"6,795.80"},{"v":81549.6,"d":"81,549.60"},{"v":20387.4,"d":"20,387.40"},{"v":13591.6,"d":"13,591.60"},{"$nulls":9},1,{"v":4204.2,"d":"4,204.20"},{"v":50450.399999999994,"d":"50,450.40"},{"v":12612.599999999999,"d":"12,612.60"},{"v":8408.4,"d":"8,408.40"},null,null,1,{"v":101937,"d":"101,937.00"},0,0,0,0,0,0,0,0,0,0,0,0,0,0,{"$nulls":6},{"v":1,"d":"1.00"},{"v":222937,"d":"222,937.00"},1,{"v":156937,"d":"156,937.00"}]
[5,{"$nulls":15},"อบต.บ้านกลาง ","เมืองนครพนม","นครพนม",{"$nulls":9},1,{"v":7363.2,"d":"7,363.20"},{"v":88358.4,"d":"88,358.40"},{"v":22089.6,"d":"22,089.60"},{"v":14726.4,"d":"14,726.40"},{"$nulls":9},1,{"v":3636.8,"d":"3,636.80"},{"v":43641.600000000006,"d":"43,641.60"},{"v":10910.400000000001,"d":"10,910.40"},{"v":7273.6,"d":"7,273.60"},null,null,1,{"v":110448,"d":"110,448.00"},0,0,0,0,0,0,0,0,0,0,0,0,0,0,{"$nulls":6},{"v":1,"d":"1.00"},{"v":231448,"d":"231,448.00"},1,{"v":165448,"d":"165,448.00"}]
[{"$f":"A91+1","v":4},{"$nulls":15},"อบต.คำเตย ","เมืองนครพนม","นครพนม",{"$nulls":9},1,{"v":9926,"d":"9,926.00"},{"v":119112,"d":"119,112.00"},{"v":29778,"d":"29,778.00"},{"v":19852,"d":"19,852.00"},{"$nulls":9},1,{"v":1074,"d":"1,074.00"},{"v":12888,"d":"12,888.00"},{"v":3222,"d":"3,222.00"},{"v":2148,"d":"2,148.00"},null,null,1,{"v":148890,"d":"148,890.00"},0,0,0,0,0,0,0,0,0,0,0,0,0,0,{"$nulls":6},{"v":1,"d":"1.00"},{"v":269890,"d":"269,890.00"},1,{"v":203890,"d":"203,890.00"}]
[{"$f":"A41+1","v":6},{"$nulls":15},"อบต.นาขาม ","เรณูนคร","นครพนม",{"$nulls":40},2,{"v":22000,"d":"22,000.00"},{"$nulls":12},{"$f":"BH43","v":2},{"$f":"BI43","v":{"v":22000,"d":"22,000.00"}}]
[7,{"$nulls":15},"อบต.โพนสว่าง ","ศรีสงคราม","นครพนม",{"$nulls":40},1,{"v":169149,"d":"169,149.00"},{"$nulls":12},{"$f":"BH44","v":1},{"$f":"BI44","v":{"v":169149,"d":"169,149.00"}}]
[{"$nulls":18},"นครพนม ผลรวม",{"$nulls":9},{"$f":"SUBTOTAL(9,AC37:AC44)","v":6},{"$f":"SUBTOTAL(9,AD37:AD44)","v":{"v":47474.6,"d":"47,474.60"}},{"$f":"SUBTOTAL(9,AE37:AE44)","v":{"v":569695.2000000001,"d":"569,695.20"}},{"$f":"SUBTOTAL(9,AF37:AF44)","v":{"v":142423.80000000002,"d":"142,423.80"}},{"$f":"SUBTOTAL(9,AG37:AG44)","v":{"v":94949.2,"d":"94,949.20"}},{"$nulls":9},{"$f":"SUBTOTAL(9,AQ37:AQ44)","v":6},{"$f":"SUBTOTAL(9,AR37:AR44)","v":{"v":18525.399999999998,"d":"18,525.40"}},{"$f":"SUBTOTAL(9,AS37:AS44)","v":{"v":222304.80000000002,"d":"222,304.80"}},{"$f":"SUBTOTAL(9,AT37:AT44)","v":{"v":55576.200000000004,"d":"55,576.20"}},{"$f":"SUBTOTAL(9,AU37:AU44)","v":{"v":37050.799999999996,"d":"37,050.80"}},null,null,{"$f":"SUBTOTAL(9,AX37:AX44)","v":6},{"v":712119,"d":"712,119.00"},0,0,0,0,0,0,0,0,3,{"v":191149,"d":"191,149.00"},0,0,0,0,{"$nulls":8},{"$f":"SUBTOTAL(9,BV37:BV44)","v":9},{"$f":"SUBTOTAL(9,BW37:BW44)","v":{"v":1233268,"d":"1,233,268.00"}}]
[1,{"$nulls":15},"อบต.บ้านเก่า ","ด่านขุนทด","นครราชสีมา",{"$nulls":9},0,0,0,0,0,{"$nulls":9},0,0,0,0,0,null,null,0,0,0,0,0,0,0,0,1,{"v":495820,"d":"495,820.00"},0,0,0,0,0,0,{"$nulls":6},{"v":1,"d":"1.00"},{"v":495820,"d":"495,820.00"},1,{"v":495820,"d":"495,820.00"}]
[{"$f":"A46+1","v":2},{"$nulls":15},"อบต.โคกกระเบื้อง ","บ้านเหล่อม","นครราชสีมา",{"$nulls":9},1,{"v":6938.8,"d":"6,938.80"},{"v":83265.6,"d":"83,265.60"},{"v":20816.4,"d":"20,816.40"},{"v":13877.6,"d":"13,877.60"},{"$nulls":9},1,{"v":4061.2,"d":"4,061.20"},{"v":48734.399999999994,"d":"48,734.40"},{"v":12183.599999999999,"d":"12,183.60"},{"v":8122.4,"d":"8,122.40"},null,null,1,{"v":104082,"d":"104,082.00"},0,0,0,0,0,0,0,0,0,0,0,0,0,0,{"$nulls":6},{"v":1,"d":"1.00"},{"v":225082,"d":"225,082.00"},1,{"v":159082,"d":"159,082.00"}]
[{"$nulls":18},"นครราชสีมา ผลรวม",{"$nulls":9},{"$f":"SUBTOTAL(9,AC46:AC47)","v":1},{"$f":"SUBTOTAL(9,AD46:AD47)","v":{"v":6938.8,"d":"6,938.80"}},{"$f":"SUBTOTAL(9,AE46:AE47)","v":{"v":83265.6,"d":"83,265.60"}},{"$f":"SUBTOTAL(9,AF46:AF47)","v":{"v":20816.4,"d":"20,816.40"}},{"$f":"SUBTOTAL(9,AG46:AG47)","v":{"v":13877.6,"d":"13,877.60"}},{"$nulls":9},{"$f":"SUBTOTAL(9,AQ46:AQ47)","v":1},{"$f":"SUBTOTAL(9,AR46:AR47)","v":{"v":4061.2,"d":"4,061.20"}},{"$f":"SUBTOTAL(9,AS46:AS47)","v":{"v":48734.399999999994,"d":"48,734.40"}},{"$f":"SUBTOTAL(9,AT46:AT47)","v":{"v":12183.599999999999,"d":"12,183.60"}},{"$f":"SUBTOTAL(9,AU46:AU47)","v":{"v":8122.4,"d":"8,122.40"}},null,null,{"$f":"SUBTOTAL(9,AX46:AX47)","v":1},{"v":104082,"d":"104,082.00"},0,0,0,0,0,0,1,{"v":495820,"d":"495,820.00"},0,0,0,0,0,0,{"$nulls":8},{"$f":"SUBTOTAL(9,BV46:BV47)","v":2},{"$f":"SUBTOTAL(9,BW46:BW47)","v":{"v":654902,"d":"654,902.00"}}]
[1,{"$nulls":15},"อบต.เคร็ง ","ชะอวด","นครศรีธรรมราช",{"$nulls":9},1,{"v":8330.4,"d":"8,330.40"},{"v":99964.79999999999,"d":"99,964.80"},{"v":24991.199999999997,"d":"24,991.20"},{"v":16660.8,"d":"16,660.80"},{"$nulls":9},1,{"v":2669.6000000000004,"d":"2,669.60"},{"v":32035.200000000004,"d":"32,035.20"},{"v":8008.800000000001,"d":"8,008.80"},{"v":5339.200000000001,"d":"5,339.20"},null,null,1,{"v":124956,"d":"124,956.00"},0,0,0,0,0,0,0,0,0,0,0,0,0,0,{"$nulls":6},{"v":1,"d":"1.00"},{"v":245956,"d":"245,956.00"},1,{"v":179956,"d":"179,956.00"}]
[{"$f":"A49+1","v":2},{"$nulls":15},"อบต.ท่าซอม ","หัวไทร","นครศรีธรรมราช",{"$nulls":9},1,{"v":9274.2,"d":"9,274.20"},{"v":111290.40000000001,"d":"111,290.40"},{"v":27822.600000000002,"d":"27,822.60"},{"v":18548.4,"d":"18,548.40"},{"$nulls":9},1,{"v":1725.7999999999993,"d":"1,725.80"},{"v":20709.59999999999,"d":"20,709.60"},{"v":5177.399999999998,"d":"5,177.40"},{"v":3451.5999999999985,"d":"3,451.60"},null,null,1,{"v":139113,"d":"139,113.00"},0,0,0,0,0,0,0,0,0,0,0,0,0,0,{"$nulls":6},{"v":1,"d":"1.00"},{"v":260113,"d":"260,113.00"},1,{"v":194113,"d":"194,113.00"}]
[{"$nulls":18},"นครศรีธรรมราช ผลรวม",{"$nulls":9},{"$f":"SUBTOTAL(9,AC49:AC50)","v":2},{"$f":"SUBTOTAL(9,AD49:AD50)","v":{"v":17604.6,"d":"17,604.60"}},{"$f":"SUBTOTAL(9,AE49:AE50)","v":{"v":211255.2,"d":"211,255.20"}},{"$f":"SUBTOTAL(9,AF49:AF50)","v":{"v":52813.8,"d":"52,813.80"}},{"$f":"SUBTOTAL(9,AG49:AG50)","v":{"v":35209.2,"d":"35,209.20"}},{"$nulls":9},{"$f":"SUBTOTAL(9,AQ49:AQ50)","v":2},{"$f":"SUBTOTAL(9,AR49:AR50)","v":{"v":4395.4,"d":"4,395.40"}},{"$f":"SUBTOTAL(9,AS49:AS50)","v":{"v":52744.799999999996,"d":"52,744.80"}},{"$f":"SUBTOTAL(9,AT49:AT50)","v":{"v":13186.199999999999,"d":"13,186.20"}},{"$f":"SUBTOTAL(9,AU49:AU50)","v":{"v":8790.8,"d":"8,790.80"}},null,null,{"$f":"SUBTOTAL(9,AX49:AX50)","v":2},{"v":264069,"d":"264,069.00"},0,0,0,0,0,0,0,0,0,0,0,0,0,0,{"$nulls":8},{"$f":"SUBTOTAL(9,BV49:BV50)","v":2},{"$f":"SUBTOTAL(9,BW49:BW50)","v":{"v":374069,"d":"374,069.00"}}]
[1,{"$nulls":15},"อบต.โคกเคียน ","เมืองนราธิวาส","นราธิวาส",{"$nulls":9},1,{"v":6050,"d":"6,050.00"},{"v":69672.58,"d":"69,672.58"},{"v":15222.58,"d":"15,222.58"},{"v":12100,"d":"12,100.00"},{"$nulls":9},1,{"v":4950,"d":"4,950.00"},{"v":59400,"d":"59,400.00"},{"v":12454.84,"d":"12,454.84"},{"v":9900,"d":"9,900.00"},null,null,1,{"v":90750,"d":"90,750.00"},0,0,0,0,0,0,0,0,0,0,0,0,0,0,{"$nulls":6},{"v":1,"d":"1.00"},{"v":206427.41999999998,"d":"206,427.42"},1,{"v":140427.42,"d":"140,427.42"}]
[{"$f":"A52+1","v":2},{"$nulls":15},"อบต.เฉลิม ","ระแงะ","นราธิวาส",{"$nulls":9},1,{"v":6426.2,"d":"6,426.20"},{"v":77114.4,"d":"77,114.40"},{"v":19278.6,"d":"19,278.60"},{"v":12852.4,"d":"12,852.40"},{"$nulls":9},1,{"v":4573.8,"d":"4,573.80"},{"v":54885.600000000006,"d":"54,885.60"},{"v":13721.400000000001,"d":"13,721.40"},{"v":9147.6,"d":"9,147.60"},null,null,1,{"v":96393,"d":"96,393.00"},0,0,0,0,0,0,0,0,0,0,0,0,0,0,{"$nulls":6},{"v":1,"d":"1.00"},{"v":217393,"d":"217,393.00"},1,{"v":151393,"d":"151,393.00"}]
[{"$f":"A53+1","v":3},{"$nulls":15},"อบต.ศรีสาคร ","ศรีสาคร","นราธิวาส",{"$nulls":9},1,{"v":10043.6,"d":"10,043.60"},{"v":120523.20000000001,"d":"120,523.20"},{"v":30130.800000000003,"d":"30,130.80"},{"v":20087.2,"d":"20,087.20"},{"$nulls":9},1,{"v":956.3999999999996,"d":"956.40"},{"v":11476.799999999996,"d":"11,476.80"},{"v":2869.199999999999,"d":"2,869.20"},{"v":1912.7999999999993,"d":"1,912.80"},null,null,1,{"v":150654,"d":"150,654.00"},0,0,0,0,0,0,0,0,0,0,0,0,0,0,{"$nulls":6},{"v":1,"d":"1.00"},{"v":271654,"d":"271,654.00"},1,{"v":205654,"d":"205,654.00"}]
[{"$nulls":18},"นราธิวาส ผลรวม",{"$nulls":9},{"$f":"SUBTOTAL(9,AC52:AC54)","v":3},{"$f":"SUBTOTAL(9,AD52:AD54)","v":{"v":22519.800000000003,"d":"22,519.80"}},{"$f":"SUBTOTAL(9,AE52:AE54)","v":{"v":267310.18,"d":"267,310.18"}},{"$f":"SUBTOTAL(9,AF52:AF54)","v":{"v":64631.98,"d":"64,631.98"}},{"$f":"SUBTOTAL(9,AG52:AG54)","v":{"v":45039.600000000006,"d":"45,039.60"}},{"$nulls":9},{"$f":"SUBTOTAL(9,AQ52:AQ54)","v":3},{"$f":"SUBTOTAL(9,AR52:AR54)","v":{"v":10480.199999999999,"d":"10,480.20"}},{"$f":"SUBTOTAL(9,AS52:AS54)","v":{"v":125762.4,"d":"125,762.40"}},{"$f":"SUBTOTAL(9,AT52:AT54)","v":{"v":29045.440000000002,"d":"29,045.44"}},{"$f":"SUBTOTAL(9,AU52:AU54)","v":{"v":20960.399999999998,"d":"20,960.40"}},null,null,{"$f":"SUBTOTAL(9,AX52:AX54)","v":3},{"v":337797,"d":"337,797.00"},0,0,0,0,0,0,0,0,0,0,0,0,0,0,{"$nulls":8},{"$f":"SUBTOTAL(9,BV52:BV54)","v":3},{"$f":"SUBTOTAL(9,BW52:BW54)","v":{"v":497474.42000000004,"d":"497,474.42"}}]
[1,{"$nulls":15},"อบต.จอมพระ ","ท่าวังผา","น่าน",{"$nulls":9},1,{"v":10250.8,"d":"10,250.80"},{"v":123009.59999999999,"d":"123,009.60"},{"v":30752.399999999998,"d":"30,752.40"},{"v":20501.6,"d":"20,501.60"},{"$nulls":9},1,{"v":749.2000000000007,"d":"749.20"},{"v":8990.400000000009,"d":"8,990.40"},{"v":2247.600000000002,"d":"2,247.60"},{"v":1498.4000000000015,"d":"1,498.40"},null,null,1,{"v":153762,"d":"153,762.00"},0,0,0,0,0,0,0,0,0,0,0,0,0,0,{"$nulls":6},0,{"v":274762,"d":"274,762.00"},1,{"v":208762,"d":"208,762.00"}]
[{"$nulls":18},"น่าน ผลรวม",{"$nulls":9},{"$f":"SUBTOTAL(9,AC56:AC56)","v":1},{"$f":"SUBTOTAL(9,AD56:AD56)","v":{"v":10250.8,"d":"10,250.80"}},{"$f":"SUBTOTAL(9,AE56:AE56)","v":{"v":123009.59999999999,"d":"123,009.60"}},{"$f":"SUBTOTAL(9,AF56:AF56)","v":{"v":30752.399999999998,"d":"30,752.40"}},{"$f":"SUBTOTAL(9,AG56:AG56)","v":{"v":20501.6,"d":"20,501.60"}},{"$nulls":9},{"$f":"SUBTOTAL(9,AQ56:AQ56)","v":1},{"$f":"SUBTOTAL(9,AR56:AR56)","v":{"v":749.2000000000007,"d":"749.20"}},{"$f":"SUBTOTAL(9,AS56:AS56)","v":{"v":8990.400000000009,"d":"8,990.40"}},{"$f":"SUBTOTAL(9,AT56:AT56)","v":{"v":2247.600000000002,"d":"2,247.60"}},{"$f":"SUBTOTAL(9,AU56:AU56)","v":{"v":1498.4000000000015,"d":"1,498.40"}},null,null,{"$f":"SUBTOTAL(9,AX56:AX56)","v":1},{"v":153762,"d":"153,762.00"},0,0,0,0,0,0,0,0,0,0,0,0,0,0,{"$nulls":8},{"$f":"SUBTOTAL(9,BV56:BV56)","v":1},{"$f":"SUBTOTAL(9,BW56:BW56)","v":{"v":208762,"d":"208,762.00"}}]
[1,{"$nulls":15},"อบต.โซ่ ","โซ่พิสัย","บึงกาฬ",{"$nulls":9},1,{"v":8710,"d":"8,710.00"},{"v":104520,"d":"104,520.00"},{"v":26130,"d":"26,130.00"},{"v":17420,"d":"17,420.00"},{"$nulls":9},1,{"v":2290,"d":"2,290.00"},{"v":27480,"d":"27,480.00"},{"v":6870,"d":"6,870.00"},{"v":4580,"d":"4,580.00"},null,null,1,{"v":130650,"d":"130,650.00"},0,0,0,0,0,0,0,0,0,0,0,0,0,0,{"$nulls":6},{"v":1,"d":"1.00"},{"v":251650,"d":"251,650.00"},1,{"v":185650,"d":"185,650.00"}]
[{"$f":"A58+1","v":2},{"$nulls":15},"อบต.ศรีชมภู ","โซ่พิสัย","บึงกาฬ",{"$nulls":9},1,{"v":6010,"d":"6,010.00"},{"v":72120,"d":"72,120.00"},{"v":18030,"d":"18,030.00"},{"v":12020,"d":"12,020.00"},{"$nulls":9},1,{"v":4990,"d":"4,990.00"},{"v":59880,"d":"59,880.00"},{"v":14970,"d":"14,970.00"},{"v":9980,"d":"9,980.00"},null,null,1,{"v":90150,"d":"90,150.00"},0,0,0,0,0,0,0,0,0,0,0,0,0,0,{"$nulls":6},{"v":1,"d":"1.00"},{"v":211150,"d":"211,150.00"},1,{"v":145150,"d":"145,150.00"}]
[{"$f":"A59+1","v":3},{"$nulls":15},"อบต.โพธิ์หมากแข้ง ","บึงโขงหลง","บึงกาฬ",{"$nulls":9},1,{"v":10455.2,"d":"10,455.20"},{"v":125462.40000000001,"d":"125,462.40"},{"v":31365.600000000002,"d":"31,365.60"},{"v":20910.4,"d":"20,910.40"},{"$nulls":9},1,{"v":544.7999999999993,"d":"544.80"},{"v":6537.599999999991,"d":"6,537.60"},{"v":1634.3999999999978,"d":"1,634.40"},{"v":1089.5999999999985,"d":"1,089.60"},null,null,1,{"v":156828,"d":"156,828.00"},0,0,0,0,0,0,0,0,0,0,0,0,0,0,{"$nulls":6},{"v":1,"d":"1.00"},{"v":277828,"d":"277,828.00"},1,{"v":211828,"d":"211,828.00"}]
[{"$f":"A60+1","v":4},{"$nulls":15},"อบต.นาแสง ","ศรีวิไล","บึงกาฬ",{"$nulls":9},1,{"v":10413.2,"d":"10,413.20"},{"v":124958.40000000001,"d":"124,958.40"},{"v":31239.600000000002,"d":"31,239.60"},{"v":20826.4,"d":"20,826.40"},{"$nulls":9},1,{"v":586.7999999999993,"d":"586.80"},{"v":7041.599999999991,"d":"7,041.60"},{"v":1760.3999999999978,"d":"1,760.40"},{"v":1173.5999999999985,"d":"1,173.60"},null,null,1,{"v":156198,"d":"156,198.00"},0,0,0,0,0,0,0,0,0,0,0,0,0,0,{"$nulls":6},{"v":1,"d":"1.00"},{"v":277198,"d":"277,198.00"},1,{"v":211198,"d":"211,198.00"}]
[{"$nulls":18},"บึงกาฬ ผลรวม",{"$nulls":9},{"$f":"SUBTOTAL(9,AC58:AC61)","v":4},{"$f":"SUBTOTAL(9,AD58:AD61)","v":{"v":35588.4,"d":"35,588.40"}},{"$f":"SUBTOTAL(9,AE58:AE61)","v":{"v":427060.80000000005,"d":"427,060.80"}},{"$f":"SUBTOTAL(9,AF58:AF61)","v":{"v":106765.20000000001,"d":"106,765.20"}},{"$f":"SUBTOTAL(9,AG58:AG61)","v":{"v":71176.8,"d":"71,176.80"}},{"$nulls":9},{"$f":"SUBTOTAL(9,AQ58:AQ61)","v":4},{"$f":"SUBTOTAL(9,AR58:AR61)","v":{"v":8411.599999999999,"d":"8,411.60"}},{"$f":"SUBTOTAL(9,AS58:AS61)","v":{"v":100939.19999999998,"d":"100,939.20"}},{"$f":"SUBTOTAL(9,AT58:AT61)","v":{"v":25234.799999999996,"d":"25,234.80"}},{"$f":"SUBTOTAL(9,AU58:AU61)","v":{"v":16823.199999999997,"d":"16,823.20"}},null,null,{"$f":"SUBTOTAL(9,AX58:AX61)","v":4},{"v":533826,"d":"533,826.00"},0,0,0,0,0,0,0,0,0,0,0,0,0,0,{"$nulls":8},{"$f":"SUBTOTAL(9,BV58:BV61)","v":4},{"$f":"SUBTOTAL(9,BW58:BW61)","v":{"v":753826,"d":"753,826.00"}}]
[1,{"$nulls":15},"อบต.ร่อนทอง ","สตึก","บุรีรัมย์",{"$nulls":9},1,{"v":10368.4,"d":"10,368.40"},{"v":124420.79999999999,"d":"124,420.80"},{"v":31105.199999999997,"d":"31,105.20"},{"v":20736.8,"d":"20,736.80"},{"$nulls":9},1,{"v":631.6000000000004,"d":"631.60"},{"v":7579.200000000004,"d":"7,579.20"},{"v":1894.800000000001,"d":"1,894.80"},{"v":1263.2000000000007,"d":"1,263.20"},null,null,1,{"v":155526,"d":"155,526.00"},0,0,0,0,0,0,0,0,0,0,0,0,0,0,{"$nulls":6},{"v":1,"d":"1.00"},{"v":276526,"d":"276,526.00"},1,{"v":210526,"d":"210,526.00"}]
[{"$nulls":18},"บุรีรัมย์ ผลรวม",{"$nulls":9},{"$f":"SUBTOTAL(9,AC63:AC63)","v":1},{"$f":"SUBTOTAL(9,AD63:AD63)","v":{"v":10368.4,"d":"10,368.40"}},{"$f":"SUBTOTAL(9,AE63:AE63)","v":{"v":124420.79999999999,"d":"124,420.80"}},{"$f":"SUBTOTAL(9,AF63:AF63)","v":{"v":31105.199999999997,"d":"31,105.20"}},{"$f":"SUBTOTAL(9,AG63:AG63)","v":{"v":20736.8,"d":"20,736.80"}},{"$nulls":9},{"$f":"SUBTOTAL(9,AQ63:AQ63)","v":1},{"$f":"SUBTOTAL(9,AR63:AR63)","v":{"v":631.6000000000004,"d":"631.60"}},{"$f":"SUBTOTAL(9,AS63:AS63)","v":{"v":7579.200000000004,"d":"7,579.20"}},{"$f":"SUBTOTAL(9,AT63:AT63)","v":{"v":1894.800000000001,"d":"1,894.80"}},{"$f":"SUBTOTAL(9,AU63:AU63)","v":{"v":1263.2000000000007,"d":"1,263.20"}},null,null,{"$f":"SUBTOTAL(9,AX63:AX63)","v":1},{"v":155526,"d":"155,526.00"},0,0,0,0,0,0,0,0,0,0,0,0,0,0,{"$nulls":8},{"$f":"SUBTOTAL(9,BV63:BV63)","v":1},{"$f":"SUBTOTAL(9,BW63:BW63)","v":{"v":210526,"d":"210,526.00"}}]
[1,{"$nulls":15},"อบต.ระแหง ","ลาดหลุมแก้ว","ปทุมธานี",{"$nulls":9},1,{"v":9170.2,"d":"9,170.20"},{"v":110042.40000000001,"d":"110,042.40"},{"v":27510.600000000002,"d":"27,510.60"},{"v":18340.4,"d":"18,340.40"},{"$nulls":9},1,{"v":1829.8,"d":"1,829.80"},{"v":21957.6,"d":"21,957.60"},{"v":5489.4,"d":"5,489.40"},{"v":3659.6,"d":"3,659.60"},null,null,1,{"v":137553,"d":"137,553.00"},0,0,0,0,0,0,0,0,0,0,0,0,0,0,{"$nulls":6},{"v":1,"d":"1.00"},{"v":258553,"d":"258,553.00"},1,{"v":192553,"d":"192,553.00"}]
[{"$f":"A65+1","v":2},{"$nulls":15},"อบต.บึงคำพร้อย ","ลำลูกกา","ปทุมธานี",{"$nulls":9},1,{"v":9730,"d":"9,730.00"},{"v":116760,"d":"116,760.00"},{"v":29190,"d":"29,190.00"},{"v":19460,"d":"19,460.00"},{"$nulls":9},1,{"v":1270,"d":"1,270.00"},{"v":15240,"d":"15,240.00"},{"v":3810,"d":"3,810.00"},{"v":2540,"d":"2,540.00"},null,null,1,{"v":145950,"d":"145,950.00"},0,0,0,0,0,0,0,0,0,0,0,0,0,0,{"$nulls":6},{"v":1,"d":"1.00"},{"v":266950,"d":"266,950.00"},1,{"v":200950,"d":"200,950.00"}]
[{"$nulls":18},"ปทุมธานี ผลรวม",{"$nulls":9},{"$f":"SUBTOTAL(9,AC65:AC66)","v":2},{"$f":"SUBTOTAL(9,AD65:AD66)","v":{"v":18900.2,"d":"18,900.20"}},{"$f":"SUBTOTAL(9,AE65:AE66)","v":{"v":226802.40000000002,"d":"226,802.40"}},{"$f":"SUBTOTAL(9,AF65:AF66)","v":{"v":56700.600000000006,"d":"56,700.60"}},{"$f":"SUBTOTAL(9,AG65:AG66)","v":{"v":37800.4,"d":"37,800.40"}},{"$nulls":9},{"$f":"SUBTOTAL(9,AQ65:AQ66)","v":2},{"$f":"SUBTOTAL(9,AR65:AR66)","v":{"v":3099.8,"d":"3,099.80"}},{"$f":"SUBTOTAL(9,AS65:AS66)","v":{"v":37197.6,"d":"37,197.60"}},{"$f":"SUBTOTAL(9,AT65:AT66)","v":{"v":9299.4,"d":"9,299.40"}},{"$f":"SUBTOTAL(9,AU65:AU66)","v":{"v":6199.6,"d":"6,199.60"}},null,null,{"$f":"SUBTOTAL(9,AX65:AX66)","v":2},{"v":283503,"d":"283,503.00"},0,0,0,0,0,0,0,0,0,0,0,0,0,0,{"$nulls":8},{"$f":"SUBTOTAL(9,BV65:BV66)","v":2},{"$f":"SUBTOTAL(9,BW65:BW66)","v":{"v":393503,"d":"393,503.00"}}]
[1,{"$nulls":15},"อบต.ปากน้ำปราณ ","ปราณบุรี","ประจวบคีรีขันธ์",{"$nulls":9},0,0,0,0,0,{"$nulls":9},0,0,0,0,0,null,null,0,0,1,{"v":200000,"d":"200,000.00"},0,0,0,0,0,0,0,0,0,0,0,0,{"$nulls":6},{"v":1,"d":"1.00"},{"v":200000,"d":"200,000.00"},1,{"v":200000,"d":"200,000.00"}]
[{"$f":"A68+1","v":2},{"$nulls":15},"อบต.ทับใต้ ","หัวหิน","ประจวบคีรีขันธ์",{"$nulls":9},0,0,0,0,0,{"$nulls":9},0,0,0,0,0,null,null,0,0,0,0,0,0,0,0,1,{"v":497560,"d":"497,560.00"},0,0,0,0,0,0,{"$nulls":6},{"v":1,"d":"1.00"},{"v":497560,"d":"497,560.00"},1,{"v":497560,"d":"497,560.00"}]
[{"$nulls":18},"ประจวบคีรีขันธ์ ผลรวม",{"$nulls":9},{"$f":"SUBTOTAL(9,AC68:AC69)","v":0},{"$f":"SUBTOTAL(9,AD68:AD69)","v":0},{"$f":"SUBTOTAL(9,AE68:AE69)","v":0},{"$f":"SUBTOTAL(9,AF68:AF69)","v":0},{"$f":"SUBTOTAL(9,AG68:AG69)","v":0},{"$nulls":9},{"$f":"SUBTOTAL(9,AQ68:AQ69)","v":0},{"$f":"SUBTOTAL(9,AR68:AR69)","v":0},{"$f":"SUBTOTAL(9,AS68:AS69)","v":0},{"$f":"SUBTOTAL(9,AT68:AT69)","v":0},{"$f":"SUBTOTAL(9,AU68:AU69)","v":0},null,null,{"$f":"SUBTOTAL(9,AX68:AX69)","v":0},0,1,{"v":200000,"d":"200,000.00"},0,0,0,0,1,{"v":497560,"d":"497,560.00"},0,0,0,0,0,0,{"$nulls":8},{"$f":"SUBTOTAL(9,BV68:BV69)","v":2},{"$f":"SUBTOTAL(9,BW68:BW69)","v":{"v":697560,"d":"697,560.00"}}]
[1,{"$nulls":15},"อบต.บางโกระ ","โคกโพธิ์","ปัตตานี",{"$nulls":9},0,0,0,0,0,{"$nulls":9},0,0,0,0,0,null,null,1,{"v":158760,"d":"158,760.00"},0,0,0,0,0,0,0,0,0,0,0,0,0,0,{"$nulls":6},{"v":1,"d":"1.00"},{"v":158760,"d":"158,760.00"},1,{"v":158760,"d":"158,760.00"}]
[{"$f":"A71+1","v":2},{"$nulls":15},"อบต.พิเทน ","ทุ่งยางแดง","ปัตตานี",{"$nulls":9},1,{"v":10169.6,"d":"10,169.60"},{"v":122035.20000000001,"d":"122,035.20"},{"v":30508.800000000003,"d":"30,508.80"},{"v":20339.2,"d":"20,339.20"},{"$nulls":9},1,{"v":830.3999999999996,"d":"830.40"},{"v":9964.799999999996,"d":"9,964.80"},{"v":2491.199999999999,"d":"2,491.20"},{"v":1660.7999999999993,"d":"1,660.80"},null,null,1,{"v":152544,"d":"152,544.00"},0,0,0,0,0,0,0,0,0,0,0,0,0,0,{"$nulls":6},{"v":1,"d":"1.00"},{"v":273544,"d":"273,544.00"},1,{"v":207544,"d":"207,544.00"}]
[{"$nulls":18},"ปัตตานี ผลรวม",{"$nulls":9},{"$f":"SUBTOTAL(9,AC71:AC72)","v":1},{"$f":"SUBTOTAL(9,AD71:AD72)","v":{"v":10169.6,"d":"10,169.60"}},{"$f":"SUBTOTAL(9,AE71:AE72)","v":{"v":122035.20000000001,"d":"122,035.20"}},{"$f":"SUBTOTAL(9,AF71:AF72)","v":{"v":30508.800000000003,"d":"30,508.80"}},{"$f":"SUBTOTAL(9,AG71:AG72)","v":{"v":20339.2,"d":"20,339.20"}},{"$nulls":9},{"$f":"SUBTOTAL(9,AQ71:AQ72)","v":1},{"$f":"SUBTOTAL(9,AR71:AR72)","v":{"v":830.3999999999996,"d":"830.40"}},{"$f":"SUBTOTAL(9,AS71:AS72)","v":{"v":9964.799999999996,"d":"9,964.80"}},{"$f":"SUBTOTAL(9,AT71:AT72)","v":{"v":2491.199999999999,"d":"2,491.20"}},{"$f":"SUBTOTAL(9,AU71:AU72)","v":{"v":1660.7999999999993,"d":"1,660.80"}},null,null,{"$f":"SUBTOTAL(9,AX71:AX72)","v":2},{"v":311304,"d":"311,304.00"},0,0,0,0,0,0,0,0,0,0,0,0,0,0,{"$nulls":8},{"$f":"SUBTOTAL(9,BV71:BV72)","v":2},{"$f":"SUBTOTAL(9,BW71:BW72)","v":{"v":366304,"d":"366,304.00"}}]
[1,{"$nulls":15},"อบต.กระแชง ","บางไทร","พระนครศรีอยุธยา",{"$nulls":9},0,0,0,0,0,{"$nulls":9},0,0,0,0,0,null,null,0,0,0,0,0,0,0,0,0,0,0,0,1,{"v":246039,"d":"246,039.00"},1,{"v":55000,"d":"55,000.00"},{"$nulls":6},0,{"v":191039,"d":"191,039.00"},1,{"v":191039,"d":"191,039.00"}]
[{"$nulls":18},"พระนครศรีอยุธยา ผลรวม",{"$nulls":9},{"$f":"SUBTOTAL(9,AC74:AC74)","v":0},{"$f":"SUBTOTAL(9,AD74:AD74)","v":0},{"$f":"SUBTOTAL(9,AE74:AE74)","v":0},{"$f":"SUBTOTAL(9,AF74:AF74)","v":0},{"$f":"SUBTOTAL(9,AG74:AG74)","v":0},{"$nulls":9},{"$f":"SUBTOTAL(9,AQ74:AQ74)","v":0},{"$f":"SUBTOTAL(9,AR74:AR74)","v":0},{"$f":"SUBTOTAL(9,AS74:AS74)","v":0},{"$f":"SUBTOTAL(9,AT74:AT74)","v":0},{"$f":"SUBTOTAL(9,AU74:AU74)","v":0},null,null,{"$f":"SUBTOTAL(9,AX74:AX74)","v":0},0,0,0,0,0,0,0,0,0,0,0,1,{"v":246039,"d":"246,039.00"},1,{"v":55000,"d":"55,000.00"},{"$nulls":8},{"$f":"SUBTOTAL(9,BV74:BV74)","v":1},{"$f":"SUBTOTAL(9,BW74:BW74)","v":{"v":191039,"d":"191,039.00"}}]
[1,{"$nulls":15},"อบต.โคกทราย ","ป่าบอน","พัทลุง",{"$nulls":9},1,{"v":6716.6,"d":"6,716.60"},{"v":80599.20000000001,"d":"80,599.20"},{"v":20149.800000000003,"d":"20,149.80"},{"v":13433.2,"d":"13,433.20"},{"$nulls":9},1,{"v":4283.4,"d":"4,283.40"},{"v":51400.799999999996,"d":"51,400.80"},{"v":12850.199999999999,"d":"12,850.20"},{"v":8566.8,"d":"8,566.80"},null,null,1,{"v":100749,"d":"100,749.00"},0,0,0,0,0,0,0,0,0,0,0,0,0,0,{"$nulls":6},0,{"v":221749,"d":"221,749.00"},1,{"v":155749,"d":"155,749.00"}]
[{"$nulls":18},"พัทลุง ผลรวม",{"$nulls":9},{"$f":"SUBTOTAL(9,AC76:AC76)","v":1},{"$f":"SUBTOTAL(9,AD76:AD76)","v":{"v":6716.6,"d":"6,716.60"}},{"$f":"SUBTOTAL(9,AE76:AE76)","v":{"v":80599.20000000001,"d":"80,599.20"}},{"$f":"SUBTOTAL(9,AF76:AF76)","v":{"v":20149.800000000003,"d":"20,149.80"}},{"$f":"SUBTOTAL(9,AG76:AG76)","v":{"v":13433.2,"d":"13,433.20"}},{"$nulls":9},{"$f":"SUBTOTAL(9,AQ76:AQ76)","v":1},{"$f":"SUBTOTAL(9,AR76:AR76)","v":{"v":4283.4,"d":"4,283.40"}},{"$f":"SUBTOTAL(9,AS76:AS76)","v":{"v":51400.799999999996,"d":"51,400.80"}},{"$f":"SUBTOTAL(9,AT76:AT76)","v":{"v":12850.199999999999,"d":"12,850.20"}},{"$f":"SUBTOTAL(9,AU76:AU76)","v":{"v":8566.8,"d":"8,566.80"}},null,null,{"$f":"SUBTOTAL(9,AX76:AX76)","v":1},{"v":100749,"d":"100,749.00"},0,0,0,0,0,0,0,0,0,0,0,0,0,0,{"$nulls":8},{"$f":"SUBTOTAL(9,BV76:BV76)","v":1},{"$f":"SUBTOTAL(9,BW76:BW76)","v":{"v":155749,"d":"155,749.00"}}]
[1,{"$nulls":15},"อบต.เวียงทอง ","สูงเม่น","แพร่",{"$nulls":9},0,0,0,0,0,{"$nulls":9},0,0,0,0,0,null,null,0,0,0,0,0,0,0,0,0,0,0,0,1,{"v":278370,"d":"278,370.00"},1,{"v":30870.97,"d":"30,870.97"},{"$nulls":6},{"v":1,"d":"1.00"},{"v":247499.03,"d":"247,499.03"},1,{"v":247499.03,"d":"247,499.03"}]
[{"$nulls":18},"แพร่ ผลรวม",{"$nulls":9},{"$f":"SUBTOTAL(9,AC78:AC78)","v":0},{"$f":"SUBTOTAL(9,AD78:AD78)","v":0},{"$f":"SUBTOTAL(9,AE78:AE78)","v":0},{"$f":"SUBTOTAL(9,AF78:AF78)","v":0},{"$f":"SUBTOTAL(9,AG78:AG78)","v":0},{"$nulls":9},{"$f":"SUBTOTAL(9,AQ78:AQ78)","v":0},{"$f":"SUBTOTAL(9,AR78:AR78)","v":0},{"$f":"SUBTOTAL(9,AS78:AS78)","v":0},{"$f":"SUBTOTAL(9,AT78:AT78)","v":0},{"$f":"SUBTOTAL(9,AU78:AU78)","v":0},null,null,{"$f":"SUBTOTAL(9,AX78:AX78)","v":0},0,0,0,0,0,0,0,0,0,0,0,1,{"v":278370,"d":"278,370.00"},1,{"v":30870.97,"d":"30,870.97"},{"$nulls":8},{"$f":"SUBTOTAL(9,BV78:BV78)","v":1},{"$f":"SUBTOTAL(9,BW78:BW78)","v":{"v":247499.03,"d":"247,499.03"}}]
[1,{"$nulls":15},"อบต.หนองไฮ ","วาปีปทุม","มหาสารคาม",{"$nulls":40},1,{"v":22000,"d":"22,000.00"},{"$nulls":12},{"$f":"BH80","v":1},{"$f":"BI80","v":{"v":22000,"d":"22,000.00"}}]
[{"$nulls":18},"มหาสารคาม ผลรวม",{"$nulls":9},{"$f":"SUBTOTAL(9,AC80:AC80)","v":0},{"$f":"SUBTOTAL(9,AD80:AD80)","v":0},{"$f":"SUBTOTAL(9,AE80:AE80)","v":0},{"$f":"SUBTOTAL(9,AF80:AF80)","v":0},{"$f":"SUBTOTAL(9,AG80:AG80)","v":0},{"$nulls":9},{"$f":"SUBTOTAL(9,AQ80:AQ80)","v":0},{"$f":"SUBTOTAL(9,AR80:AR80)","v":0},{"$f":"SUBTOTAL(9,AS80:AS80)","v":0},{"$f":"SUBTOTAL(9,AT80:AT80)","v":0},{"$f":"SUBTOTAL(9,AU80:AU80)","v":0},null,null,{"$f":"SUBTOTAL(9,AX80:AX80)","v":0},0,0,0,0,0,0,0,0,0,1,{"v":22000,"d":"22,000.00"},0,0,0,0,{"$nulls":8},{"$f":"SUBTOTAL(9,BV80:BV80)","v":1},{"$f":"SUBTOTAL(9,BW80:BW80)","v":{"v":22000,"d":"22,000.00"}}]
[1,{"$nulls":15},"อบต.ป่าไร่ ","ดอนตาล","มุกดาหาร",{"$nulls":40},1,{"v":16785,"d":"16,785.00"},{"$nulls":12},{"$f":"BH82","v":1},{"$f":"BI82","v":{"v":16785,"d":"16,785.00"}}]
[{"$nulls":18},"มุกดาหาร ผลรวม",{"$nulls":9},{"$f":"SUBTOTAL(9,AC82:AC82)","v":0},{"$f":"SUBTOTAL(9,AD82:AD82)","v":0},{"$f":"SUBTOTAL(9,AE82:AE82)","v":0},{"$f":"SUBTOTAL(9,AF82:AF82)","v":0},{"$f":"SUBTOTAL(9,AG82:AG82)","v":0},{"$nulls":9},{"$f":"SUBTOTAL(9,AQ82:AQ82)","v":0},{"$f":"SUBTOTAL(9,AR82:AR82)","v":0},{"$f":"SUBTOTAL(9,AS82:AS82)","v":0},{"$f":"SUBTOTAL(9,AT82:AT82)","v":0},{"$f":"SUBTOTAL(9,AU82:AU82)","v":0},null,null,{"$f":"SUBTOTAL(9,AX82:AX82)","v":0},0,0,0,0,0,0,0,0,0,1,{"v":16785,"d":"16,785.00"},0,0,0,0,{"$nulls":8},{"$f":"SUBTOTAL(9,BV82:BV82)","v":1},{"$f":"SUBTOTAL(9,BW82:BW82)","v":{"v":16785,"d":"16,785.00"}}]
[1,{"$nulls":15},"อบต.แม่น้ำคู้ ","ปลวกแดง","ระยอง",{"$nulls":9},1,{"v":9760.8,"d":"9,760.80"},{"v":117129.59999999999,"d":"117,129.60"},{"v":29282.399999999998,"d":"29,282.40"},{"v":19521.6,"d":"19,521.60"},{"$nulls":9},1,{"v":1239.2000000000007,"d":"1,239.20"},{"v":14870.400000000009,"d":"14,870.40"},{"v":3717.600000000002,"d":"3,717.60"},{"v":2478.4000000000015,"d":"2,478.40"},null,null,1,{"v":146412,"d":"146,412.00"},0,0,0,0,0,0,0,0,0,0,0,0,0,0,{"$nulls":6},{"v":1,"d":"1.00"},{"v":267412,"d":"267,412.00"},1,{"v":201412,"d":"201,412.00"}]
[{"$nulls":18},"ระยอง ผลรวม",{"$nulls":9},{"$f":"SUBTOTAL(9,AC84:AC84)","v":1},{"$f":"SUBTOTAL(9,AD84:AD84)","v":{"v":9760.8,"d":"9,760.80"}},{"$f":"SUBTOTAL(9,AE84:AE84)","v":{"v":117129.59999999999,"d":"117,129.60"}},{"$f":"SUBTOTAL(9,AF84:AF84)","v":{"v":29282.399999999998,"d":"29,282.40"}},{"$f":"SUBTOTAL(9,AG84:AG84)","v":{"v":19521.6,"d":"19,521.60"}},{"$nulls":9},{"$f":"SUBTOTAL(9,AQ84:AQ84)","v":1},{"$f":"SUBTOTAL(9,AR84:AR84)","v":{"v":1239.2000000000007,"d":"1,239.20"}},{"$f":"SUBTOTAL(9,AS84:AS84)","v":{"v":14870.400000000009,"d":"14,870.40"}},{"$f":"SUBTOTAL(9,AT84:AT84)","v":{"v":3717.600000000002,"d":"3,717.60"}},{"$f":"SUBTOTAL(9,AU84:AU84)","v":{"v":2478.4000000000015,"d":"2,478.40"}},null,null,{"$f":"SUBTOTAL(9,AX84:AX84)","v":1},{"v":146412,"d":"146,412.00"},0,0,0,0,0,0,0,0,0,0,0,0,0,0,{"$nulls":8},{"$f":"SUBTOTAL(9,BV84:BV84)","v":1},{"$f":"SUBTOTAL(9,BW84:BW84)","v":{"v":201412,"d":"201,412.00"}}]
[1,{"$nulls":15},"อบต.สบป้าด ","แม่เมาะ","ลำปาง",{"$nulls":9},1,{"v":9942.8,"d":"9,942.80"},{"v":119313.59999999999,"d":"119,313.60"},{"v":29828.399999999998,"d":"29,828.40"},{"v":19885.6,"d":"19,885.60"},{"$nulls":9},1,{"v":1057.2000000000007,"d":"1,057.20"},{"v":12686.400000000009,"d":"12,686.40"},{"v":3171.600000000002,"d":"3,171.60"},{"v":2114.4000000000015,"d":"2,114.40"},null,null,1,{"v":149142,"d":"149,142.00"},0,0,0,0,0,0,0,0,0,0,0,0,0,0,{"$nulls":6},{"v":1,"d":"1.00"},{"v":270142,"d":"270,142.00"},1,{"v":204142,"d":"204,142.00"}]
[{"$f":"A86+1","v":2},{"$nulls":15},"อบต.นายาง ","สบปราบ","ลำปาง",{"$nulls":9},1,{"v":8660.6,"d":"8,660.60"},{"v":86606,"d":"86,606.00"},0,{"v":17321.2,"d":"17,321.20"},{"$nulls":9},1,{"v":2339.3999999999996,"d":"2,339.40"},{"v":23393.999999999996,"d":"23,394.00"},0,{"v":4678.799999999999,"d":"4,678.80"},null,null,1,{"v":129909,"d":"129,909.00"},0,0,0,0,0,0,0,0,0,0,0,0,0,0,{"$nulls":6},{"v":1,"d":"1.00"},{"v":217909,"d":"217,909.00"},1,{"v":151909,"d":"151,909.00"}]
[{"$nulls":18},"ลำปาง ผลรวม",{"$nulls":9},{"$f":"SUBTOTAL(9,AC86:AC87)","v":2},{"$f":"SUBTOTAL(9,AD86:AD87)","v":{"v":18603.4,"d":"18,603.40"}},{"$f":"SUBTOTAL(9,AE86:AE87)","v":{"v":205919.59999999998,"d":"205,919.60"}},{"$f":"SUBTOTAL(9,AF86:AF87)","v":{"v":29828.399999999998,"d":"29,828.40"}},{"$f":"SUBTOTAL(9,AG86:AG87)","v":{"v":37206.8,"d":"37,206.80"}},{"$nulls":9},{"$f":"SUBTOTAL(9,AQ86:AQ87)","v":2},{"$f":"SUBTOTAL(9,AR86:AR87)","v":{"v":3396.6000000000004,"d":"3,396.60"}},{"$f":"SUBTOTAL(9,AS86:AS87)","v":{"v":36080.40000000001,"d":"36,080.40"}},{"$f":"SUBTOTAL(9,AT86:AT87)","v":{"v":3171.600000000002,"d":"3,171.60"}},{"$f":"SUBTOTAL(9,AU86:AU87)","v":{"v":6793.200000000001,"d":"6,793.20"}},null,null,{"$f":"SUBTOTAL(9,AX86:AX87)","v":2},{"v":279051,"d":"279,051.00"},0,0,0,0,0,0,0,0,0,0,0,0,0,0,{"$nulls":8},{"$f":"SUBTOTAL(9,BV86:BV87)","v":2},{"$f":"SUBTOTAL(9,BW86:BW87)","v":{"v":356051,"d":"356,051.00"}}]
[1,{"$nulls":15},"อบต.บ้านปวง ","ทุ่งหัวช้าง","ลำพูน",{"$nulls":9},0,0,0,0,0,{"$nulls":9},0,0,0,0,0,null,null,1,{"v":4134,"d":"4,134.00"},0,0,0,0,0,0,0,0,0,0,0,0,0,0,{"$nulls":6},{"v":1,"d":"1.00"},{"v":4134,"d":"4,134.00"},1,{"v":4134,"d":"4,134.00"}]
[{"$f":"A89+1","v":2},{"$nulls":15},"อบต.ป่าพลู ","บ้านโฮ่ง","ลำพูน",{"$nulls":40},1,{"v":164352,"d":"164,352.00"},{"$nulls":12},{"$f":"BH90","v":1},{"$f":"BI90","v":{"v":164352,"d":"164,352.00"}}]
[{"$f":"A90+1","v":3},{"$nulls":15},"อบต.เวียงกานต์ ","บ้านโฮ่ง","ลำพูน",{"$nulls":9},0,0,0,0,0,{"$nulls":9},0,0,0,0,0,null,null,1,{"v":4017,"d":"4,017.00"},0,0,0,0,0,0,0,0,0,0,0,0,0,0,{"$nulls":6},{"v":1,"d":"1.00"},{"v":4017,"d":"4,017.00"},1,{"v":4017,"d":"4,017.00"}]
[{"$f":"A42+1","v":5},{"$nulls":15},"อบต.นาทราย ","ลี้","ลำพูน",{"$nulls":9},1,{"v":6910.2,"d":"6,910.20"},{"v":82922.4,"d":"82,922.40"},{"v":20730.6,"d":"20,730.60"},{"v":13820.4,"d":"13,820.40"},{"$nulls":9},1,{"v":4089.8,"d":"4,089.80"},{"v":49077.600000000006,"d":"49,077.60"},{"v":12269.400000000001,"d":"12,269.40"},{"v":8179.6,"d":"8,179.60"},null,null,1,{"v":103653,"d":"103,653.00"},0,0,0,0,0,0,0,0,0,0,0,0,0,0,{"$nulls":6},{"v":1,"d":"1.00"},{"v":224653,"d":"224,653.00"},1,{"v":158653,"d":"158,653.00"}]
[{"$nulls":18},"ลำพูน ผลรวม",{"$nulls":9},{"$f":"SUBTOTAL(9,AC89:AC92)","v":1},{"$f":"SUBTOTAL(9,AD89:AD92)","v":{"v":6910.2,"d":"6,910.20"}},{"$f":"SUBTOTAL(9,AE89:AE92)","v":{"v":82922.4,"d":"82,922.40"}},{"$f":"SUBTOTAL(9,AF89:AF92)","v":{"v":20730.6,"d":"20,730.60"}},{"$f":"SUBTOTAL(9,AG89:AG92)","v":{"v":13820.4,"d":"13,820.40"}},{"$nulls":9},{"$f":"SUBTOTAL(9,AQ89:AQ92)","v":1},{"$f":"SUBTOTAL(9,AR89:AR92)","v":{"v":4089.8,"d":"4,089.80"}},{"$f":"SUBTOTAL(9,AS89:AS92)","v":{"v":49077.600000000006,"d":"49,077.60"}},{"$f":"SUBTOTAL(9,AT89:AT92)","v":{"v":12269.400000000001,"d":"12,269.40"}},{"$f":"SUBTOTAL(9,AU89:AU92)","v":{"v":8179.6,"d":"8,179.60"}},null,null,{"$f":"SUBTOTAL(9,AX89:AX92)","v":3},{"v":111804,"d":"111,804.00"},0,0,0,0,0,0,0,0,1,{"v":164352,"d":"164,352.00"},0,0,0,0,{"$nulls":8},{"$f":"SUBTOTAL(9,BV89:BV92)","v":4},{"$f":"SUBTOTAL(9,BW89:BW92)","v":{"v":331156,"d":"331,156.00"}}]
[1,{"$nulls":15},"อบต.ศรีฐาน ","ภูกระดึง","เลย",{"$nulls":9},1,{"v":9489.2,"d":"9,489.20"},{"v":113870.40000000001,"d":"113,870.40"},{"v":28467.600000000002,"d":"28,467.60"},{"v":18978.4,"d":"18,978.40"},{"$nulls":9},1,{"v":1510.7999999999993,"d":"1,510.80"},{"v":18129.59999999999,"d":"18,129.60"},{"v":4532.399999999998,"d":"4,532.40"},{"v":3021.5999999999985,"d":"3,021.60"},null,null,1,{"v":142338,"d":"142,338.00"},0,0,0,0,0,0,0,0,0,0,0,0,0,0,{"$nulls":6},{"v":1,"d":"1.00"},{"v":263338,"d":"263,338.00"},1,{"v":197338,"d":"197,338.00"}]
[{"$nulls":18},"เลย ผลรวม",{"$nulls":9},{"$f":"SUBTOTAL(9,AC94:AC94)","v":1},{"$f":"SUBTOTAL(9,AD94:AD94)","v":{"v":9489.2,"d":"9,489.20"}},{"$f":"SUBTOTAL(9,AE94:AE94)","v":{"v":113870.40000000001,"d":"113,870.40"}},{"$f":"SUBTOTAL(9,AF94:AF94)","v":{"v":28467.600000000002,"d":"28,467.60"}},{"$f":"SUBTOTAL(9,AG94:AG94)","v":{"v":18978.4,"d":"18,978.40"}},{"$nulls":9},{"$f":"SUBTOTAL(9,AQ94:AQ94)","v":1},{"$f":"SUBTOTAL(9,AR94:AR94)","v":{"v":1510.7999999999993,"d":"1,510.80"}},{"$f":"SUBTOTAL(9,AS94:AS94)","v":{"v":18129.59999999999,"d":"18,129.60"}},{"$f":"SUBTOTAL(9,AT94:AT94)","v":{"v":4532.399999999998,"d":"4,532.40"}},{"$f":"SUBTOTAL(9,AU94:AU94)","v":{"v":3021.5999999999985,"d":"3,021.60"}},null,null,{"$f":"SUBTOTAL(9,AX94:AX94)","v":1},{"v":142338,"d":"142,338.00"},0,0,0,0,0,0,0,0,0,0,0,0,0,0,{"$nulls":8},{"$f":"SUBTOTAL(9,BV94:BV94)","v":1},{"$f":"SUBTOTAL(9,BW94:BW94)","v":{"v":197338,"d":"197,338.00"}}]
[1,{"$nulls":15},"อบต.สังเม็ก ","กันทรลักษ์","ศรีสะเกษ",{"$nulls":9},1,{"v":8200.8,"d":"8,200.80"},{"v":98409.59999999999,"d":"98,409.60"},{"v":24602.399999999998,"d":"24,602.40"},{"v":16401.6,"d":"16,401.60"},{"$nulls":9},1,{"v":2799.2000000000007,"d":"2,799.20"},{"v":33590.40000000001,"d":"33,590.40"},{"v":8397.600000000002,"d":"8,397.60"},{"v":5598.4000000000015,"d":"5,598.40"},null,null,1,{"v":123012,"d":"123,012.00"},0,0,0,0,0,0,0,0,0,0,0,0,0,0,{"$nulls":6},0,{"v":244012,"d":"244,012.00"},1,{"v":178012,"d":"178,012.00"}]
[{"$f":"A96+1","v":2},{"$nulls":15},"อบต.จาน ","กันทรารมย์","ศรีสะเกษ",{"$nulls":9},1,{"v":8777.6,"d":"8,777.60"},{"v":105331.20000000001,"d":"105,331.20"},{"v":26332.800000000003,"d":"26,332.80"},{"v":17555.2,"d":"17,555.20"},{"$nulls":9},1,{"v":2222.3999999999996,"d":"2,222.40"},{"v":26668.799999999996,"d":"26,668.80"},{"v":6667.199999999999,"d":"6,667.20"},{"v":4444.799999999999,"d":"4,444.80"},null,null,1,{"v":131664,"d":"131,664.00"},0,0,0,0,0,0,0,0,0,0,0,0,0,0,{"$nulls":6},0,{"v":252664,"d":"252,664.00"},1,{"v":186664,"d":"186,664.00"}]
[{"$f":"A97+1","v":3},{"$nulls":15},"อบต.ดู่ ","กันทรารมย์","ศรีสะเกษ",{"$nulls":9},0,0,0,0,0,{"$nulls":9},0,0,0,0,0,null,null,0,0,0,0,0,0,0,0,1,{"v":454610,"d":"454,610.00"},0,0,0,0,0,0,{"$nulls":6},0,{"v":454610,"d":"454,610.00"},1,{"v":454610,"d":"454,610.00"}]
[{"$f":"A98+1","v":4},{"$nulls":15},"อบต.โคกเพชร ","ขุขันธ์","ศรีสะเกษ",{"$nulls":9},1,{"v":9482.2,"d":"9,482.20"},{"v":113786.40000000001,"d":"113,786.40"},{"v":28446.600000000002,"d":"28,446.60"},{"v":18964.4,"d":"18,964.40"},0,0,0,0,0,0,0,0,0,1,{"v":1517.7999999999993,"d":"1,517.80"},{"v":18213.59999999999,"d":"18,213.60"},{"v":4553.399999999998,"d":"4,553.40"},{"v":3035.5999999999985,"d":"3,035.60"},0,0,1,{"v":142233,"d":"142,233.00"},0,0,0,0,0,0,0,0,2,{"v":22000,"d":"22,000.00"},0,0,0,0,{"$f":"'บัญชีสรุป รายเก่า'!CS33+'บัญชีรายชื่อ (รายใหม่) '!BN134","v":0},{"$f":"'บัญชีสรุป รายเก่า'!CT33+'บัญชีรายชื่อ (รายใหม่) '!BO134","v":{"v":197233,"d":"197,233.00"}},{"$f":"'บัญชีสรุป รายเก่า'!CU33+'บัญชีรายชื่อ (รายใหม่) '!BP134","v":0},{"$f":"'บัญชีสรุป รายเก่า'!CV33+'บัญชีรายชื่อ (รายใหม่) '!BQ134","v":0},{"$f":"'บัญชีสรุป รายเก่า'!CW33+'บัญชีรายชื่อ (รายใหม่) '!BR134","v":0},{"$f":"'บัญชีสรุป รายเก่า'!CX33+'บัญชีรายชื่อ (รายใหม่) '!BS134","v":0},{"$f":"'บัญชีสรุป รายเก่า'!CY33+'บัญชีรายชื่อ (รายใหม่) '!BT134","v":{"v":1,"d":"1.00"}},{"$f":"'บัญชีสรุป รายเก่า'!CZ33+'บัญชีรายชื่อ (รายใหม่) '!BU134","v":{"v":197233,"d":"197,233.00"}},3,{"v":219233,"d":"219,233.00"}]
[{"$f":"A99+1","v":5},{"$nulls":15},"อบต.ขะยูง ","อุทุมพรพิสัย","ศรีสะเกษ",{"$nulls":40},4,{"v":66000,"d":"66,000.00"},{"$nulls":12},{"$f":"BH100","v":4},{"$f":"BI100","v":{"v":66000,"d":"66,000.00"}}]
[{"$nulls":18},"ศรีสะเกษ ผลรวม",{"$nulls":9},{"$f":"SUBTOTAL(9,AC96:AC100)","v":3},{"$f":"SUBTOTAL(9,AD96:AD100)","v":{"v":26460.600000000002,"d":"26,460.60"}},{"$f":"SUBTOTAL(9,AE96:AE100)","v":{"v":317527.2,"d":"317,527.20"}},{"$f":"SUBTOTAL(9,AF96:AF100)","v":{"v":79381.8,"d":"79,381.80"}},{"$f":"SUBTOTAL(9,AG96:AG100)","v":{"v":52921.200000000004,"d":"52,921.20"}},{"$nulls":9},{"$f":"SUBTOTAL(9,AQ96:AQ100)","v":3},{"$f":"SUBTOTAL(9,AR96:AR100)","v":{"v":6539.4,"d":"6,539.40"}},{"$f":"SUBTOTAL(9,AS96:AS100)","v":{"v":78472.79999999999,"d":"78,472.80"}},{"$f":"SUBTOTAL(9,AT96:AT100)","v":{"v":19618.199999999997,"d":"19,618.20"}},{"$f":"SUBTOTAL(9,AU96:AU100)","v":{"v":13078.8,"d":"13,078.80"}},null,null,{"$f":"SUBTOTAL(9,AX96:AX100)","v":3},{"v":396909,"d":"396,909.00"},0,0,0,0,0,0,1,{"v":454610,"d":"454,610.00"},6,{"v":88000,"d":"88,000.00"},0,0,0,0,{"$nulls":8},{"$f":"SUBTOTAL(9,BV96:BV100)","v":10},{"$f":"SUBTOTAL(9,BW96:BW100)","v":{"v":1104519,"d":"1,104,519.00"}}]
[1,{"$nulls":15},"อบต.ห้วยยาง ","เมืองสกลนคร","สกลนคร",{"$nulls":9},1,{"v":8585.2,"d":"8,585.20"},{"v":103022.40000000001,"d":"103,022.40"},{"v":25478.66,"d":"25,478.66"},{"v":17170.4,"d":"17,170.40"},{"$nulls":9},1,{"v":2414.7999999999993,"d":"2,414.80"},{"v":28977.59999999999,"d":"28,977.60"},{"v":7166.5,"d":"7,166.50"},{"v":4829.5999999999985,"d":"4,829.60"},null,null,1,{"v":128778,"d":"128,778.00"},0,0,0,0,0,0,0,0,0,0,0,0,0,0,{"$nulls":6},{"v":1,"d":"1.00"},{"v":249423.16,"d":"249,423.16"},1,{"v":183423.16,"d":"183,423.16"}]
[{"$nulls":18},"สกลนคร ผลรวม",{"$nulls":9},{"$f":"SUBTOTAL(9,AC102:AC102)","v":1},{"$f":"SUBTOTAL(9,AD102:AD102)","v":{"v":8585.2,"d":"8,585.20"}},{"$f":"SUBTOTAL(9,AE102:AE102)","v":{"v":103022.40000000001,"d":"103,022.40"}},{"$f":"SUBTOTAL(9,AF102:AF102)","v":{"v":25478.66,"d":"25,478.66"}},{"$f":"SUBTOTAL(9,AG102:AG102)","v":{"v":17170.4,"d":"17,170.40"}},{"$nulls":9},{"$f":"SUBTOTAL(9,AQ102:AQ102)","v":1},{"$f":"SUBTOTAL(9,AR102:AR102)","v":{"v":2414.7999999999993,"d":"2,414.80"}},{"$f":"SUBTOTAL(9,AS102:AS102)","v":{"v":28977.59999999999,"d":"28,977.60"}},{"$f":"SUBTOTAL(9,AT102:AT102)","v":{"v":7166.5,"d":"7,166.50"}},{"$f":"SUBTOTAL(9,AU102:AU102)","v":{"v":4829.5999999999985,"d":"4,829.60"}},null,null,{"$f":"SUBTOTAL(9,AX102:AX102)","v":1},{"v":128778,"d":"128,778.00"},0,0,0,0,0,0,0,0,0,0,0,0,0,0,{"$nulls":8},{"$f":"SUBTOTAL(9,BV102:BV102)","v":1},{"$f":"SUBTOTAL(9,BW102:BW102)","v":{"v":183423.16,"d":"183,423.16"}}]
[1,{"$nulls":15},"อบต.ท่าม่วง ","เทพา","สงขลา",{"$nulls":9},1,{"v":8629.4,"d":"8,629.40"},{"v":103552.79999999999,"d":"103,552.80"},{"v":25888.199999999997,"d":"25,888.20"},{"v":17258.8,"d":"17,258.80"},{"$nulls":9},1,{"v":2370.6000000000004,"d":"2,370.60"},{"v":28447.200000000004,"d":"28,447.20"},{"v":7111.800000000001,"d":"7,111.80"},{"v":4741.200000000001,"d":"4,741.20"},null,null,1,{"v":129441,"d":"129,441.00"},0,0,0,0,0,0,0,0,0,0,0,0,0,0,{"$nulls":6},{"v":1,"d":"1.00"},{"v":250441,"d":"250,441.00"},1,{"v":184441,"d":"184,441.00"}]
[{"$f":"A104+1","v":2},{"$nulls":15},"อบต.ปากบาง ","เทพา","สงขลา",{"$nulls":9},1,{"v":9100,"d":"9,100.00"},{"v":109200,"d":"109,200.00"},{"v":27300,"d":"27,300.00"},{"v":18200,"d":"18,200.00"},{"$nulls":9},1,{"v":1900,"d":"1,900.00"},{"v":22800,"d":"22,800.00"},{"v":5700,"d":"5,700.00"},{"v":3800,"d":"3,800.00"},null,null,1,{"v":136500,"d":"136,500.00"},0,0,0,0,0,0,0,0,0,0,0,0,0,0,{"$nulls":6},{"v":1,"d":"1.00"},{"v":257500,"d":"257,500.00"},1,{"v":191500,"d":"191,500.00"}]
[{"$f":"A105+1","v":3},{"$nulls":15},"อบต.คลองแดน ","ระโนด","สงขลา",{"$nulls":9},1,{"v":9365.2,"d":"9,365.20"},{"v":112382.40000000001,"d":"112,382.40"},{"v":28095.600000000002,"d":"28,095.60"},{"v":18730.4,"d":"18,730.40"},{"$nulls":9},1,{"v":1634.7999999999993,"d":"1,634.80"},{"v":19617.59999999999,"d":"19,617.60"},{"v":4904.399999999998,"d":"4,904.40"},{"v":3269.5999999999985,"d":"3,269.60"},null,null,1,{"v":140478,"d":"140,478.00"},0,0,0,0,0,0,0,0,0,0,0,0,0,0,{"$nulls":6},{"v":1,"d":"1.00"},{"v":261478,"d":"261,478.00"},1,{"v":195478,"d":"195,478.00"}]
[{"$f":"A106+1","v":4},{"$nulls":15},"อบต.คูหา ","สะบ้าย้อย","สงขลา",{"$nulls":40},2,{"v":22000,"d":"22,000.00"},{"$nulls":12},{"$f":"BH107","v":2},{"$f":"BI107","v":{"v":22000,"d":"22,000.00"}}]
[{"$f":"A107+1","v":5},{"$nulls":15},"อบต.ท่าข้าม ","หาดใหญ่","สงขลา",{"$nulls":9},1,{"v":9875.6,"d":"9,875.60"},{"v":118507.20000000001,"d":"118,507.20"},{"v":29626.800000000003,"d":"29,626.80"},{"v":19751.2,"d":"19,751.20"},{"$nulls":9},1,{"v":1124.3999999999996,"d":"1,124.40"},{"v":13492.799999999996,"d":"13,492.80"},{"v":3373.199999999999,"d":"3,373.20"},{"v":2248.7999999999993,"d":"2,248.80"},null,null,1,{"v":148134,"d":"148,134.00"},0,0,0,0,0,0,0,0,0,0,0,0,0,0,{"$nulls":6},{"v":1,"d":"1.00"},{"v":269134,"d":"269,134.00"},1,{"v":203134,"d":"203,134.00"}]
[{"$nulls":18},"สงขลา ผลรวม",{"$nulls":9},{"$f":"SUBTOTAL(9,AC104:AC108)","v":4},{"$f":"SUBTOTAL(9,AD104:AD108)","v":{"v":36970.200000000004,"d":"36,970.20"}},{"$f":"SUBTOTAL(9,AE104:AE108)","v":{"v":443642.4,"d":"443,642.40"}},{"$f":"SUBTOTAL(9,AF104:AF108)","v":{"v":110910.6,"d":"110,910.60"}},{"$f":"SUBTOTAL(9,AG104:AG108)","v":{"v":73940.40000000001,"d":"73,940.40"}},{"$nulls":9},{"$f":"SUBTOTAL(9,AQ104:AQ108)","v":4},{"$f":"SUBTOTAL(9,AR104:AR108)","v":{"v":7029.799999999999,"d":"7,029.80"}},{"$f":"SUBTOTAL(9,AS104:AS108)","v":{"v":84357.59999999998,"d":"84,357.60"}},{"$f":"SUBTOTAL(9,AT104:AT108)","v":{"v":21089.399999999994,"d":"21,089.40"}},{"$f":"SUBTOTAL(9,AU104:AU108)","v":{"v":14059.599999999999,"d":"14,059.60"}},null,null,{"$f":"SUBTOTAL(9,AX104:AX108)","v":4},{"v":554553,"d":"554,553.00"},0,0,0,0,0,0,0,0,2,{"v":22000,"d":"22,000.00"},0,0,0,0,{"$nulls":8},{"$f":"SUBTOTAL(9,BV104:BV108)","v":6},{"$f":"SUBTOTAL(9,BW104:BW108)","v":{"v":796553,"d":"796,553.00"}}]
[1,{"$nulls":15},"อบต.วังประจัน ","ควนโดน","สตูล",{"$nulls":9},1,{"v":9443.2,"d":"9,443.20"},{"v":113318.40000000001,"d":"113,318.40"},{"v":28329.600000000002,"d":"28,329.60"},{"v":18886.4,"d":"18,886.40"},{"$nulls":9},1,{"v":1556.8,"d":"1,556.80"},{"v":18681.6,"d":"18,681.60"},{"v":4670.4,"d":"4,670.40"},{"v":3113.6,"d":"3,113.60"},null,null,1,{"v":141648,"d":"141,648.00"},0,0,0,0,0,0,0,0,0,0,0,0,0,0,{"$nulls":6},{"v":1,"d":"1.00"},{"v":262648,"d":"262,648.00"},1,{"v":196648,"d":"196,648.00"}]
[{"$f":"A110+1","v":2},{"$nulls":15},"อบต.ละงู ","ละงู","สตูล",{"$nulls":9},0,0,0,0,0,{"$nulls":9},0,0,0,0,0,null,null,0,0,0,0,0,0,1,{"v":224640,"d":"224,640.00"},0,0,0,0,0,0,0,0,{"$nulls":6},{"v":1,"d":"1.00"},{"v":224640,"d":"224,640.00"},1,{"v":224640,"d":"224,640.00"}]
[{"$nulls":18},"สตูล ผลรวม",{"$nulls":9},{"$f":"SUBTOTAL(9,AC110:AC111)","v":1},{"$f":"SUBTOTAL(9,AD110:AD111)","v":{"v":9443.2,"d":"9,443.20"}},{"$f":"SUBTOTAL(9,AE110:AE111)","v":{"v":113318.40000000001,"d":"113,318.40"}},{"$f":"SUBTOTAL(9,AF110:AF111)","v":{"v":28329.600000000002,"d":"28,329.60"}},{"$f":"SUBTOTAL(9,AG110:AG111)","v":{"v":18886.4,"d":"18,886.40"}},{"$nulls":9},{"$f":"SUBTOTAL(9,AQ110:AQ111)","v":1},{"$f":"SUBTOTAL(9,AR110:AR111)","v":{"v":1556.8,"d":"1,556.80"}},{"$f":"SUBTOTAL(9,AS110:AS111)","v":{"v":18681.6,"d":"18,681.60"}},{"$f":"SUBTOTAL(9,AT110:AT111)","v":{"v":4670.4,"d":"4,670.40"}},{"$f":"SUBTOTAL(9,AU110:AU111)","v":{"v":3113.6,"d":"3,113.60"}},null,null,{"$f":"SUBTOTAL(9,AX110:AX111)","v":1},{"v":141648,"d":"141,648.00"},0,0,0,0,1,{"v":224640,"d":"224,640.00"},0,0,0,0,0,0,0,0,{"$nulls":8},{"$f":"SUBTOTAL(9,BV110:BV111)","v":2},{"$f":"SUBTOTAL(9,BW110:BW111)","v":{"v":421288,"d":"421,288.00"}}]
[1,{"$nulls":15},"อบต.คลองทับจันทร์ ","อรัญประเทศ","สระแก้ว",{"$nulls":9},1,{"v":9688,"d":"9,688.00"},{"v":106568,"d":"106,568.00"},{"v":19376,"d":"19,376.00"},{"v":19376,"d":"19,376.00"},{"$nulls":9},1,{"v":1312,"d":"1,312.00"},{"v":14432,"d":"14,432.00"},{"v":2624,"d":"2,624.00"},{"v":2624,"d":"2,624.00"},null,null,1,{"v":145320,"d":"145,320.00"},0,0,0,0,0,0,0,0,0,0,0,0,0,0,{"$nulls":6},{"v":1,"d":"1.00"},{"v":255320,"d":"255,320.00"},1,{"v":189320,"d":"189,320.00"}]
[{"$nulls":18},"สระแก้ว ผลรวม",{"$nulls":9},{"$f":"SUBTOTAL(9,AC113:AC113)","v":1},{"$f":"SUBTOTAL(9,AD113:AD113)","v":{"v":9688,"d":"9,688.00"}},{"$f":"SUBTOTAL(9,AE113:AE113)","v":{"v":106568,"d":"106,568.00"}},{"$f":"SUBTOTAL(9,AF113:AF113)","v":{"v":19376,"d":"19,376.00"}},{"$f":"SUBTOTAL(9,AG113:AG113)","v":{"v":19376,"d":"19,376.00"}},{"$nulls":9},{"$f":"SUBTOTAL(9,AQ113:AQ113)","v":1},{"$f":"SUBTOTAL(9,AR113:AR113)","v":{"v":1312,"d":"1,312.00"}},{"$f":"SUBTOTAL(9,AS113:AS113)","v":{"v":14432,"d":"14,432.00"}},{"$f":"SUBTOTAL(9,AT113:AT113)","v":{"v":2624,"d":"2,624.00"}},{"$f":"SUBTOTAL(9,AU113:AU113)","v":{"v":2624,"d":"2,624.00"}},null,null,{"$f":"SUBTOTAL(9,AX113:AX113)","v":1},{"v":145320,"d":"145,320.00"},0,0,0,0,0,0,0,0,0,0,0,0,0,0,{"$nulls":8},{"$f":"SUBTOTAL(9,BV113:BV113)","v":1},{"$f":"SUBTOTAL(9,BW113:BW113)","v":{"v":189320,"d":"189,320.00"}}]
[1,{"$nulls":15},"อบต.วังทอง ","ศรีสำโรง","สุโขทัย",{"$nulls":9},1,{"v":9696.4,"d":"9,696.40"},{"v":116356.79999999999,"d":"116,356.80"},{"v":29089.199999999997,"d":"29,089.20"},{"v":19392.8,"d":"19,392.80"},{"$nulls":9},1,{"v":1303.6000000000004,"d":"1,303.60"},{"v":15643.200000000004,"d":"15,643.20"},{"v":3910.800000000001,"d":"3,910.80"},{"v":2607.2000000000007,"d":"2,607.20"},null,null,1,{"v":145446,"d":"145,446.00"},0,0,0,0,0,0,0,0,0,0,0,0,0,0,{"$nulls":6},{"v":1,"d":"1.00"},{"v":266446,"d":"266,446.00"},1,{"v":200446,"d":"200,446.00"}]
[{"$nulls":18},"สุโขทัย ผลรวม",{"$nulls":9},{"$f":"SUBTOTAL(9,AC115:AC115)","v":1},{"$f":"SUBTOTAL(9,AD115:AD115)","v":{"v":9696.4,"d":"9,696.40"}},{"$f":"SUBTOTAL(9,AE115:AE115)","v":{"v":116356.79999999999,"d":"116,356.80"}},{"$f":"SUBTOTAL(9,AF115:AF115)","v":{"v":29089.199999999997,"d":"29,089.20"}},{"$f":"SUBTOTAL(9,AG115:AG115)","v":{"v":19392.8,"d":"19,392.80"}},{"$nulls":9},{"$f":"SUBTOTAL(9,AQ115:AQ115)","v":1},{"$f":"SUBTOTAL(9,AR115:AR115)","v":{"v":1303.6000000000004,"d":"1,303.60"}},{"$f":"SUBTOTAL(9,AS115:AS115)","v":{"v":15643.200000000004,"d":"15,643.20"}},{"$f":"SUBTOTAL(9,AT115:AT115)","v":{"v":3910.800000000001,"d":"3,910.80"}},{"$f":"SUBTOTAL(9,AU115:AU115)","v":{"v":2607.2000000000007,"d":"2,607.20"}},null,null,{"$f":"SUBTOTAL(9,AX115:AX115)","v":1},{"v":145446,"d":"145,446.00"},0,0,0,0,0,0,0,0,0,0,0,0,0,0,{"$nulls":8},{"$f":"SUBTOTAL(9,BV115:BV115)","v":1},{"$f":"SUBTOTAL(9,BW115:BW115)","v":{"v":200446,"d":"200,446.00"}}]
[1,{"$nulls":15},"อบต.ท่าอุแท ","กาญจนดิษฐ์","สุราษฎร์ธานี",{"$nulls":9},1,{"v":10234,"d":"10,234.00"},{"v":122808,"d":"122,808.00"},{"v":30702,"d":"30,702.00"},{"v":20468,"d":"20,468.00"},{"$nulls":9},1,{"v":766,"d":"766.00"},{"v":9192,"d":"9,192.00"},{"v":2298,"d":"2,298.00"},{"v":1532,"d":"1,532.00"},null,null,1,{"v":153510,"d":"153,510.00"},0,0,0,0,0,0,0,0,0,0,0,0,0,0,{"$nulls":6},{"v":1,"d":"1.00"},{"v":274510,"d":"274,510.00"},1,{"v":208510,"d":"208,510.00"}]
[{"$f":"A117+1","v":2},{"$nulls":15},"อบต.ท่าขนอน ","คีรีรัฐนิคม","สุราษฎร์ธานี",{"$nulls":9},1,{"v":6347,"d":"6,347.00"},{"v":76164,"d":"76,164.00"},{"v":19041,"d":"19,041.00"},{"v":12694,"d":"12,694.00"},{"$nulls":9},1,{"v":4653,"d":"4,653.00"},{"v":55836,"d":"55,836.00"},{"v":13959,"d":"13,959.00"},{"v":9306,"d":"9,306.00"},null,null,1,{"v":95205,"d":"95,205.00"},0,0,0,0,0,0,0,0,0,0,0,0,0,0,{"$nulls":6},{"v":1,"d":"1.00"},{"v":216205,"d":"216,205.00"},1,{"v":150205,"d":"150,205.00"}]
[{"$nulls":18},"สุราษฎร์ธานี ผลรวม",{"$nulls":9},{"$f":"SUBTOTAL(9,AC117:AC118)","v":2},{"$f":"SUBTOTAL(9,AD117:AD118)","v":{"v":16581,"d":"16,581.00"}},{"$f":"SUBTOTAL(9,AE117:AE118)","v":{"v":198972,"d":"198,972.00"}},{"$f":"SUBTOTAL(9,AF117:AF118)","v":{"v":49743,"d":"49,743.00"}},{"$f":"SUBTOTAL(9,AG117:AG118)","v":{"v":33162,"d":"33,162.00"}},{"$nulls":9},{"$f":"SUBTOTAL(9,AQ117:AQ118)","v":2},{"$f":"SUBTOTAL(9,AR117:AR118)","v":{"v":5419,"d":"5,419.00"}},{"$f":"SUBTOTAL(9,AS117:AS118)","v":{"v":65028,"d":"65,028.00"}},{"$f":"SUBTOTAL(9,AT117:AT118)","v":{"v":16257,"d":"16,257.00"}},{"$f":"SUBTOTAL(9,AU117:AU118)","v":{"v":10838,"d":"10,838.00"}},null,null,{"$f":"SUBTOTAL(9,AX117:AX118)","v":2},{"v":248715,"d":"248,715.00"},0,0,0,0,0,0,0,0,0,0,0,0,0,0,{"$nulls":8},{"$f":"SUBTOTAL(9,BV117:BV118)","v":2},{"$f":"SUBTOTAL(9,BW117:BW118)","v":{"v":358715,"d":"358,715.00"}}]
[1,{"$nulls":15},"อบต.ลำดวน ","ลำดวน","สุรินทร์",{"$nulls":9},0,0,0,0,0,{"$nulls":9},0,0,0,0,0,null,null,1,{"v":4158,"d":"4,158.00"},0,0,0,0,0,0,0,0,0,0,0,0,0,0,{"$nulls":6},{"v":1,"d":"1.00"},{"v":4158,"d":"4,158.00"},1,{"v":4158,"d":"4,158.00"}]
[{"$f":"A120+1","v":2},{"$nulls":15},"อบต.กระออม ","สำโรงทาบ","สุรินทร์",{"$nulls":9},1,{"v":10374,"d":"10,374.00"},{"v":124488,"d":"124,488.00"},{"v":31122,"d":"31,122.00"},{"v":20748,"d":"20,748.00"},{"$nulls":9},1,{"v":626,"d":"626.00"},{"v":7512,"d":"7,512.00"},{"v":1878,"d":"1,878.00"},{"v":1252,"d":"1,252.00"},null,null,1,{"v":155610,"d":"155,610.00"},0,0,0,0,0,0,0,0,0,0,0,0,0,0,{"$nulls":6},{"v":1,"d":"1.00"},{"v":276610,"d":"276,610.00"},1,{"v":210610,"d":"210,610.00"}]
[{"$nulls":18},"สุรินทร์ ผลรวม",{"$nulls":9},{"$f":"SUBTOTAL(9,AC120:AC121)","v":1},{"$f":"SUBTOTAL(9,AD120:AD121)","v":{"v":10374,"d":"10,374.00"}},{"$f":"SUBTOTAL(9,AE120:AE121)","v":{"v":124488,"d":"124,488.00"}},{"$f":"SUBTOTAL(9,AF120:AF121)","v":{"v":31122,"d":"31,122.00"}},{"$f":"SUBTOTAL(9,AG120:AG121)","v":{"v":20748,"d":"20,748.00"}},{"$nulls":9},{"$f":"SUBTOTAL(9,AQ120:AQ121)","v":1},{"$f":"SUBTOTAL(9,AR120:AR121)","v":{"v":626,"d":"626.00"}},{"$f":"SUBTOTAL(9,AS120:AS121)","v":{"v":7512,"d":"7,512.00"}},{"$f":"SUBTOTAL(9,AT120:AT121)","v":{"v":1878,"d":"1,878.00"}},{"$f":"SUBTOTAL(9,AU120:AU121)","v":{"v":1252,"d":"1,252.00"}},null,null,{"$f":"SUBTOTAL(9,AX120:AX121)","v":2},{"v":159768,"d":"159,768.00"},0,0,0,0,0,0,0,0,0,0,0,0,0,0,{"$nulls":8},{"$f":"SUBTOTAL(9,BV120:BV121)","v":2},{"$f":"SUBTOTAL(9,BW120:BW121)","v":{"v":214768,"d":"214,768.00"}}]
[1,{"$nulls":15},"อบต.บ้านฝาง ","สระใคร","หนองคาย",{"$nulls":9},1,{"v":6749.6,"d":"6,749.60"},{"v":80995.20000000001,"d":"80,995.20"},{"v":20248.800000000003,"d":"20,248.80"},{"v":13499.2,"d":"13,499.20"},{"$nulls":9},1,{"v":4250.4,"d":"4,250.40"},{"v":51004.799999999996,"d":"51,004.80"},{"v":12751.199999999999,"d":"12,751.20"},{"v":8500.8,"d":"8,500.80"},null,null,1,{"v":101244,"d":"101,244.00"},0,0,0,0,0,0,0,0,0,0,0,0,0,0,{"$nulls":6},{"v":1,"d":"1.00"},{"v":222244,"d":"222,244.00"},1,{"v":156244,"d":"156,244.00"}]
[{"$nulls":18},"หนองคาย ผลรวม",{"$nulls":9},{"$f":"SUBTOTAL(9,AC123:AC123)","v":1},{"$f":"SUBTOTAL(9,AD123:AD123)","v":{"v":6749.6,"d":"6,749.60"}},{"$f":"SUBTOTAL(9,AE123:AE123)","v":{"v":80995.20000000001,"d":"80,995.20"}},{"$f":"SUBTOTAL(9,AF123:AF123)","v":{"v":20248.800000000003,"d":"20,248.80"}},{"$f":"SUBTOTAL(9,AG123:AG123)","v":{"v":13499.2,"d":"13,499.20"}},{"$nulls":9},{"$f":"SUBTOTAL(9,AQ123:AQ123)","v":1},{"$f":"SUBTOTAL(9,AR123:AR123)","v":{"v":4250.4,"d":"4,250.40"}},{"$f":"SUBTOTAL(9,AS123:AS123)","v":{"v":51004.799999999996,"d":"51,004.80"}},{"$f":"SUBTOTAL(9,AT123:AT123)","v":{"v":12751.199999999999,"d":"12,751.20"}},{"$f":"SUBTOTAL(9,AU123:AU123)","v":{"v":8500.8,"d":"8,500.80"}},null,null,{"$f":"SUBTOTAL(9,AX123:AX123)","v":1},{"v":101244,"d":"101,244.00"},0,0,0,0,0,0,0,0,0,0,0,0,0,0,{"$nulls":8},{"$f":"SUBTOTAL(9,BV123:BV123)","v":1},{"$f":"SUBTOTAL(9,BW123:BW123)","v":{"v":156244,"d":"156,244.00"}}]
[1,{"$nulls":15},"อบต.คำเขื่อนแก้ว ","ชานุมาน","อำนาจเจริญ",{"$nulls":40},2,{"v":112442,"d":"112,442.00"},{"$nulls":12},{"$f":"BH125","v":2},{"$f":"BI125","v":{"v":112442,"d":"112,442.00"}}]
[{"$f":"A125+1","v":2},{"$nulls":15},"อบต.ป่าก่อ ","ชานุมาน","อำนาจเจริญ",{"$nulls":9},0,0,0,0,0,{"$nulls":9},0,0,0,0,0,null,null,0,0,0,0,0,0,0,0,1,{"v":535920,"d":"535,920.00"},0,0,0,0,0,0,{"$nulls":6},0,{"v":535920,"d":"535,920.00"},1,{"v":535920,"d":"535,920.00"}]
[{"$f":"A126+1","v":3},{"$nulls":15},"อบต.ไร่ขี ","ลืออำนาจ","อำนาจเจริญ",{"$nulls":9},0,0,0,0,0,{"$nulls":9},0,0,0,0,0,null,null,1,{"v":4452,"d":"4,452.00"},0,0,0,0,0,0,0,0,0,0,0,0,0,0,{"$nulls":6},0,{"v":4452,"d":"4,452.00"},1,{"v":4452,"d":"4,452.00"}]
[{"$f":"A127+1","v":4},{"$nulls":15},"อบต.จิกดู่ ","หัวตะพาน","อำนาจเจริญ",{"$nulls":40},4,{"v":66000,"d":"66,000.00"},{"$nulls":12},{"$f":"BH128","v":4},{"$f":"BI128","v":{"v":66000,"d":"66,000.00"}}]
[{"$nulls":18},"อำนาจเจริญ ผลรวม",{"$nulls":9},{"$f":"SUBTOTAL(9,AC125:AC128)","v":0},{"$f":"SUBTOTAL(9,AD125:AD128)","v":0},{"$f":"SUBTOTAL(9,AE125:AE128)","v":0},{"$f":"SUBTOTAL(9,AF125:AF128)","v":0},{"$f":"SUBTOTAL(9,AG125:AG128)","v":0},{"$nulls":9},{"$f":"SUBTOTAL(9,AQ125:AQ128)","v":0},{"$f":"SUBTOTAL(9,AR125:AR128)","v":0},{"$f":"SUBTOTAL(9,AS125:AS128)","v":0},{"$f":"SUBTOTAL(9,AT125:AT128)","v":0},{"$f":"SUBTOTAL(9,AU125:AU128)","v":0},null,null,{"$f":"SUBTOTAL(9,AX125:AX128)","v":1},{"v":4452,"d":"4,452.00"},0,0,0,0,0,0,1,{"v":535920,"d":"535,920.00"},6,{"v":178442,"d":"178,442.00"},0,0,0,0,{"$nulls":8},{"$f":"SUBTOTAL(9,BV125:BV128)","v":8},{"$f":"SUBTOTAL(9,BW125:BW128)","v":{"v":718814,"d":"718,814.00"}}]
[1,{"$nulls":15},"อบต.หนองหลัก ","ไชยวาน","อุดรธานี",{"$nulls":9},0,0,0,0,0,{"$nulls":9},0,0,0,0,0,null,null,0,0,0,0,0,0,0,0,1,{"v":326810,"d":"326,810.00"},0,0,0,0,0,0,{"$nulls":6},{"v":1,"d":"1.00"},{"v":326810,"d":"326,810.00"},1,{"v":326810,"d":"326,810.00"}]
[{"$f":"A130+1","v":2},{"$nulls":15},"อบต.นาไหม ","บ้านดุง","อุดรธานี",{"$nulls":40},1,{"v":162831,"d":"162,831.00"},{"$nulls":12},{"$f":"BH131","v":1},{"v":162831,"d":"162,831.00"}]
[3,{"$nulls":15},"อบต.บ้านดุง ","บ้านดุง","อุดรธานี",{"$nulls":40},2,{"v":183402,"d":"183,402.00"},{"$nulls":12},2,{"v":183402,"d":"183,402.00"}]
[4,{"$nulls":15},"อบต.อ้อมกอ ","บ้านดุง","อุดรธานี",{"$nulls":40},2,{"v":22000,"d":"22,000.00"},{"$nulls":12},2,{"v":22000,"d":"22,000.00"}]
[5,{"$nulls":15},"อบต.ข้าวสาร ","บ้านผือ","อุดรธานี",{"$nulls":9},1,{"v":9954,"d":"9,954.00"},{"v":119448,"d":"119,448.00"},{"v":29862,"d":"29,862.00"},{"v":19908,"d":"19,908.00"},{"$nulls":9},1,{"v":1046,"d":"1,046.00"},{"v":12552,"d":"12,552.00"},{"v":3138,"d":"3,138.00"},{"v":2092,"d":"2,092.00"},null,null,1,{"v":149310,"d":"149,310.00"},0,0,0,0,0,0,0,0,0,0,0,0,0,0,{"$nulls":6},{"v":1,"d":"1.00"},{"v":270310,"d":"270,310.00"},1,{"v":204310,"d":"204,310.00"}]
[6,{"$nulls":15},"อบต.เขือน้ำ ","บ้านผือ","อุดรธานี",{"$nulls":9},1,{"v":10234,"d":"10,234.00"},{"v":122808,"d":"122,808.00"},{"v":30702,"d":"30,702.00"},{"v":20468,"d":"20,468.00"},{"$nulls":9},1,{"v":766,"d":"766.00"},{"v":9192,"d":"9,192.00"},{"v":2298,"d":"2,298.00"},{"v":1532,"d":"1,532.00"},null,null,1,{"v":153510,"d":"153,510.00"},0,0,0,0,0,0,0,0,0,0,0,0,0,0,{"$nulls":6},{"v":1,"d":"1.00"},{"v":274510,"d":"274,510.00"},1,{"v":208510,"d":"208,510.00"}]
[7,{"$nulls":15},"อบต.จำปาโมง ","บ้านผือ","อุดรธานี",{"$nulls":9},1,{"v":9903.6,"d":"9,903.60"},{"v":118843.20000000001,"d":"118,843.20"},{"v":29710.800000000003,"d":"29,710.80"},{"v":19807.2,"d":"19,807.20"},{"$nulls":9},1,{"v":1096.3999999999996,"d":"1,096.40"},{"v":13156.799999999996,"d":"13,156.80"},{"v":3289.199999999999,"d":"3,289.20"},{"v":2192.7999999999993,"d":"2,192.80"},null,null,1,{"v":148554,"d":"148,554.00"},0,0,0,0,0,0,0,0,0,0,0,0,0,0,{"$nulls":6},{"v":1,"d":"1.00"},{"v":269554,"d":"269,554.00"},1,{"v":203554,"d":"203,554.00"}]
[8,{"$nulls":15},"อบต.นาม่วง ","ประจักษ์ศิลปาคม","อุดรธานี",{"$nulls":9},1,{"v":6800.2,"d":"6,800.20"},{"v":81602.4,"d":"81,602.40"},{"v":20400.6,"d":"20,400.60"},{"v":13600.4,"d":"13,600.40"},{"$nulls":9},1,{"v":4199.8,"d":"4,199.80"},{"v":50397.600000000006,"d":"50,397.60"},{"v":12599.400000000001,"d":"12,599.40"},{"v":8399.6,"d":"8,399.60"},null,null,1,{"v":102003,"d":"102,003.00"},0,0,0,0,0,0,0,0,0,0,0,0,0,0,{"$nulls":6},{"v":1,"d":"1.00"},{"v":223003,"d":"223,003.00"},1,{"v":157003,"d":"157,003.00"}]
[9,{"$nulls":15},"อบต.ห้วยสามพาด ","ประจักษ์ศิลปาคม","อุดรธานี",{"$nulls":9},1,{"v":9352.2,"d":"9,352.20"},{"v":112226.40000000001,"d":"112,226.40"},{"v":28056.600000000002,"d":"28,056.60"},{"v":18704.4,"d":"18,704.40"},{"$nulls":9},1,{"v":1647.7999999999993,"d":"1,647.80"},{"v":19773.59999999999,"d":"19,773.60"},{"v":4943.399999999998,"d":"4,943.40"},{"v":3295.5999999999985,"d":"3,295.60"},null,null,1,{"v":140283,"d":"140,283.00"},0,0,0,0,0,0,0,0,0,0,0,0,0,0,{"$nulls":6},{"v":1,"d":"1.00"},{"v":261283,"d":"261,283.00"},1,{"v":195283,"d":"195,283.00"}]
[10,{"$nulls":15},"อบต.กุดสระ ","เมืองอุดรธานี","อุดรธานี",{"$nulls":40},1,{"v":148104,"d":"148,104.00"},{"$nulls":12},{"$f":"BH139","v":1},{"$f":"BI139","v":{"v":148104,"d":"148,104.00"}}]
[11,{"$nulls":15},"อบต.บ้านจั่น ","เมืองอุดรธานี","อุดรธานี",{"$nulls":9},1,{"v":9651.6,"d":"9,651.60"},{"v":115819.20000000001,"d":"115,819.20"},{"v":28954.800000000003,"d":"28,954.80"},{"v":19303.2,"d":"19,303.20"},{"$nulls":9},1,{"v":1348.3999999999996,"d":"1,348.40"},{"v":16180.799999999996,"d":"16,180.80"},{"v":4045.199999999999,"d":"4,045.20"},{"v":2696.7999999999993,"d":"2,696.80"},null,null,1,{"v":144774,"d":"144,774.00"},0,0,0,0,0,0,0,0,0,0,0,0,0,0,{"$nulls":6},{"v":1,"d":"1.00"},{"v":265774,"d":"265,774.00"},1,{"v":199774,"d":"199,774.00"}]
[12,{"$nulls":15},"อบต.บ้านเชียง ","หนองหาน","อุดรธานี",{"$nulls":9},1,{"v":6716.6,"d":"6,716.60"},{"v":80599.20000000001,"d":"80,599.20"},{"v":20149.800000000003,"d":"20,149.80"},{"v":13433.2,"d":"13,433.20"},{"$nulls":9},1,{"v":4283.4,"d":"4,283.40"},{"v":51400.799999999996,"d":"51,400.80"},{"v":12850.199999999999,"d":"12,850.20"},{"v":8566.8,"d":"8,566.80"},null,null,1,{"v":100749,"d":"100,749.00"},0,0,0,0,0,0,0,0,0,0,0,0,0,0,{"$nulls":6},{"v":1,"d":"1.00"},{"v":221749,"d":"221,749.00"},1,{"v":155749,"d":"155,749.00"}]
[{"$nulls":18},"อุดรธานี ผลรวม",{"$nulls":9},{"$f":"SUBTOTAL(9,AC130:AC141)","v":7},{"$f":"SUBTOTAL(9,AD130:AD141)","v":{"v":62612.2,"d":"62,612.20"}},{"$f":"SUBTOTAL(9,AE130:AE141)","v":{"v":751346.3999999999,"d":"751,346.40"}},{"$f":"SUBTOTAL(9,AF130:AF141)","v":{"v":187836.59999999998,"d":"187,836.60"}},{"$f":"SUBTOTAL(9,AG130:AG141)","v":{"v":125224.4,"d":"125,224.40"}},{"$nulls":9},{"$f":"SUBTOTAL(9,AQ130:AQ141)","v":7},{"$f":"SUBTOTAL(9,AR130:AR141)","v":{"v":14387.8,"d":"14,387.80"}},{"$f":"SUBTOTAL(9,AS130:AS141)","v":{"v":172653.59999999998,"d":"172,653.60"}},{"$f":"SUBTOTAL(9,AT130:AT141)","v":{"v":43163.399999999994,"d":"43,163.40"}},{"$f":"SUBTOTAL(9,AU130:AU141)","v":{"v":28775.6,"d":"28,775.60"}},null,null,{"$f":"SUBTOTAL(9,AX130:AX141)","v":7},{"v":939183,"d":"939,183.00"},0,0,0,0,0,0,1,{"v":326810,"d":"326,810.00"},6,{"v":516337,"d":"516,337.00"},0,0,0,0,{"$nulls":8},{"$f":"SUBTOTAL(9,BV130:BV141)","v":14},{"$f":"SUBTOTAL(9,BW130:BW141)","v":{"v":2167330,"d":"2,167,330.00"}}]
[1,{"$nulls":15},"อบต.ขุนฝาง ","เมืองอุตรดิตถ์","อุตรดิตถ์",{"$nulls":40},1,{"v":169422,"d":"169,422.00"},{"$nulls":12},{"$f":"BH143","v":1},{"$f":"BI143","v":{"v":169422,"d":"169,422.00"}}]
[{"$nulls":18},"อุตรดิตถ์ ผลรวม",{"$nulls":9},{"$f":"SUBTOTAL(9,AC143:AC143)","v":0},{"$f":"SUBTOTAL(9,AD143:AD143)","v":0},{"$f":"SUBTOTAL(9,AE143:AE143)","v":0},{"$f":"SUBTOTAL(9,AF143:AF143)","v":0},{"$f":"SUBTOTAL(9,AG143:AG143)","v":0},{"$nulls":9},{"$f":"SUBTOTAL(9,AQ143:AQ143)","v":0},{"$f":"SUBTOTAL(9,AR143:AR143)","v":0},{"$f":"SUBTOTAL(9,AS143:AS143)","v":0},{"$f":"SUBTOTAL(9,AT143:AT143)","v":0},{"$f":"SUBTOTAL(9,AU143:AU143)","v":0},null,null,{"$f":"SUBTOTAL(9,AX143:AX143)","v":0},0,0,0,0,0,0,0,0,0,1,{"v":169422,"d":"169,422.00"},0,0,0,0,{"$nulls":8},{"$f":"SUBTOTAL(9,BV143:BV143)","v":1},{"$f":"SUBTOTAL(9,BW143:BW143)","v":{"v":169422,"d":"169,422.00"}}]
{"$rows_empty":1570}
[{"$nulls":21},"2502-04-04"]